Map-Tube-Plugin-Formatter v0.16 Perl 5 v5.14.3 OpenBSD.amd64-openbsd
- Status
- Pass
- From
- Nigel Horne
- Dist
-
Map-Tube-Plugin-Formatter v0.16
- Platform
- Perl 5 v5.14.3 OpenBSD.amd64-openbsd
- Date
- 2019-07-16 19:36:03
- ID
- f2cae58c-a800-11e9-8fa9-99a29f1e7dde
This distribution has been tested as part of the CPAN Testers
project, supporting the Perl programming language. See
http://wiki.cpantesters.org/ for more information or email
questions to cpan-testers-discuss@perl.org
--
Dear Mohammad S Anwar,
This is a computer-generated report for Map-Tube-Plugin-Formatter-0.16
on perl 5.14.3, created by CPAN-Reporter-1.2018.
Thank you for uploading your work to CPAN. Congratulations!
All tests were successful.
Sections of this report:
* Tester comments
* Program output
* Prerequisites
* Environment and other context
------------------------------
TESTER COMMENTS
------------------------------
Additional comments from tester:
this report is from an automated smoke testing program
and was not reviewed by a human for accuracy
------------------------------
PROGRAM OUTPUT
------------------------------
Output from '/usr/bin/make test':
PERL_DL_NONLAZY=1 "/home/njh/perl5/perlbrew/perls/perl-5.14.3/bin/perl" "-MExtUtils::Command::MM" "-MTest::Harness" "-e" "undef *Test::Harness::Switches; test_harness(0, 'blib/lib', 'blib/arch')" t/*.t
# Testing Map::Tube::Plugin::Formatter 0.16, Perl 5.014003, /home/njh/perl5/perlbrew/perls/perl-5.14.3/bin/perl
t/00-load.t .... ok
t/manifest.t ... skipped: Test::CheckManifest 0.9 required
t/meta-json.t .. skipped: Test::CPAN::Meta::JSON required for testing MYMETA.json
t/meta-yml.t ... skipped: Test::CPAN::Meta required for testing MYMETA.yml
t/pod.t ........ ok
All tests successful.
Files=5, Tests=4, 6 wallclock secs ( 0.15 usr 0.11 sys + 3.46 cusr 1.34 csys = 5.06 CPU)
Result: PASS
------------------------------
PREREQUISITES
------------------------------
Prerequisite modules loaded:
requires:
Module Need Have
-------------------- -------- --------
JSON 2.53 2.97001
Moo::Role 2.000000 2.003004
namespace::autoclean 0.28 0.28
perl 5.006 5.014003
XML::Twig 3.48 3.52
YAML 0.84 1.27
build_requires:
Module Need Have
-------------------- -------- --------
Test::More 0 1.302140
configure_requires:
Module Need Have
-------------------- -------- --------
ExtUtils::MakeMaker 0 7.30
------------------------------
ENVIRONMENT AND OTHER CONTEXT
------------------------------
Environment variables:
AUTOMATED_TESTING = 1
PATH = /home/njh/perl5/perlbrew/bin:/home/njh/perl5/perlbrew/perls/perl-5.14.3/bin:src/njh/smoker/bin:/usr/bin:/bin:/usr/sbin:/sbin:/usr/X11R6/bin:/usr/local/bin:/usr/local/sbin
PERL5LIB = /tmp/build/XML-Twig-3.52-1/blib/arch:/tmp/build/XML-Twig-3.52-1/blib/lib:/tmp/build/XML-Parser-2.44-2/blib/arch:/tmp/build/XML-Parser-2.44-2/blib/lib:/tmp/build/Map-Tube-Exception-3.19-1/blib/arch:/tmp/build/Map-Tube-Exception-3.19-1/blib/lib:/tmp/build/Throwable-0.200013-1/blib/arch:/tmp/build/Throwable-0.200013-1/blib/lib
PERL5OPT =
PERL5_CPANPLUS_IS_RUNNING = 8771
PERL5_CPAN_IS_RUNNING = 8771
PERL5_CPAN_IS_RUNNING_IN_RECURSION = 83240,8771
PERLBREW_HOME = /home/njh/.perlbrew
PERLBREW_MANPATH = /home/njh/perl5/perlbrew/perls/perl-5.14.3/man
PERLBREW_PATH = /home/njh/perl5/perlbrew/bin:/home/njh/perl5/perlbrew/perls/perl-5.14.3/bin
PERLBREW_PERL = perl-5.14.3
PERLBREW_ROOT = /home/njh/perl5/perlbrew
PERLBREW_SHELLRC_VERSION = 0.84
PERLBREW_VERSION = 0.84
SHELL = /bin/sh
TMPDIR = /tmp/testwrapper.74778
Perl special variables (and OS-specific diagnostics, for MSWin32):
$^X = /home/njh/perl5/perlbrew/perls/perl-5.14.3/bin/perl
$UID/$EUID = 1000 / 1000
$GID = 1000 1000 0
$EGID = 1000 1000 0
Perl module toolchain versions installed:
Module Have
------------------- --------
CPAN 2.16
CPAN::Meta 2.143240
Cwd 3.75
ExtUtils::CBuilder 0.280203
ExtUtils::Command 7.30
ExtUtils::Install 2.06
ExtUtils::MakeMaker 7.30
ExtUtils::Manifest 1.70
ExtUtils::ParseXS 3.35
File::Spec 3.75
JSON 2.97001
JSON::PP 2.97001
Module::Build 0.4224
Module::Signature n/a
Parse::CPAN::Meta 1.4414
Test::Harness 3.39
Test::More 1.302140
YAML 1.27
YAML::Syck 1.30
version 0.88
--
Summary of my perl5 (revision 5 version 14 subversion 3) configuration:
Platform:
osname=openbsd, osvers=6.2, archname=OpenBSD.amd64-openbsd
uname='openbsd netgate1.bandsman.co.uk 6.2 generic.mp#2 amd64 '
config_args='-de -Dprefix=/home/njh/perl5/perlbrew/perls/perl-5.14.3 -Aeval:scriptdir=/home/njh/perl5/perlbrew/perls/perl-5.14.3/bin'
hint=recommended, useposix=true, d_sigaction=define
useithreads=undef, usemultiplicity=undef
useperlio=define, d_sfio=undef, uselargefiles=define, usesocks=undef
use64bitint=define, use64bitall=define, uselongdouble=undef
usemymalloc=n, bincompat5005=undef
Compiler:
cc='cc', ccflags ='-fno-strict-aliasing -pipe -fstack-protector -I/usr/local/include',
optimize='-O2',
cppflags='-fno-strict-aliasing -pipe -fstack-protector -I/usr/local/include'
ccversion='', gccversion='4.2.1 Compatible OpenBSD Clang 4.0.0 (tags/RELEASE_400/final)', gccosandvers=''
intsize=4, longsize=8, ptrsize=8, doublesize=8, byteorder=12345678
d_longlong=define, longlongsize=8, d_longdbl=define, longdblsize=16
ivtype='long', ivsize=8, nvtype='double', nvsize=8, Off_t='off_t', lseeksize=8
alignbytes=8, prototype=define
Linker and Libraries:
ld='cc', ldflags ='-Wl,-E -fstack-protector -L/usr/local/lib'
libpth=/usr/local/lib /usr/lib
libs=-lm -lutil -lc
perllibs=-lm -lutil -lc
libc=/usr/lib/libc.so.90.0, so=so, useshrplib=false, libperl=libperl.a
gnulibc_version=''
Dynamic Linking:
dlsrc=dl_dlopen.xs, dlext=so, d_dlsymun=undef, ccdlflags=' '
cccdlflags='-DPIC -fPIC ', lddlflags='-shared -fPIC -L/usr/local/lib -fstack-protector'
Characteristics of this binary (from libperl):
Compile-time options: PERL_DONT_CREATE_GVSV PERL_MALLOC_WRAP
PERL_PRESERVE_IVUV USE_64_BIT_ALL USE_64_BIT_INT
USE_LARGE_FILES USE_PERLIO USE_PERL_ATOF
Locally applied patches:
Devel::PatchPerl 1.48
Built under openbsd
Compiled at Jan 23 2018 15:51:04
%ENV:
PERL5LIB="/tmp/build/XML-Twig-3.52-1/blib/arch:/tmp/build/XML-Twig-3.52-1/blib/lib:/tmp/build/XML-Parser-2.44-2/blib/arch:/tmp/build/XML-Parser-2.44-2/blib/lib:/tmp/build/Map-Tube-Exception-3.19-1/blib/arch:/tmp/build/Map-Tube-Exception-3.19-1/blib/lib:/tmp/build/Throwable-0.200013-1/blib/arch:/tmp/build/Throwable-0.200013-1/blib/lib"
PERL5OPT=""
PERL5_CPANPLUS_IS_RUNNING="8771"
PERL5_CPAN_IS_RUNNING="8771"
PERL5_CPAN_IS_RUNNING_IN_RECURSION="83240,8771"
PERLBREW_HOME="/home/njh/.perlbrew"
PERLBREW_MANPATH="/home/njh/perl5/perlbrew/perls/perl-5.14.3/man"
PERLBREW_PATH="/home/njh/perl5/perlbrew/bin:/home/njh/perl5/perlbrew/perls/perl-5.14.3/bin"
PERLBREW_PERL="perl-5.14.3"
PERLBREW_ROOT="/home/njh/perl5/perlbrew"
PERLBREW_SHELLRC_VERSION="0.84"
PERLBREW_VERSION="0.84"
@INC:
/tmp/build/XML-Twig-3.52-1/blib/arch
/tmp/build/XML-Twig-3.52-1/blib/lib
/tmp/build/XML-Parser-2.44-2/blib/arch
/tmp/build/XML-Parser-2.44-2/blib/lib
/tmp/build/Map-Tube-Exception-3.19-1/blib/arch
/tmp/build/Map-Tube-Exception-3.19-1/blib/lib
/tmp/build/Throwable-0.200013-1/blib/arch
/tmp/build/Throwable-0.200013-1/blib/lib
/home/njh/perl5/perlbrew/perls/perl-5.14.3/lib/site_perl/5.14.3/OpenBSD.amd64-openbsd
/home/njh/perl5/perlbrew/perls/perl-5.14.3/lib/site_perl/5.14.3
/home/njh/perl5/perlbrew/perls/perl-5.14.3/lib/5.14.3/OpenBSD.amd64-openbsd
/home/njh/perl5/perlbrew/perls/perl-5.14.3/lib/5.14.3
.