Report for WebService-Face-0.04

Back
From: metabase:user:30f0bd62-2aae-11df-837a-5e0a49663a4f
Subject: PASS WebService-Face-0.04 v5.12.2 NetBSD
Date: 2012-06-02T14:19:22Z

This distribution has been tested as part of the CPAN Testers
project, supporting the Perl programming language.  See
http://wiki.cpantesters.org/ for more information or email
questions to cpan-testers-discuss@perl.org


--
Dear Arnaud 'Arhuman' Assad,

This is a computer-generated report for WebService-Face-0.04
on perl 5.12.2, created by CPAN-Reporter-1.2006.

Thank you for uploading your work to CPAN.  Congratulations!
All tests were successful.

Sections of this report:

    * Tester comments
    * Program output
    * Prerequisites
    * Environment and other context

------------------------------
TESTER COMMENTS
------------------------------

Additional comments from tester:

this report is from an automated smoke testing program
and was not reviewed by a human for accuracy

------------------------------
PROGRAM OUTPUT
------------------------------

Output from './Build test':

# Testing WebService::Face::Client 0.04, Perl 5.012002, /home/sts/cpansmoke/perl-5.12.2/bin/perl
t/00-load.t ....... ok


Set FACE_API_KEY, FACE_API_SECRET for testing

t/10-client.t ..... skipped: Set environment vars for API access


Set FACE_API_KEY, FACE_API_SECRET for testing

t/20-response.t ... skipped: Set environment vars for API access


Set FACE_API_KEY, FACE_API_SECRET for testing

t/30-photo.t ...... skipped: Set environment vars for API access


Set FACE_API_KEY, FACE_API_SECRET for testing

t/40-tag.t ........ skipped: Set environment vars for API access


Set FACE_API_KEY, FACE_API_SECRET for testing

t/50-client.t ..... skipped: Set environment vars for API access


Set FACE_API_KEY, FACE_API_SECRET for testing

t/60-store.t ...... skipped: Set environment vars for API access
t/boilerplate.t ... ok
t/manifest.t ...... skipped: Author tests not required for installation
t/pod-coverage.t .. skipped: Test::Pod::Coverage 1.08 required for testing POD coverage
t/pod.t ........... skipped: Test::Pod 1.22 required for testing POD
All tests successful.

Test Summary Report
-------------------
t/boilerplate.t (Wstat: 0 Tests: 3 Failed: 0)
  TODO passed:   1-3
Files=11, Tests=4, 19 wallclock secs ( 0.25 usr  0.28 sys +  4.72 cusr  2.07 csys =  7.32 CPU)
Result: PASS

------------------------------
PREREQUISITES
------------------------------

Prerequisite modules loaded:

requires:

    Module        Need  Have    
    ------------- ----- --------
    perl          5.006 5.012002

build_requires:

    Module        Need  Have    
    ------------- ----- --------
    JSON          0     2.53    
    REST::Client  0     245     
    Storable      0     2.22    
    Test::More    0     0.94    

configure_requires:

    Module        Need  Have    
    ------------- ----- --------
  ! Module::Build 0.4   0.3603  


------------------------------
ENVIRONMENT AND OTHER CONTEXT
------------------------------

Environment variables:

    AUTOMATED_TESTING = 1
    PATH = /home/sts/bin:/bin:/sbin:/usr/bin:/usr/sbin:/usr/X11R7/bin:/usr/X11R6/bin:/usr/pkg/bin:/usr/pkg/sbin:/usr/games:/usr/local/bin:/usr/local/sbin
    PERL5LIB = /home/sts/cpansmoke/perl-5.12.2/cpan/build/JSON-2.53-8jL8k7/blib/arch:/home/sts/cpansmoke/perl-5.12.2/cpan/build/JSON-2.53-8jL8k7/blib/lib:/home/sts/cpansmoke/perl-5.12.2/cpan/build/REST-Client-245-470KVo/blib/arch:/home/sts/cpansmoke/perl-5.12.2/cpan/build/REST-Client-245-470KVo/blib/lib:/home/sts/cpansmoke/perl-5.12.2/cpan/build/Perl-OSType-1.002-fLhoXd/blib/arch:/home/sts/cpansmoke/perl-5.12.2/cpan/build/Perl-OSType-1.002-fLhoXd/blib/lib:/home/sts/cpansmoke/perl-5.12.2/cpan/build/Module-Metadata-1.000009-r8ojAD/blib/arch:/home/sts/cpansmoke/perl-5.12.2/cpan/build/Module-Metadata-1.000009-r8ojAD/blib/lib
    PERL5OPT = 
    PERL5_CPANPLUS_IS_RUNNING = 3741
    PERL5_CPAN_IS_RUNNING = 3741
    PERL5_CPAN_IS_RUNNING_IN_RECURSION = 969,3741
    PERL_CR_SMOKER_CURRENT = WebService-Face-0.04
    PERL_EXTUTILS_AUTOINSTALL = --defaultdeps
    PERL_MM_USE_DEFAULT = 1
    SHELL = /usr/pkg/bin/bash
    TERM = screen
    TMPDIR = /home/sts/cpansmoke/tmp

Perl special variables (and OS-specific diagnostics, for MSWin32):

    $^X = /home/sts/cpansmoke/perl-5.12.2/bin/perl
    $UID/$EUID = 1000 / 1000
    $GID = 100 100 0
    $EGID = 100 100 0

Perl module toolchain versions installed:

    Module              Have    
    ------------------- --------
    CPAN                1.9800  
    CPAN::Meta          2.112150
    Cwd                 3.31    
    ExtUtils::CBuilder  0.27    
    ExtUtils::Command   1.16    
    ExtUtils::Install   1.55    
    ExtUtils::MakeMaker 6.62    
    ExtUtils::Manifest  1.58    
    ExtUtils::ParseXS   2.21    
    File::Spec          3.31_01 
    JSON                2.53    
    JSON::PP            2.27200 
    Module::Build       0.3603  
    Module::Signature   n/a     
    Parse::CPAN::Meta   1.4401  
    Test::Harness       3.17    
    Test::More          0.94    
    YAML                n/a     
    YAML::Syck          1.20    
    version             0.88    


--

Summary of my perl5 (revision 5 version 12 subversion 2) configuration:
   
  Platform:
    osname=netbsd, osvers=5.0.2, archname=i386-netbsd-thread-multi
    uname='netbsd cpansmoke2 5.0.2 netbsd 5.0.2 (xen3_domu) #0: sat feb 6 17:51:58 utc 2010 builds@b7.netbsd.org:homebuildsabnetbsd-5-0-2-releasei386201002061851z-objhomebuildsabnetbsd-5-0-2-releasesrcsysarchi386compilexen3_domu i386 '
    config_args='-des -Dusethreads -Dprefix=/home/sts/cpansmoke/perl-5.12.2'
    hint=recommended, useposix=true, d_sigaction=define
    useithreads=define, usemultiplicity=define
    useperlio=define, d_sfio=undef, uselargefiles=define, usesocks=undef
    use64bitint=undef, use64bitall=undef, uselongdouble=undef
    usemymalloc=y, bincompat5005=undef
  Compiler:
    cc='cc', ccflags ='-fno-strict-aliasing -pipe -fstack-protector -I/usr/pkg/include',
    optimize='-O',
    cppflags='-fno-strict-aliasing -pipe -fstack-protector -I/usr/pkg/include'
    ccversion='', gccversion='4.1.3 20080704 prerelease (NetBSD nb2 20081120)', gccosandvers=''
    intsize=4, longsize=4, ptrsize=4, doublesize=8, byteorder=1234
    d_longlong=define, longlongsize=8, d_longdbl=define, longdblsize=12
    ivtype='long', ivsize=4, nvtype='double', nvsize=8, Off_t='off_t', lseeksize=8
    alignbytes=4, prototype=define
  Linker and Libraries:
    ld='cc', ldflags =' -Wl,-rpath,/usr/pkg/lib -Wl,-rpath,/usr/local/lib -fstack-protector -L/usr/pkg/lib'
    libpth=/usr/pkg/lib /lib /usr/lib
    libs=-lm -lcrypt -lutil -lc -lposix -lpthread
    perllibs=-lm -lcrypt -lutil -lc -lposix -lpthread
    libc=/lib/libc.so, so=so, useshrplib=false, libperl=libperl.a
    gnulibc_version=''
  Dynamic Linking:
    dlsrc=dl_dlopen.xs, dlext=so, d_dlsymun=undef, ccdlflags='-Wl,-E '
    cccdlflags='-DPIC -fPIC ', lddlflags='--whole-archive -shared  -L/usr/pkg/lib -fstack-protector'


Characteristics of this binary (from libperl): 
  Compile-time options: MULTIPLICITY MYMALLOC PERL_DONT_CREATE_GVSV
                        PERL_IMPLICIT_CONTEXT USE_ITHREADS USE_LARGE_FILES
                        USE_PERLIO USE_PERL_ATOF USE_REENTRANT_API
  Built under netbsd
  Compiled at Oct 20 2010 00:37:51
  %ENV:
    PERL5LIB="/home/sts/cpansmoke/perl-5.12.2/cpan/build/JSON-2.53-8jL8k7/blib/arch:/home/sts/cpansmoke/perl-5.12.2/cpan/build/JSON-2.53-8jL8k7/blib/lib:/home/sts/cpansmoke/perl-5.12.2/cpan/build/REST-Client-245-470KVo/blib/arch:/home/sts/cpansmoke/perl-5.12.2/cpan/build/REST-Client-245-470KVo/blib/lib:/home/sts/cpansmoke/perl-5.12.2/cpan/build/Perl-OSType-1.002-fLhoXd/blib/arch:/home/sts/cpansmoke/perl-5.12.2/cpan/build/Perl-OSType-1.002-fLhoXd/blib/lib:/home/sts/cpansmoke/perl-5.12.2/cpan/build/Module-Metadata-1.000009-r8ojAD/blib/arch:/home/sts/cpansmoke/perl-5.12.2/cpan/build/Module-Metadata-1.000009-r8ojAD/blib/lib"
    PERL5OPT=""
    PERL5_CPANPLUS_IS_RUNNING="3741"
    PERL5_CPAN_IS_RUNNING="3741"
    PERL5_CPAN_IS_RUNNING_IN_RECURSION="969,3741"
    PERL_CR_SMOKER_CURRENT="WebService-Face-0.04"
    PERL_EXTUTILS_AUTOINSTALL="--defaultdeps"
    PERL_MM_USE_DEFAULT="1"
  @INC:
    /home/sts/cpansmoke/perl-5.12.2/cpan/build/JSON-2.53-8jL8k7/blib/arch
    /home/sts/cpansmoke/perl-5.12.2/cpan/build/JSON-2.53-8jL8k7/blib/lib
    /home/sts/cpansmoke/perl-5.12.2/cpan/build/REST-Client-245-470KVo/blib/arch
    /home/sts/cpansmoke/perl-5.12.2/cpan/build/REST-Client-245-470KVo/blib/lib
    /home/sts/cpansmoke/perl-5.12.2/cpan/build/Perl-OSType-1.002-fLhoXd/blib/arch
    /home/sts/cpansmoke/perl-5.12.2/cpan/build/Perl-OSType-1.002-fLhoXd/blib/lib
    /home/sts/cpansmoke/perl-5.12.2/cpan/build/Module-Metadata-1.000009-r8ojAD/blib/arch
    /home/sts/cpansmoke/perl-5.12.2/cpan/build/Module-Metadata-1.000009-r8ojAD/blib/lib
    /home/sts/cpansmoke/perl-5.12.2/lib/site_perl/5.12.2/i386-netbsd-thread-multi
    /home/sts/cpansmoke/perl-5.12.2/lib/site_perl/5.12.2
    /home/sts/cpansmoke/perl-5.12.2/lib/5.12.2/i386-netbsd-thread-multi
    /home/sts/cpansmoke/perl-5.12.2/lib/5.12.2
    .