Test-PostgreSQL v1.27 Perl 5 v5.18.4 x86_64-linux-thread-multi

Status
Pass
From
David Cantrell (DCANTRELL)
Dist
Test-PostgreSQL v1.27
Platform
Perl 5 v5.18.4 x86_64-linux-thread-multi
Date
2018-10-18 17:05:01
ID
f30e4dec-d2f7-11e8-94e5-7bfe7247484a
This distribution has been tested as part of the CPAN Testers
project, supporting the Perl programming language.  See
http://wiki.cpantesters.org/ for more information or email
questions to cpan-testers-discuss@perl.org


--
Dear Toby Corkindale,

This is a computer-generated report for Test-PostgreSQL-1.27
on perl 5.18.4, created by CPAN-Reporter-1.2018.

Thank you for uploading your work to CPAN.  Congratulations!
All tests were successful.

Sections of this report:

    * Tester comments
    * Program output
    * Prerequisites
    * Environment and other context

------------------------------
TESTER COMMENTS
------------------------------

Additional comments from tester:

this report is from an automated smoke testing program
and was not reviewed by a human for accuracy

------------------------------
PROGRAM OUTPUT
------------------------------

Output from './Build test':

t/00-base.t .............. ok
t/01-raii.t .............. skipped: could not find postmaster, please set appropriate PATH or POSTGRES_HOME at /home/david/cpantesting/perl-5.18.4/.cpan/build/Test-PostgreSQL-1.27-e7hU1I/blib/lib/Test/PostgreSQL.pm line 274.
t/02-multi.t ............. skipped: could not find postmaster, please set appropriate PATH or POSTGRES_HOME at /home/david/cpantesting/perl-5.18.4/.cpan/build/Test-PostgreSQL-1.27-e7hU1I/blib/lib/Test/PostgreSQL.pm line 274.
t/04-multiprocess.t ...... skipped: could not find postmaster, please set appropriate PATH or POSTGRES_HOME at /home/david/cpantesting/perl-5.18.4/.cpan/build/Test-PostgreSQL-1.27-e7hU1I/blib/lib/Test/PostgreSQL.pm line 274.
t/05-recycle-base-dir.t .. skipped: could not find postmaster, please set appropriate PATH or POSTGRES_HOME at /home/david/cpantesting/perl-5.18.4/.cpan/build/Test-PostgreSQL-1.27-e7hU1I/blib/lib/Test/PostgreSQL.pm line 274.
t/06-unix-socket.t ....... skipped: could not find postmaster, please set appropriate PATH or POSTGRES_HOME at /home/david/cpantesting/perl-5.18.4/.cpan/build/Test-PostgreSQL-1.27-e7hU1I/blib/lib/Test/PostgreSQL.pm line 274.
t/07-configs.t ........... skipped: could not find postmaster, please set appropriate PATH or POSTGRES_HOME at /home/david/cpantesting/perl-5.18.4/.cpan/build/Test-PostgreSQL-1.27-e7hU1I/blib/lib/Test/PostgreSQL.pm line 274.
t/08-postgresql_conf.t ... skipped: could not find postmaster, please set appropriate PATH or POSTGRES_HOME at /home/david/cpantesting/perl-5.18.4/.cpan/build/Test-PostgreSQL-1.27-e7hU1I/blib/lib/Test/PostgreSQL.pm line 274.
t/09-run_psql.t .......... skipped: could not find postmaster, please set appropriate PATH or POSTGRES_HOME at /home/david/cpantesting/perl-5.18.4/.cpan/build/Test-PostgreSQL-1.27-e7hU1I/blib/lib/Test/PostgreSQL.pm line 274.
t/10-seed_scripts.t ...... skipped: could not find postmaster, please set appropriate PATH or POSTGRES_HOME at /home/david/cpantesting/perl-5.18.4/.cpan/build/Test-PostgreSQL-1.27-e7hU1I/blib/lib/Test/PostgreSQL.pm line 274.
t/deadlock.t ............. skipped: could not find postmaster, please set appropriate PATH or POSTGRES_HOME at /home/david/cpantesting/perl-5.18.4/.cpan/build/Test-PostgreSQL-1.27-e7hU1I/blib/lib/Test/PostgreSQL.pm line 274.
All tests successful.
Files=11, Tests=1,  5 wallclock secs ( 0.02 usr  0.06 sys +  1.33 cusr  0.19 csys =  1.60 CPU)
Result: PASS

------------------------------
PREREQUISITES
------------------------------

Prerequisite modules loaded:

requires:

    Module               Need  Have    
    -------------------- ----- --------
  ! DBD::Pg              0     n/a     
    DBI                  0     1.641   
    File::Spec           0     3.40    
    File::Which          0     1.21    
    Function::Parameters 0     2.001003
    Moo                  0     2.003004
    perl                 5.014 5.018004
    POSIX                0     1.32    
    Tie::Hash::Method    0     0.02    
    Try::Tiny            0     0.27    
    Types::Standard      0     1.004002
    User::pwent          0     1.00    

build_requires:

    Module               Need  Have    
    -------------------- ----- --------
  ! DBD::Pg              0     n/a     
    Test::SharedFork     0.06  0.35    

configure_requires:

    Module               Need  Have    
    -------------------- ----- --------
    Module::Build::Tiny  0.035 0.039   


------------------------------
ENVIRONMENT AND OTHER CONTEXT
------------------------------

Environment variables:

    AUTOMATED_TESTING = 1
    NONINTERACTIVE_TESTING = 1
    PATH = /usr/local/bin:/usr/bin:/bin:/usr/local/games:/usr/games
    PERL = 5.18.4
    PERL5LIB = 
    PERL5OPT = 
    PERL5_CPANPLUS_IS_RUNNING = 16558
    PERL5_CPAN_IS_RUNNING = 16558
    PERLVER = 5.18.4
    PERL_INLINE_DIRECTORY = /home/david/.Inline-5.18.4
    PERL_MM_USE_DEFAULT = 1
    PERL_USE_UNSAFE_INC = 0
    SHELL = /bin/bash
    TERM = screen

Perl special variables (and OS-specific diagnostics, for MSWin32):

    $^X = /home/david/cpantesting/perl-5.18.4/bin/perl
    $UID/$EUID = 1000 / 1000
    $GID = 1000 1000
    $EGID = 1000 1000

Perl module toolchain versions installed:

    Module              Have    
    ------------------- --------
    CPAN                2.00    
    CPAN::Meta          2.150010
    Cwd                 3.40    
    ExtUtils::CBuilder  0.280210
    ExtUtils::Command   1.17    
    ExtUtils::Install   1.59    
    ExtUtils::MakeMaker 6.66    
    ExtUtils::Manifest  1.63    
    ExtUtils::ParseXS   3.18    
    File::Spec          3.40    
    JSON                2.90    
    JSON::PP            2.27400 
    Module::Build       0.4224  
    Module::Signature   n/a     
    Parse::CPAN::Meta   2.150010
    Test::Harness       3.42    
    Test::More          1.302140
    YAML                1.18    
    YAML::Syck          n/a     
    version             0.9902  


--

Summary of my perl5 (revision 5 version 18 subversion 4) configuration:
   
  Platform:
    osname=linux, osvers=3.16.0-4-amd64, archname=x86_64-linux-thread-multi
    uname='linux pigsty.barnyard.co.uk 3.16.0-4-amd64 #1 smp debian 3.16.36-1+deb8u1 (2016-09-03) x86_64 gnulinux '
    config_args='-de -Duse64bitall -Dusethreads -Dprefix=/home/david/cpantesting/perl-5.18.4'
    hint=recommended, useposix=true, d_sigaction=define
    useithreads=define, usemultiplicity=define
    useperlio=define, d_sfio=undef, uselargefiles=define, usesocks=undef
    use64bitint=define, use64bitall=define, uselongdouble=undef
    usemymalloc=n, bincompat5005=undef
  Compiler:
    cc='cc', ccflags ='-D_REENTRANT -D_GNU_SOURCE -fno-strict-aliasing -pipe -fstack-protector -I/usr/local/include -D_LARGEFILE_SOURCE -D_FILE_OFFSET_BITS=64',
    optimize='-O2',
    cppflags='-D_REENTRANT -D_GNU_SOURCE -fno-strict-aliasing -pipe -fstack-protector -I/usr/local/include'
    ccversion='', gccversion='4.9.2', gccosandvers=''
    intsize=4, longsize=8, ptrsize=8, doublesize=8, byteorder=12345678
    d_longlong=define, longlongsize=8, d_longdbl=define, longdblsize=16
    ivtype='long', ivsize=8, nvtype='double', nvsize=8, Off_t='off_t', lseeksize=8
    alignbytes=8, prototype=define
  Linker and Libraries:
    ld='cc', ldflags =' -fstack-protector -L/usr/local/lib'
    libpth=/usr/local/lib /lib/x86_64-linux-gnu /lib/../lib /usr/lib/x86_64-linux-gnu /usr/lib/../lib /lib /usr/lib
    libs=-lnsl -ldb -ldl -lm -lcrypt -lutil -lpthread -lc
    perllibs=-lnsl -ldl -lm -lcrypt -lutil -lpthread -lc
    libc=libc-2.19.so, so=so, useshrplib=false, libperl=libperl.a
    gnulibc_version='2.19'
  Dynamic Linking:
    dlsrc=dl_dlopen.xs, dlext=so, d_dlsymun=undef, ccdlflags='-Wl,-E'
    cccdlflags='-fPIC', lddlflags='-shared -O2 -L/usr/local/lib -fstack-protector'


Characteristics of this binary (from libperl): 
  Compile-time options: HAS_TIMES MULTIPLICITY PERLIO_LAYERS
                        PERL_DONT_CREATE_GVSV
                        PERL_HASH_FUNC_ONE_AT_A_TIME_HARD
                        PERL_IMPLICIT_CONTEXT PERL_MALLOC_WRAP
                        PERL_PRESERVE_IVUV PERL_SAWAMPERSAND USE_64_BIT_ALL
                        USE_64_BIT_INT USE_ITHREADS USE_LARGE_FILES
                        USE_LOCALE USE_LOCALE_COLLATE USE_LOCALE_CTYPE
                        USE_LOCALE_NUMERIC USE_PERLIO USE_PERL_ATOF
                        USE_REENTRANT_API
  Locally applied patches:
	Devel::PatchPerl 1.44
  Built under linux
  Compiled at Oct 12 2016 16:20:17
  %ENV:
    PERL="5.18.4"
    PERL5LIB=""
    PERL5OPT=""
    PERL5_CPANPLUS_IS_RUNNING="16558"
    PERL5_CPAN_IS_RUNNING="16558"
    PERLVER="5.18.4"
    PERL_INLINE_DIRECTORY="/home/david/.Inline-5.18.4"
    PERL_MM_USE_DEFAULT="1"
    PERL_USE_UNSAFE_INC="0"
  @INC:
    /home/david/cpantesting/perl-5.18.4/lib/site_perl/5.18.4/x86_64-linux-thread-multi
    /home/david/cpantesting/perl-5.18.4/lib/site_perl/5.18.4
    /home/david/cpantesting/perl-5.18.4/lib/5.18.4/x86_64-linux-thread-multi
    /home/david/cpantesting/perl-5.18.4/lib/5.18.4
    .