Catalyst-Authentication-AuthTkt v0.17 Perl 5 v5.14.4 amd64-freebsd

Status
Pass
From
Slaven Rezić (SREZIC)
Dist
Catalyst-Authentication-AuthTkt v0.17
Platform
Perl 5 v5.14.4 amd64-freebsd
Date
2018-06-03 18:00:07
ID
f37e0c74-6757-11e8-9109-906555f8f376
This distribution has been tested as part of the CPAN Testers
project, supporting the Perl programming language.  See
http://wiki.cpantesters.org/ for more information or email
questions to cpan-testers-discuss@perl.org


--
Dear Peter Karman,

This is a computer-generated report for Catalyst-Authentication-AuthTkt-0.17
on perl 5.14.4, created by CPAN-Reporter-1.2018.

Thank you for uploading your work to CPAN.  Congratulations!
All tests were successful.

Sections of this report:

    * Tester comments
    * Program output
    * Prerequisites
    * Environment and other context

------------------------------
TESTER COMMENTS
------------------------------

Additional comments from tester:

none provided

------------------------------
PROGRAM OUTPUT
------------------------------

Output from '/usr/bin/make test':

PERL_DL_NONLAZY=1 "/usr/perl5.14.4p/bin/perl" "-MExtUtils::Command::MM" "-MTest::Harness" "-e" "undef *Test::Harness::Switches; test_harness(0, 'inc', 'blib/lib', 'blib/arch')" t/*.t
# Testing Catalyst::Authentication::AuthTkt 0.17, Perl 5.014004, /usr/perl5.14.4p/bin/perl
# Testing Catalyst 5.90117
t/00-load.t ....... ok
[warn] no cookie with name auth_tkt found to expire
t/01-authtkt.t .... ok
[warn] no cookie with name auth_tkt found to expire
t/02-ignore_ip.t .. ok
t/pod-coverage.t .. ok
t/pod.t ........... ok
All tests successful.
Files=5, Tests=58,  4 wallclock secs ( 0.05 usr  0.02 sys +  3.45 cusr  0.48 csys =  3.99 CPU)
Result: PASS

------------------------------
PREREQUISITES
------------------------------

Prerequisite modules loaded:

requires:

    Module                                   Need     Have    
    ---------------------------------------- -------- --------
    Apache::AuthTkt                          0.08     2.1     
    Catalyst                                 5.7014   5.90117 
    Catalyst::Plugin::Authentication         0.10007  0.10023 
    Config::General                          0        2.63    
    Data::Dump                               0        1.23    
    Moose                                    0        2.2008  
    perl                                     5.008009 5.014004

build_requires:

    Module                                   Need     Have    
    ---------------------------------------- -------- --------
    Catalyst::Plugin::ConfigLoader           0        0.34    
    Catalyst::Plugin::Session                0        0.40    
    Catalyst::Plugin::Session::State::Cookie 0        0.17    
    Catalyst::Plugin::Session::Store::Dummy  0        0       
    Catalyst::Plugin::Static::Simple         0        0.36    
    ExtUtils::MakeMaker                      6.59     7.34    
    HTTP::Cookies                            0        6.04    
    HTTP::Request::AsCGI                     0        1.2     
    Test::More                               0        1.302136

configure_requires:

    Module                                   Need     Have    
    ---------------------------------------- -------- --------
    ExtUtils::MakeMaker                      6.59     7.34    


------------------------------
ENVIRONMENT AND OTHER CONTEXT
------------------------------

Environment variables:

    PATH = /usr/local/bin:/usr/bin:/bin:/usr/local/sbin:/usr/sbin:/sbin:/home/cpansand/bin/sh:/home/cpansand/bin:/usr/games:/home/cpansand/devel:/home/eserte/src/srezic-misc/scripts
    PERL5LIB = /home/cpansand/.cpan/build/2018060400/Apache-AuthTkt-2.1-bYsYgC/blib/arch:/home/cpansand/.cpan/build/2018060400/Apache-AuthTkt-2.1-bYsYgC/blib/lib
    PERL5OPT = 
    PERL5_CPANPLUS_IS_RUNNING = 18975
    PERL5_CPAN_IS_RUNNING = 18975
    PERL5_CPAN_IS_RUNNING_IN_RECURSION = 18484,18975
    PERL_BATCH = yes
    PERL_CANARY_STABILITY_NOPROMPT = 1
    PERL_CPAN_REPORTER_CONFIG = /var/tmp/cpansmoker-1023/2018060400/cpanreporter_000_config.ini
    PERL_EXTUTILS_AUTOINSTALL = --defaultdeps
    SHELL = /bin/sh
    TMPDIR = /var/tmp/cpansmoker-1023/2018060400

Perl special variables (and OS-specific diagnostics, for MSWin32):

    $^X = /usr/perl5.14.4p/bin/perl
    $UID/$EUID = 1023 / 1023
    $GID = 1023 1023
    $EGID = 1023 1023

Perl module toolchain versions installed:

    Module              Have     
    ------------------- ---------
    CPAN                1.9600_01
    CPAN::Meta          2.150010 
    Cwd                 3.62     
    ExtUtils::CBuilder  0.280230 
    ExtUtils::Command   7.34     
    ExtUtils::Install   2.06     
    ExtUtils::MakeMaker 7.34     
    ExtUtils::Manifest  1.70     
    ExtUtils::ParseXS   3.35     
    File::Spec          3.62     
    JSON                2.97001  
    JSON::PP            2.97001  
    Module::Build       0.4224   
    Module::Signature   0.81     
    Parse::CPAN::Meta   2.150010 
    Test::Harness       3.39     
    Test::More          1.302136 
    YAML                1.26     
    YAML::Syck          1.30     
    version             0.9922   


--

Summary of my perl5 (revision 5 version 14 subversion 4) configuration:
   
  Platform:
    osname=freebsd, osvers=12.0-current, archname=amd64-freebsd
    uname='freebsd ali1.bbbike.org 12.0-current freebsd 12.0-current #0 bd8385a990e(master)-dirty: fri nov 17 03:13:11 utc 2017 root@ali1.bbbike.org:usrobjhomeprojectsfreebsdamd64.amd64sysgeneric-nodebug amd64 '
    config_args='-ds -e -Dprefix=/usr/perl5.14.4p -Dcf_email=srezic@cpan.org -Doptimize=-O2 -pipe'
    hint=recommended, useposix=true, d_sigaction=define
    useithreads=undef, usemultiplicity=undef
    useperlio=define, d_sfio=undef, uselargefiles=define, usesocks=undef
    use64bitint=define, use64bitall=define, uselongdouble=undef
    usemymalloc=n, bincompat5005=undef
  Compiler:
    cc='cc', ccflags ='-DHAS_FPSETMASK -DHAS_FLOATINGPOINT_H -fno-strict-aliasing -pipe -fstack-protector -I/usr/local/include',
    optimize='-O2 -pipe',
    cppflags='-DHAS_FPSETMASK -DHAS_FLOATINGPOINT_H -fno-strict-aliasing -pipe -fstack-protector -I/usr/local/include'
    ccversion='', gccversion='4.2.1 Compatible FreeBSD Clang 5.0.0 (tags/RELEASE_500/final 312559)', gccosandvers=''
    intsize=4, longsize=8, ptrsize=8, doublesize=8, byteorder=12345678
    d_longlong=define, longlongsize=8, d_longdbl=define, longdblsize=16
    ivtype='long', ivsize=8, nvtype='double', nvsize=8, Off_t='off_t', lseeksize=8
    alignbytes=8, prototype=define
  Linker and Libraries:
    ld='cc', ldflags ='-pthread -Wl,-E  -fstack-protector -L/usr/local/lib'
    libpth=/usr/lib /usr/local/lib
    libs=-lgdbm -lm -lcrypt -lutil -lc
    perllibs=-lm -lcrypt -lutil -lc
    libc=, so=so, useshrplib=false, libperl=libperl.a
    gnulibc_version=''
  Dynamic Linking:
    dlsrc=dl_dlopen.xs, dlext=so, d_dlsymun=undef, ccdlflags=' '
    cccdlflags='-DPIC -fPIC', lddlflags='-shared  -L/usr/local/lib -fstack-protector'


Characteristics of this binary (from libperl): 
  Compile-time options: PERL_DONT_CREATE_GVSV PERL_MALLOC_WRAP
                        PERL_PRESERVE_IVUV USE_64_BIT_ALL USE_64_BIT_INT
                        USE_LARGE_FILES USE_PERLIO USE_PERL_ATOF
  Built under freebsd
  Compiled at Nov 17 2017 07:31:56
  %ENV:
    PERL5LIB="/home/cpansand/.cpan/build/2018060400/Apache-AuthTkt-2.1-bYsYgC/blib/arch:/home/cpansand/.cpan/build/2018060400/Apache-AuthTkt-2.1-bYsYgC/blib/lib"
    PERL5OPT=""
    PERL5_CPANPLUS_IS_RUNNING="18975"
    PERL5_CPAN_IS_RUNNING="18975"
    PERL5_CPAN_IS_RUNNING_IN_RECURSION="18484,18975"
    PERL_BATCH="yes"
    PERL_CANARY_STABILITY_NOPROMPT="1"
    PERL_CPAN_REPORTER_CONFIG="/var/tmp/cpansmoker-1023/2018060400/cpanreporter_000_config.ini"
    PERL_EXTUTILS_AUTOINSTALL="--defaultdeps"
  @INC:
    /home/cpansand/.cpan/build/2018060400/Apache-AuthTkt-2.1-bYsYgC/blib/arch
    /home/cpansand/.cpan/build/2018060400/Apache-AuthTkt-2.1-bYsYgC/blib/lib
    /usr/perl5.14.4p/lib/site_perl/5.14.4/amd64-freebsd
    /usr/perl5.14.4p/lib/site_perl/5.14.4
    /usr/perl5.14.4p/lib/5.14.4/amd64-freebsd
    /usr/perl5.14.4p/lib/5.14.4
    .