Report for String-Errf-0.007

Back
From: metabase:user:c086eaf4-c8a4-11e2-b158-c35ef8e388f9
Subject: PASS String-Errf-0.007 v5.14.4 Mac OS X
Date: 2014-06-05T02:56:11Z

This distribution has been tested as part of the CPAN Testers
project, supporting the Perl programming language.  See
http://wiki.cpantesters.org/ for more information or email
questions to cpan-testers-discuss@perl.org


--
Dear RJBS,

This is a computer-generated report for String-Errf-0.007
on perl 5.14.4, created by App::cpanminus::reporter 0.10 (1.7001).

Thank you for uploading your work to CPAN.  Congratulations!
All tests were successful.

Sections of this report:

    * Tester comments
    * Program output
    * Prerequisites
    * Environment and other context

------------------------------
TESTER COMMENTS
------------------------------

Additional comments from tester:

none provided

------------------------------
PROGRAM OUTPUT
------------------------------

Output from '':

Building and testing String-Errf-0.007
cp lib/String/Errf.pm blib/lib/String/Errf.pm
Manifying blib/man3/String::Errf.0
PERL_DL_NONLAZY=1 /Users/ether/perl5/perlbrew/perls/14.4/bin/perl "-MExtUtils::Command::MM" "-MTest::Harness" "-e" "undef *Test::Harness::Switches; test_harness(0, 'blib/lib', 'blib/arch')" t/*.t
# 
# 
# Generated by Dist::Zilla::Plugin::ReportVersions::Tiny v1.10
# perl: 5.014004 (wanted any version) on darwin from /Users/ether/perl5/perlbrew/perls/14.4/bin/perl
# 
# Carp                                          => 1.20       (want any version)
# Date::Format                                  => 2.24       (want any version)
# ExtUtils::MakeMaker                           => 6.9901     (want 6.30)   
# JSON                                          => 2.90       (want 2)      
# Params::Util                                  => 1.07       (want any version)
# Scalar::Util                                  => 1.23       (want any version)
# String::Formatter                             => 0.102084   (want 0.102081)
# Sub::Exporter                                 => 0.987      (want any version)
# Test::More                                    => 1.005000006 (want 0.96)   
# Time::Piece                                   => 1.20_01    (want any version)
# autodie                                       => 2.1001     (want any version)
# parent                                        => 0.225      (want any version)
# strict                                        => 1.04       (want any version)
# warnings                                      => 1.12       (want any version)
# 
# Thanks for using my code.  I hope it works for you.
# If not, please try and include this output in the bug report.
# That will help me reproduce the issue and solve your problem.
# 
t/bad.t ....................... ok
t/000-report-versions-tiny.t .. ok
t/basic.t ..................... ok
All tests successful.
Files=3, Tests=5,  0 wallclock secs ( 0.09 usr  0.02 sys +  0.94 cusr  0.10 csys =  1.15 CPU)
Result: PASS

------------------------------
PREREQUISITES
------------------------------

Prerequisite modules loaded:

    No requirements found

------------------------------
ENVIRONMENT AND OTHER CONTEXT
------------------------------

Environment variables:

    LANG = en_CA.UTF-8
    PATH = /Users/ether/.perlbrew/libs/14.4@std/bin:/Users/ether/perl5/perlbrew/bin:/Users/ether/perl5/perlbrew/perls/14.4/bin:/Users/ether/bin:/Users/ether/git/misc/install/tequila/bin:/Users/ether/git/misc/install/generic/bin:/opt/local/bin:/opt/local/sbin:/Users/ether/src/CE/devtools:/Users/ether/git/CE/devtools:/Users/ether/src/CE/bin:/Users/ether/git/CE/bin:/usr/bin:/bin:/usr/sbin:/sbin:/usr/local/bin:/usr/X11/bin:/opt/local/share/git-core/contrib/workdir
    PERL5LIB = /Users/ether/.perlbrew/libs/14.4@std/lib/perl5
    PERLBREW_BASHRC_VERSION = 0.67
    PERLBREW_HOME = /Users/ether/.perlbrew
    PERLBREW_LIB = std
    PERLBREW_MANPATH = /Users/ether/.perlbrew/libs/14.4@std/man:/Users/ether/perl5/perlbrew/perls/14.4/man
    PERLBREW_PATH = /Users/ether/.perlbrew/libs/14.4@std/bin:/Users/ether/perl5/perlbrew/bin:/Users/ether/perl5/perlbrew/perls/14.4/bin
    PERLBREW_PERL = 14.4
    PERLBREW_ROOT = /Users/ether/perl5/perlbrew
    PERLBREW_VERSION = 0.67
    PERLDOC_PAGER = less -sicMr
    PERL_AUTOINSTALL_PREFER_CPAN = 1
    PERL_LOCAL_LIB_ROOT = /Users/ether/.perlbrew/libs/14.4@std
    PERL_MB_OPT = --install_base /Users/ether/.perlbrew/libs/14.4@std
    PERL_MM_OPT = INSTALL_BASE=/Users/ether/.perlbrew/libs/14.4@std
    SHELL = /bin/bash
    TERM = xterm-color
    TMPDIR = /var/folders/+h/+hzG2W8MHem4qQiRP616jE+++TQ/-Tmp-/

Perl special variables (and OS-specific diagnostics, for MSWin32):

    EGID = 20 20 402 204 100 98 81 80 79 61 12 404 401 403
    EUID = 503
    EXECUTABLE_NAME = /Users/ether/perl5/perlbrew/perls/14.4/bin/perl
    GID = 20 20 402 204 100 98 81 80 79 61 12 404 401 403
    UID = 503

Perl module toolchain versions installed:

    Module              Have        
    ------------------- ------------
    CPAN                1.9600_01   
    CPAN::Meta          2.141520    
    Cwd                 3.47        
    ExtUtils::CBuilder  0.280203    
    ExtUtils::Command   1.17        
    ExtUtils::Install   1.56        
    ExtUtils::MakeMaker 6.99_01     
    ExtUtils::Manifest  1.60        
    ExtUtils::ParseXS   2.2210      
    File::Spec          3.47        
    JSON                2.90        
    JSON::PP            2.27203     
    Module::Build       0.4205      
    Module::Signature   n/a         
    Parse::CPAN::Meta   1.4414      
    Test::Harness       3.30        
    Test::More          1.005000_006
    YAML                n/a         
    YAML::Syck          n/a         
    version             0.88        


--

Summary of my perl5 (revision 5 version 14 subversion 4) configuration:
   
  Platform:
    osname=darwin, osvers=10.8.0, archname=darwin-2level
    uname='darwin tequila 10.8.0 darwin kernel version 10.8.0: tue jun 7 16:33:36 pdt 2011; root:xnu-1504.15.3~1release_i386 i386 '
    config_args='-de -Dprefix=/Users/ether/perl5/perlbrew/perls/14.4 -Dman1dir=none -Dman3dir=none -Aeval:scriptdir=/Users/ether/perl5/perlbrew/perls/14.4/bin'
    hint=recommended, useposix=true, d_sigaction=define
    useithreads=undef, usemultiplicity=undef
    useperlio=define, d_sfio=undef, uselargefiles=define, usesocks=undef
    use64bitint=define, use64bitall=define, uselongdouble=undef
    usemymalloc=n, bincompat5005=undef
  Compiler:
    cc='cc', ccflags ='-fno-common -DPERL_DARWIN -fno-strict-aliasing -pipe -fstack-protector -I/usr/local/include -I/opt/local/include',
    optimize='-O3',
    cppflags='-fno-common -DPERL_DARWIN -fno-strict-aliasing -pipe -fstack-protector -I/usr/local/include -I/opt/local/include'
    ccversion='', gccversion='4.2.1 (Apple Inc. build 5666) (dot 3)', gccosandvers=''
    intsize=4, longsize=8, ptrsize=8, doublesize=8, byteorder=12345678
    d_longlong=define, longlongsize=8, d_longdbl=define, longdblsize=16
    ivtype='long', ivsize=8, nvtype='double', nvsize=8, Off_t='off_t', lseeksize=8
    alignbytes=8, prototype=define
  Linker and Libraries:
    ld='env MACOSX_DEPLOYMENT_TARGET=10.3 cc', ldflags =' -fstack-protector -L/usr/local/lib -L/opt/local/lib'
    libpth=/usr/local/lib /opt/local/lib /usr/lib
    libs=-lgdbm -ldbm -ldl -lm -lutil -lc
    perllibs=-ldl -lm -lutil -lc
    libc=, so=dylib, useshrplib=false, libperl=libperl.a
    gnulibc_version=''
  Dynamic Linking:
    dlsrc=dl_dlopen.xs, dlext=bundle, d_dlsymun=undef, ccdlflags=' '
    cccdlflags=' ', lddlflags=' -bundle -undefined dynamic_lookup -L/usr/local/lib -L/opt/local/lib -fstack-protector'


Characteristics of this binary (from libperl): 
  Compile-time options: PERL_DONT_CREATE_GVSV PERL_MALLOC_WRAP
                        PERL_PRESERVE_IVUV USE_64_BIT_ALL USE_64_BIT_INT
                        USE_LARGE_FILES USE_PERLIO USE_PERL_ATOF
  Built under darwin
  Compiled at Jun  4 2014 11:29:58
  %ENV:
    PERL5LIB="/Users/ether/.perlbrew/libs/14.4@std/lib/perl5"
    PERLBREW_BASHRC_VERSION="0.67"
    PERLBREW_HOME="/Users/ether/.perlbrew"
    PERLBREW_LIB="std"
    PERLBREW_MANPATH="/Users/ether/.perlbrew/libs/14.4@std/man:/Users/ether/perl5/perlbrew/perls/14.4/man"
    PERLBREW_PATH="/Users/ether/.perlbrew/libs/14.4@std/bin:/Users/ether/perl5/perlbrew/bin:/Users/ether/perl5/perlbrew/perls/14.4/bin"
    PERLBREW_PERL="14.4"
    PERLBREW_ROOT="/Users/ether/perl5/perlbrew"
    PERLBREW_VERSION="0.67"
    PERLDOC_PAGER="less -sicMr"
    PERL_AUTOINSTALL_PREFER_CPAN="1"
    PERL_LOCAL_LIB_ROOT="/Users/ether/.perlbrew/libs/14.4@std"
    PERL_MB_OPT="--install_base /Users/ether/.perlbrew/libs/14.4@std"
    PERL_MM_OPT="INSTALL_BASE=/Users/ether/.perlbrew/libs/14.4@std"
  @INC:
    /Users/ether/.perlbrew/libs/14.4@std/lib/perl5/darwin-2level
    /Users/ether/.perlbrew/libs/14.4@std/lib/perl5
    /Users/ether/perl5/perlbrew/perls/14.4/lib/site_perl/5.14.4/darwin-2level
    /Users/ether/perl5/perlbrew/perls/14.4/lib/site_perl/5.14.4
    /Users/ether/perl5/perlbrew/perls/14.4/lib/5.14.4/darwin-2level
    /Users/ether/perl5/perlbrew/perls/14.4/lib/5.14.4
    .