Catalyst-Authentication-Credential-HTTP v1.018 Perl 5 v5.41.11 x86_64-linux

Status
Pass
From
Carlos Guevara
Dist
Catalyst-Authentication-Credential-HTTP v1.018
Platform
Perl 5 v5.41.11 x86_64-linux
Date
2025-03-26 23:06:29
ID
f399837a-0a96-11f0-aefe-db17e18a2a6d
This distribution has been tested as part of the CPAN Testers
project, supporting the Perl programming language.  See
http://wiki.cpantesters.org/ for more information or email
questions to cpan-testers-discuss@perl.org


--
Dear Karen Etheridge,

This is a computer-generated report for Catalyst-Authentication-Credential-HTTP-1.018
on perl 5.41.11, created by CPAN-Reporter-1.2020.

Thank you for uploading your work to CPAN.  Congratulations!
All tests were successful.

Sections of this report:

    * Tester comments
    * Program output
    * Prerequisites
    * Environment and other context

------------------------------
TESTER COMMENTS
------------------------------

Additional comments from tester:

this report is from an automated smoke testing program
and was not reviewed by a human for accuracy

------------------------------
PROGRAM OUTPUT
------------------------------

Output from './Build test':

# 
# Versions for all modules listed in MYMETA.json (including optional ones):
# 
# === Configure Requires ===
# 
#     Module               Want  Have
#     ------------------- ----- -----
#     Module::Build::Tiny 0.034 0.051
# 
# === Test Requires ===
# 
#     Module                    Want       Have
#     ------------------------- ---- ----------
#     Catalyst::Controller       any      undef
#     File::Spec                 any       3.93
#     FindBin                    any       1.54
#     HTTP::Headers              any       7.00
#     HTTP::Request              any       7.00
#     Module::Metadata           any   1.000038
#     Test::Exception            any       0.43
#     Test::MockObject           any 1.20200122
#     Test::MockObject::Extends  any 1.20200122
#     Test::More                 any   1.302209
#     Test::Needs                any   0.002010
#     lib                        any       0.65
# 
# === Test Recommends ===
# 
#     Module         Want     Have
#     ---------- -------- --------
#     CPAN::Meta 2.120900 2.150010
# 
# === Runtime Requires ===
# 
#     Module                                            Want     Have
#     ---------------------------------------------- ------- --------
#     Catalyst                                           any  5.90132
#     Catalyst::Authentication::Credential::Password     any    undef
#     Catalyst::Plugin::Authentication               0.10005  0.10024
#     Class::Accessor::Fast                              any     0.51
#     Data::UUID                                        0.11    1.227
#     Digest::MD5                                        any     2.59
#     String::Escape                                     any 2010.002
#     URI::Escape                                        any     5.31
#     base                                               any     2.27
#     strict                                             any     1.13
#     warnings                                           any     1.74
# 
# === Other Modules ===
# 
#     Module        Have
#     ------------- ----
#     JSON::PP      4.16
#     Pod::Coverage 0.23
#     Sub::Name     0.28
#     YAML          1.31
#     autodie       2.37
# 
t/00-report-prereqs.t ....... ok
# Catalyst 5.90132
# Catalyst::Plugin::Authentication 0.10024
# Catalyst::Authentication::Credential::HTTP 1.018
t/00use.t ................... ok
t/basic.t ................... ok
t/live_app.t ................ skipped: Need Test::WWW::Mechanize::Catalyst 0.51
t/live_app_digest.t ......... skipped: Need Cache::FileCache, Catalyst::Plugin::Cache, Test::WWW::Mechanize::Catalyst 0.51
t/live_app_digest_dotnet.t .. skipped: Need Cache::FileCache, Catalyst::Plugin::Cache, Test::WWW::Mechanize::Catalyst 0.51
All tests successful.
Files=6, Tests=39,  1 wallclock secs ( 0.02 usr  0.01 sys +  0.86 cusr  0.11 csys =  1.00 CPU)
Result: PASS

------------------------------
PREREQUISITES
------------------------------

Prerequisite modules loaded:

requires:

    Module                                         Need    Have      
    ---------------------------------------------- ------- ----------
    base                                           0       2.27      
    Catalyst                                       0       5.90132   
    Catalyst::Authentication::Credential::Password 0       0         
    Catalyst::Plugin::Authentication               0.10005 0.10024   
    Class::Accessor::Fast                          0       0.51      
    Data::UUID                                     0.11    1.227     
    Digest::MD5                                    0       2.59      
    perl                                           5.006   5.041011  
    strict                                         0       1.13      
    String::Escape                                 0       2010.002  
    URI::Escape                                    0       5.31      
    warnings                                       0       1.74      

build_requires:

    Module                                         Need    Have      
    ---------------------------------------------- ------- ----------
    Catalyst::Controller                           0       0         
    File::Spec                                     0       3.93      
    FindBin                                        0       1.54      
    HTTP::Headers                                  0       7.00      
    HTTP::Request                                  0       7.00      
    lib                                            0       0.65      
    Module::Metadata                               0       1.000038  
    perl                                           5.006   5.041011  
    Test::Exception                                0       0.43      
    Test::MockObject                               0       1.20200122
    Test::MockObject::Extends                      0       1.20200122
    Test::More                                     0       1.302209  
    Test::Needs                                    0       0.002010  

configure_requires:

    Module                                         Need    Have      
    ---------------------------------------------- ------- ----------
    Module::Build::Tiny                            0.034   0.051     
    perl                                           5.006   5.041011  


------------------------------
ENVIRONMENT AND OTHER CONTEXT
------------------------------

Environment variables:

    AUTOMATED_TESTING = 1
    DATE_MANIP_TEST_DM5 = 1
    LANG = en_US.UTF-8
    LC_ALL = C
    LC_COLLATE = C
    NONINTERACTIVE_TESTING = 1
    NO_NETWORK_TESTING = 1
    PATH = /home/cpan/bin/perl/bin:/home/cpan/bin:/home/cpan/bin:/usr/local/sbin:/usr/local/bin:/usr/bin:/usr/sbin:/sbin:/bin
    PERL5LIB = 
    PERL5OPT = 
    PERL5_CPANPLUS_IS_RUNNING = 23174
    PERL5_CPAN_IS_RUNNING = 23174
    PERL_MM_USE_DEFAULT = 1
    PERL_USE_UNSAFE_INC = 1
    SHELL = /bin/bash
    TERM = screen
    TMPDIR = /home/cpan/tmp

Perl special variables (and OS-specific diagnostics, for MSWin32):

    $^X = /home/cpan/bin/perl/bin/perl5.41.11
    $UID/$EUID = 1001 / 1001
    $GID = 1001 1001
    $EGID = 1001 1001

Perl module toolchain versions installed:

    Module              Have    
    ------------------- --------
    CPAN                2.38    
    CPAN::Meta          2.150010
    Cwd                 3.92    
    ExtUtils::CBuilder  0.280240
    ExtUtils::Command   7.72    
    ExtUtils::Install   2.22    
    ExtUtils::MakeMaker 7.72    
    ExtUtils::Manifest  1.75    
    ExtUtils::ParseXS   3.57    
    File::Spec          3.93    
    JSON                4.10    
    JSON::PP            4.16    
    Module::Build       0.4234  
    Module::Signature   n/a     
    Parse::CPAN::Meta   2.150010
    Test2               1.302209
    Test::Harness       3.50    
    Test::More          1.302209
    YAML                1.31    
    YAML::Syck          1.34    
    version             0.9933  


--

Summary of my perl5 (revision 5 version 41 subversion 11) configuration:
  Commit id: de36a92218b2118db3e5a47294474ce10ed4d379
  Platform:
    osname=linux
    osvers=6.12.20_1
    archname=x86_64-linux
    uname='linux cjg-void 6.12.20_1 #1 smp preempt_dynamic mon mar 24 12:12:00 utc 2025 x86_64 gnulinux '
    config_args='-des -Dprefix=/home/cpan/bin/perl -Dscriptdir=/home/cpan/bin/perl/bin -Dusedevel -Duse64bitall'
    hint=recommended
    useposix=true
    d_sigaction=define
    useithreads=undef
    usemultiplicity=undef
    use64bitint=define
    use64bitall=define
    uselongdouble=undef
    usemymalloc=n
    default_inc_excludes_dot=define
  Compiler:
    cc='cc'
    ccflags ='-D_GNU_SOURCE -fwrapv -fno-strict-aliasing -pipe -fstack-protector-strong -I/usr/local/include -D_LARGEFILE_SOURCE -D_FILE_OFFSET_BITS=64 -D_FORTIFY_SOURCE=2'
    optimize='-O2'
    cppflags='-D_GNU_SOURCE -fwrapv -fno-strict-aliasing -pipe -fstack-protector-strong -I/usr/local/include'
    ccversion=''
    gccversion='13.2.0'
    gccosandvers=''
    intsize=4
    longsize=8
    ptrsize=8
    doublesize=8
    byteorder=12345678
    doublekind=3
    d_longlong=define
    longlongsize=8
    d_longdbl=define
    longdblsize=16
    longdblkind=3
    ivtype='long'
    ivsize=8
    nvtype='double'
    nvsize=8
    Off_t='off_t'
    lseeksize=8
    alignbytes=8
    prototype=define
  Linker and Libraries:
    ld='cc'
    ldflags =' -fstack-protector-strong -L/usr/local/lib'
    libpth=/usr/local/lib /usr/lib
    libs=-lpthread -ldb -ldl -lm -lcrypt -lutil -lc
    perllibs=-lpthread -ldl -lm -lcrypt -lutil -lc
    libc=/lib/../lib64/libc.so
    so=so
    useshrplib=false
    libperl=libperl.a
    gnulibc_version=''
  Dynamic Linking:
    dlsrc=dl_dlopen.xs
    dlext=so
    d_dlsymun=undef
    ccdlflags='-Wl,-E'
    cccdlflags='-fPIC'
    lddlflags='-shared -O2 -L/usr/local/lib -fstack-protector-strong'


Characteristics of this binary (from libperl): 
  Compile-time options:
    HAS_LONG_DOUBLE
    HAS_STRTOLD
    HAS_TIMES
    PERLIO_LAYERS
    PERL_COPY_ON_WRITE
    PERL_DONT_CREATE_GVSV
    PERL_HASH_FUNC_SIPHASH13
    PERL_HASH_USE_SBOX32
    PERL_MALLOC_WRAP
    PERL_OP_PARENT
    PERL_PRESERVE_IVUV
    PERL_USE_DEVEL
    PERL_USE_SAFE_PUTENV
    USE_64_BIT_ALL
    USE_64_BIT_INT
    USE_LARGE_FILES
    USE_LOCALE
    USE_LOCALE_COLLATE
    USE_LOCALE_CTYPE
    USE_LOCALE_NUMERIC
    USE_LOCALE_TIME
    USE_PERLIO
    USE_PERL_ATOF
  Built under linux
  Compiled at Mar 26 2025 17:53:23
  %ENV:
    PERL5LIB=""
    PERL5OPT=""
    PERL5_CPANPLUS_IS_RUNNING="23174"
    PERL5_CPAN_IS_RUNNING="23174"
    PERL_MM_USE_DEFAULT="1"
    PERL_USE_UNSAFE_INC="1"
  @INC:
    /home/cpan/bin/perl/lib/site_perl/5.41.11/x86_64-linux
    /home/cpan/bin/perl/lib/site_perl/5.41.11
    /home/cpan/bin/perl/lib/5.41.11/x86_64-linux
    /home/cpan/bin/perl/lib/5.41.11
    .