Report for DBIx-Schema-Changelog-0.7.1

Back
From: metabase:user:320bfe00-2aae-11df-837a-5e0a49663a4f
Subject: PASS DBIx-Schema-Changelog-0.7.1 v5.21.11 GNU/Linux
Date: 2015-03-28T17:14:54Z

This distribution has been tested as part of the CPAN Testers
project, supporting the Perl programming language.  See
http://wiki.cpantesters.org/ for more information or email
questions to cpan-testers-discuss@perl.org


--
Dear Mario Zieschang,

This is a computer-generated report for DBIx-Schema-Changelog-0.7.1
on perl 5.21.11, created by CPAN-Reporter-1.2011.

Thank you for uploading your work to CPAN.  Congratulations!
All tests were successful.

Sections of this report:

    * Tester comments
    * Program output
    * Prerequisites
    * Environment and other context

------------------------------
TESTER COMMENTS
------------------------------

Additional comments from tester:

this report is from an automated smoke testing program
and was not reviewed by a human for accuracy

------------------------------
PROGRAM OUTPUT
------------------------------

Output from '/usr/bin/make test':

PERL_DL_NONLAZY=1 "/tmp/basesmoker-reloperl-Q4Gu/bin/perl" "-MExtUtils::Command::MM" "-MTest::Harness" "-e" "undef *Test::Harness::Switches; test_harness(0, 'blib/lib', 'blib/arch')" t/*.t
t/00-load.t ........ ok
t/010-changelog.t .. ok
t/020-driver.t ..... ok
DBIx::Schema::Changelog::File::Yaml. Read changelog file '/tmp/loop_over_bdir-10572-8KN25i/DBIx-Schema-Changelog-0.7.1-8oSFth/t/data/changelog/changelog.yml'. 
DBIx::Schema::Changelog::File::Yaml. Read changelog file '/tmp/loop_over_bdir-10572-8KN25i/DBIx-Schema-Changelog-0.7.1-8oSFth/t/data/changelog/changelog-01.yml'. 
DBIx::Schema::Changelog::Action::Index (36) Create index is not supported!  
DBIx::Schema::Changelog::Action::Sql (33). WARNING: Execute sql statements can lead very likely to incompatibilities.
DBIx::Schema::Changelog::Action::Column (72) Drop column is not supported!
DBIx::Schema::Changelog::Action::Table (187). Add constraint is not supported!
DBIx::Schema::Changelog::Action::Table (187). Add constraint is not supported!
t/021-sqlite.t ..... ok
t/022-pg.t ......... skipped: Test requires module 'DBD::Pg' but it's not found
t/030-changeset.t .. ok
t/040-action.t ..... ok
DBIx::Schema::Changelog::Action::Column (57) Alter column is not supported!
DBIx::Schema::Changelog::Action::Column (72) Drop column is not supported!
t/0401-column.t .... ok
t/0402-action.t .... ok
t/0403-index.t ..... ok
t/0404-table.t ..... ok
t/0405-view.t ...... ok
t/0406-sql.t ....... ok
t/0407-sequence.t .. skipped: Test requires module 'DBD::Pg' but it's not found
t/0408-default.t ... ok
t/0409-function.t .. skipped: Test requires module 'DBD::Pg' but it's not found
t/0410-trigger.t ... skipped: Test requires module 'DBD::Pg' but it's not found
t/050-command.t .... ok
t/051-base.t ....... ok
t/052-driver.t ..... ok
t/053-file.t ....... ok
DBIx::Schema::Changelog::File::Yaml. Read changelog file '/tmp/loop_over_bdir-10572-8KN25i/DBIx-Schema-Changelog-0.7.1-8oSFth/t/../.tmp/changelog/changelog.yml'. 
DBIx::Schema::Changelog::File::Yaml. Read changelog file '/tmp/loop_over_bdir-10572-8KN25i/DBIx-Schema-Changelog-0.7.1-8oSFth/t/../.tmp/changelog/changelog-01.yml'. 
t/054-changeset.t .. ok
t/060-file.t ....... ok
DBIx::Schema::Changelog::File::Yaml. Read changelog file '/tmp/loop_over_bdir-10572-8KN25i/DBIx-Schema-Changelog-0.7.1-8oSFth/t/data/changelog/changelog.yml'. 
DBIx::Schema::Changelog::File::Yaml. Read changelog file '/tmp/loop_over_bdir-10572-8KN25i/DBIx-Schema-Changelog-0.7.1-8oSFth/t/data/changelog/changelog-01.yml'. 
t/061-yaml.t ....... ok
DBIx::Schema::Changelog::File::JSON. Read changelog file '/tmp/loop_over_bdir-10572-8KN25i/DBIx-Schema-Changelog-0.7.1-8oSFth/t/data/changelog/changelog.json'. 
DBIx::Schema::Changelog::File::JSON. Read changelog file '/tmp/loop_over_bdir-10572-8KN25i/DBIx-Schema-Changelog-0.7.1-8oSFth/t/data/changelog/changelog-01.json'. 
t/062-json.t ....... ok
Could not remove /tmp/loop_over_bdir-10572-8KN25i/DBIx-Schema-Changelog-0.7.1-8oSFth/t/../.tmp: No such file or directory at t/999-delete.t line 17.
t/999-delete.t ..... ok
t/boilerplate.t .... ok
t/manifest.t ....... skipped: Author tests not required for installation
t/pod-coverage.t ... skipped: Author tests not required for installation
t/pod-spelling.t ... skipped: Author tests not required for installation
t/pod.t ............ skipped: Author tests not required for installation
All tests successful.

Test Summary Report
-------------------
t/boilerplate.t  (Wstat: 0 Tests: 5 Failed: 0)
  TODO passed:   1-3
Files=31, Tests=173, 10 wallclock secs ( 0.11 usr  0.17 sys +  8.19 cusr  1.26 csys =  9.73 CPU)
Result: PASS

------------------------------
PREREQUISITES
------------------------------

Prerequisite modules loaded:

requires:

    Module                       Need     Have    
    ---------------------------- -------- --------
    DBD::SQLite                  1.4      1.46    
    DBI                          1.632    1.633   
    File::Spec                   0        3.56    
    Getopt::Long                 2.42     2.45    
    Hash::MD5                    0.05     0.05    
    JSON::Parse                  0.31     0.31    
    Method::Signatures::Simple   1.07     1.07    
    Moose                        2.1403   2.1403  
    MooseX::HasDefaults::RO      0        0       
    MooseX::Types::LoadableClass 0.013    0.013   
    MooseX::Types::Moose         0.45     0.45    
    MooseX::Types::Path::Class   0.06     0.06    
    MooseX::Types::PerlVersion   0.002    0.002   
    Path::Class                  0.3      0.35    
    perl                         5.010000 5.021011
    Pod::Coverage::TrustPod      0        0.100003
    Pod::Usage                   0        1.67    
    SQL::Abstract                1.81     1.81    
    Storable                     2.49     2.53    
    Test::CheckManifest          0        1.29    
    Test::Cmd                    0        1.08    
    Test::Exception              0        0.38    
    Test::Pod::Coverage          0        1.10    
  ! Test::PostgreSQL             1.01     n/a     
    Test::Requires               0        0.08    
    Test::Spelling               0        0.20    
    Text::Trim                   1.02     1.02    
    Time::Piece                  1.27     1.29    
    YAML                         1.13     1.14    
    YAML::XS                     0.55     0.59    

build_requires:

    Module                       Need     Have    
    ---------------------------- -------- --------
    DBD::SQLite                  1.4      1.46    
    DBI                          1.632    1.633   
    File::Spec                   0        3.56    
    Getopt::Long                 2.42     2.45    
    Hash::MD5                    0.05     0.05    
    JSON::Parse                  0.31     0.31    
    Method::Signatures::Simple   1.07     1.07    
    Moose                        2.1403   2.1403  
    MooseX::HasDefaults::RO      0        0       
    MooseX::Types::LoadableClass 0.013    0.013   
    MooseX::Types::Moose         0.45     0.45    
    MooseX::Types::Path::Class   0.06     0.06    
    MooseX::Types::PerlVersion   0.002    0.002   
    Path::Class                  0.3      0.35    
    Pod::Coverage::TrustPod      0        0.100003
    Pod::Usage                   0        1.67    
    SQL::Abstract                1.81     1.81    
    Storable                     2.49     2.53    
    Test::CheckManifest          0        1.29    
    Test::Cmd                    0        1.08    
    Test::Exception              0        0.38    
    Test::Pod::Coverage          0        1.10    
  ! Test::PostgreSQL             1.01     n/a     
    Test::Requires               0        0.08    
    Test::Spelling               0        0.20    
    Text::Trim                   1.02     1.02    
    Time::Piece                  1.27     1.29    
    YAML                         1.13     1.14    
    YAML::XS                     0.55     0.59    

configure_requires:

    Module                       Need     Have    
    ---------------------------- -------- --------
    ExtUtils::MakeMaker          0        7.04    


------------------------------
ENVIRONMENT AND OTHER CONTEXT
------------------------------

Environment variables:

    AUTOMATED_TESTING = 1
    LANG = en_US.UTF-8
    LANGUAGE = en_US:en
    PATH = /home/sand/bin:/usr/local/bin:/usr/bin:/bin:/usr/games:/usr/local/perl/bin:/usr/X11/bin:/sbin:/usr/sbin
    PERL5LIB = 
    PERL5OPT = 
    PERL5_CPANPLUS_IS_RUNNING = 18348
    PERL5_CPAN_IS_RUNNING = 18348
    PERL_MM_USE_DEFAULT = 1
    SHELL = /usr/bin/zsh
    TERM = screen

Perl special variables (and OS-specific diagnostics, for MSWin32):

    $^X = /tmp/basesmoker-reloperl-Q4Gu/bin/perl
    $UID/$EUID = 1005 / 1005
    $GID = 1005 1005
    $EGID = 1005 1005

Perl module toolchain versions installed:

    Module              Have    
    ------------------- --------
    CPAN                2.10    
    CPAN::Meta          2.150001
    Cwd                 3.56    
    ExtUtils::CBuilder  0.280221
    ExtUtils::Command   1.20    
    ExtUtils::Install   2.04    
    ExtUtils::MakeMaker 7.04    
    ExtUtils::Manifest  1.70    
    ExtUtils::ParseXS   3.27    
    File::Spec          3.56    
    JSON                2.90    
    JSON::PP            2.27300 
    Module::Build       0.4211  
    Module::Signature   0.73    
    Parse::CPAN::Meta   1.4414  
    Test::Harness       3.35    
    Test::More          1.001014
    YAML                1.14    
    YAML::Syck          1.29    
    version             0.9909  


--

Summary of my perl5 (revision 5 version 21 subversion 11) configuration:
  Commit id: 008e8e82d7383361068156624879df7566121878
  Platform:
    osname=linux, osvers=3.16.0-4-amd64, archname=x86_64-linux-thread-multi
    uname='linux k83 3.16.0-4-amd64 #1 smp debian 3.16.7-ckt7-1 (2015-03-01) x86_64 gnulinux '
    config_args='-Dprefix=/home/sand/src/perl/repoperls/installed-perls/perl/v5.21.10-31-g008e8e8/9980 -Dmyhostname=k83 -Dinstallusrbinperl=n -Uversiononly -Dusedevel -des -Ui_db -Duseithreads -Uuselongdouble -DDEBUGGING=-g'
    hint=recommended, useposix=true, d_sigaction=define
    useithreads=define, usemultiplicity=define
    use64bitint=define, use64bitall=define, uselongdouble=undef
    usemymalloc=n, bincompat5005=undef
  Compiler:
    cc='cc', ccflags ='-D_REENTRANT -D_GNU_SOURCE -fwrapv -fno-strict-aliasing -pipe -fstack-protector-strong -I/usr/local/include -D_LARGEFILE_SOURCE -D_FILE_OFFSET_BITS=64 -D_FORTIFY_SOURCE=2',
    optimize='-O2 -g',
    cppflags='-D_REENTRANT -D_GNU_SOURCE -fwrapv -fno-strict-aliasing -pipe -fstack-protector-strong -I/usr/local/include'
    ccversion='', gccversion='4.9.2', gccosandvers=''
    intsize=4, longsize=8, ptrsize=8, doublesize=8, byteorder=12345678, doublekind=3
    d_longlong=define, longlongsize=8, d_longdbl=define, longdblsize=16, longdblkind=3
    ivtype='long', ivsize=8, nvtype='double', nvsize=8, Off_t='off_t', lseeksize=8
    alignbytes=8, prototype=define
  Linker and Libraries:
    ld='cc', ldflags =' -fstack-protector-strong -L/usr/local/lib'
    libpth=/usr/local/lib /usr/lib/gcc/x86_64-linux-gnu/4.9/include-fixed /usr/include/x86_64-linux-gnu /usr/lib /lib/x86_64-linux-gnu /lib/../lib /usr/lib/x86_64-linux-gnu /usr/lib/../lib /lib
    libs=-lpthread -lnsl -lgdbm -ldb -ldl -lm -lcrypt -lutil -lc -lgdbm_compat
    perllibs=-lpthread -lnsl -ldl -lm -lcrypt -lutil -lc
    libc=libc-2.19.so, so=so, useshrplib=false, libperl=libperl.a
    gnulibc_version='2.19'
  Dynamic Linking:
    dlsrc=dl_dlopen.xs, dlext=so, d_dlsymun=undef, ccdlflags='-Wl,-E'
    cccdlflags='-fPIC', lddlflags='-shared -O2 -g -L/usr/local/lib -fstack-protector-strong'


Characteristics of this binary (from libperl): 
  Compile-time options: HAS_TIMES MULTIPLICITY PERLIO_LAYERS
                        PERL_DONT_CREATE_GVSV
                        PERL_HASH_FUNC_ONE_AT_A_TIME_HARD
                        PERL_IMPLICIT_CONTEXT PERL_MALLOC_WRAP
                        PERL_NEW_COPY_ON_WRITE PERL_PRESERVE_IVUV
                        PERL_USE_DEVEL USE_64_BIT_ALL USE_64_BIT_INT
                        USE_ITHREADS USE_LARGE_FILES USE_LOCALE
                        USE_LOCALE_COLLATE USE_LOCALE_CTYPE
                        USE_LOCALE_NUMERIC USE_LOCALE_TIME USE_PERLIO
                        USE_PERL_ATOF USE_REENTRANT_API
  Built under linux
  Compiled at Mar 28 2015 05:50:22
  %ENV:
    PERL5LIB=""
    PERL5OPT=""
    PERL5_CPANPLUS_IS_RUNNING="18348"
    PERL5_CPAN_IS_RUNNING="18348"
    PERL_MM_USE_DEFAULT="1"
  @INC:
    /home/sand/src/perl/repoperls/installed-perls/perl/v5.21.10-31-g008e8e8/9980/lib/site_perl/5.21.11/x86_64-linux-thread-multi
    /home/sand/src/perl/repoperls/installed-perls/perl/v5.21.10-31-g008e8e8/9980/lib/site_perl/5.21.11
    /home/sand/src/perl/repoperls/installed-perls/perl/v5.21.10-31-g008e8e8/9980/lib/5.21.11/x86_64-linux-thread-multi
    /home/sand/src/perl/repoperls/installed-perls/perl/v5.21.10-31-g008e8e8/9980/lib/5.21.11
    .