Back
From: metabase:user:bf998058-baeb-11e4-99c3-b01b75490a75
Subject: PASS Dist-Zilla-Plugin-Test-EOL-0.19 v5.25.10 Mac OS X
Date: 2017-02-21T04:48:13Z
This distribution has been tested as part of the CPAN Testers
project, supporting the Perl programming language. See
http://wiki.cpantesters.org/ for more information or email
questions to cpan-testers-discuss@perl.org
--
Dear ETHER,
This is a computer-generated report for Dist-Zilla-Plugin-Test-EOL-0.19
on perl 5.25.10, created by App::cpanminus::reporter 0.17 (1.7042).
Thank you for uploading your work to CPAN. Congratulations!
All tests were successful.
Sections of this report:
* Tester comments
* Program output
* Prerequisites
* Environment and other context
------------------------------
TESTER COMMENTS
------------------------------
Additional comments from tester:
none provided
------------------------------
PROGRAM OUTPUT
------------------------------
Output from '':
Building and testing Dist-Zilla-Plugin-Test-EOL-0.19
#
# Versions for all modules listed in MYMETA.json (including optional ones):
#
# === Configure Requires ===
#
# Module Want Have
# ------------------- ----- -----
# Module::Build::Tiny 0.034 0.039
#
# === Test Requires ===
#
# Module Want Have
# ---------------- ----- --------
# File::Spec any 3.66
# File::pushd any 1.014
# FindBin any 1.51
# Module::Metadata any 1.000033
# Test::DZil any 6.008
# Test::Deep any 1.126
# Test::EOL any 1.6
# Test::More 0.88 1.302073
# Test::Warnings 0.009 0.026
# if any 0.0606
#
# === Test Recommends ===
#
# Module Want Have
# ---------- -------- --------
# CPAN::Meta 2.120900 2.150010
#
# === Runtime Requires ===
#
# Module Want Have
# --------------------------------- ----- --------
# Data::Section 0.004 0.200006
# Dist::Zilla::File::InMemory any 6.008
# Dist::Zilla::Role::FileFinderUser any 6.008
# Dist::Zilla::Role::FileGatherer any 6.008
# Dist::Zilla::Role::FileMunger any 6.008
# Dist::Zilla::Role::PrereqSource any 6.008
# Dist::Zilla::Role::TextTemplate any 6.008
# Moose any 2.2004
# Moose::Util::TypeConstraints any 2.2004
# Path::Tiny any 0.104
# Sub::Exporter::ForMethods any 0.100052
# namespace::autoclean any 0.28
# strict any 1.11
# warnings any 1.37
#
# === Other Modules ===
#
# Module Have
# --------------------- --------
# CPAN::Meta::Validator 2.150010
# Pod::Coverage 0.23
#
t/00-report-prereqs.t .. ok
t/eol.t ................ ok
t/prereqs.t ............ ok
t/04-filename.t ........ ok
t/01-basic.t ........... ok
t/03-finder.t .......... ok
t/02-eoltests.t ........ ok
t/zzz-check-breaks.t ... ok
All tests successful.
Files=8, Tests=66, 1 wallclock secs ( 0.04 usr 0.01 sys + 4.48 cusr 0.31 csys = 4.84 CPU)
Result: PASS
------------------------------
PREREQUISITES
------------------------------
Prerequisite modules loaded:
No requirements found
------------------------------
ENVIRONMENT AND OTHER CONTEXT
------------------------------
Environment variables:
HARNESS_OPTIONS = j5:c
LANG = en_CA.UTF-8
NO_NETWORK_TESTING = 1
PATH = /Volumes/amaretto/Users/ether/.perlbrew/libs/25.10@std/bin:/Volumes/amaretto/Users/ether/perl5/perlbrew/bin:/Volumes/amaretto/Users/ether/perl5/perlbrew/perls/25.10/bin:/Volumes/amaretto/Users/ether/bin:/Volumes/amaretto/Users/ether/git/misc/install/jaeger/bin:/Volumes/amaretto/Users/ether/git/misc/install/generic/bin:/opt/local/bin:/opt/local/sbin:/Volumes/amaretto/Users/ether/git/git-hub/lib:/usr/local/bin:/usr/bin:/bin:/usr/sbin:/sbin:/opt/local/share/git-core/contrib/workdir
PERL5LIB = /Volumes/amaretto/Users/ether/.perlbrew/libs/25.10@std/lib/perl5
PERLBREW_BASHRC_VERSION = 0.78
PERLBREW_HOME = /Volumes/amaretto/Users/ether/.perlbrew
PERLBREW_LIB = std
PERLBREW_MANPATH = /Volumes/amaretto/Users/ether/.perlbrew/libs/25.10@std/man:/Volumes/amaretto/Users/ether/perl5/perlbrew/perls/25.10/man
PERLBREW_PATH = /Volumes/amaretto/Users/ether/.perlbrew/libs/25.10@std/bin:/Volumes/amaretto/Users/ether/perl5/perlbrew/bin:/Volumes/amaretto/Users/ether/perl5/perlbrew/perls/25.10/bin
PERLBREW_PERL = 25.10
PERLBREW_ROOT = /Volumes/amaretto/Users/ether/perl5/perlbrew
PERLBREW_VERSION = 0.78
PERLDOC_PAGER = less -sicMr
PERL_AUTOINSTALL_PREFER_CPAN = 1
PERL_INSTALL_QUIET = 1
PERL_LOCAL_LIB_ROOT = /Volumes/amaretto/Users/ether/.perlbrew/libs/25.10@std
PERL_MB_OPT = --install_base /Volumes/amaretto/Users/ether/.perlbrew/libs/25.10@std
PERL_MM_OPT = INSTALL_BASE=/Volumes/amaretto/Users/ether/.perlbrew/libs/25.10@std
SHELL = /bin/bash
TERM = xterm-color
Perl special variables (and OS-specific diagnostics, for MSWin32):
EGID = 20 20 12 61 79 80 81 98 701 33 100 204 395 398 399
EUID = 502
EXECUTABLE_NAME = /Volumes/amaretto/Users/ether/perl5/perlbrew/perls/25.10/bin/perl5.25.10
GID = 20 20 12 61 79 80 81 98 701 33 100 204 395 398 399
UID = 502
Perl module toolchain versions installed:
Module Have
------------------- --------
CPAN 2.17
CPAN::Meta 2.150010
Cwd 3.66
ExtUtils::CBuilder 0.280225
ExtUtils::Command 7.25_01
ExtUtils::Install 2.04
ExtUtils::MakeMaker 7.25_01
ExtUtils::Manifest 1.70
ExtUtils::ParseXS 3.33
File::Spec 3.66
JSON 2.91_04
JSON::PP 2.91_04
Module::Build 0.4220
Module::Signature n/a
Parse::CPAN::Meta 2.150010
Test::Harness 3.36_01
Test::More 1.302073
YAML 1.23
YAML::Syck 1.29
version 0.9917
--
Summary of my perl5 (revision 5 version 25 subversion 10) configuration:
Platform:
osname=darwin
osvers=16.4.0
archname=darwin-2level
uname='darwin jaeger 16.4.0 darwin kernel version 16.4.0: thu dec 22 22:53:21 pst 2016; root:xnu-3789.41.3~3release_x86_64 x86_64 '
config_args='-de -Dprefix=/Volumes/amaretto/Users/ether/perl5/perlbrew/perls/25.10 -Dman1dir=none -Dman3dir=none -Dusedevel -Aeval:scriptdir=/Volumes/amaretto/Users/ether/perl5/perlbrew/perls/25.10/bin'
hint=recommended
useposix=true
d_sigaction=define
useithreads=undef
usemultiplicity=undef
use64bitint=define
use64bitall=define
uselongdouble=undef
usemymalloc=n
bincompat5005=undef
Compiler:
cc='cc'
ccflags ='-fno-common -DPERL_DARWIN -fno-strict-aliasing -pipe -fstack-protector-strong -I/opt/local/include'
optimize='-O3'
cppflags='-fno-common -DPERL_DARWIN -fno-strict-aliasing -pipe -fstack-protector-strong -I/opt/local/include'
ccversion=''
gccversion='4.2.1 Compatible Apple LLVM 8.0.0 (clang-800.0.42.1)'
gccosandvers=''
intsize=4
longsize=8
ptrsize=8
doublesize=8
byteorder=12345678
doublekind=3
d_longlong=define
longlongsize=8
d_longdbl=define
longdblsize=16
longdblkind=3
ivtype='long'
ivsize=8
nvtype='double'
nvsize=8
Off_t='off_t'
lseeksize=8
alignbytes=8
prototype=define
Linker and Libraries:
ld='env MACOSX_DEPLOYMENT_TARGET=10.3 cc'
ldflags =' -fstack-protector-strong -L/opt/local/lib'
libpth=/Applications/Xcode.app/Contents/Developer/Toolchains/XcodeDefault.xctoolchain/usr/bin/../lib/clang/8.0.0/lib /Applications/Xcode.app/Contents/Developer/Toolchains/XcodeDefault.xctoolchain/usr/lib /usr/lib /opt/local/lib
libs=-lpthread -lgdbm -ldbm -ldl -lm -lutil -lc
perllibs=-lpthread -ldl -lm -lutil -lc
libc=
so=dylib
useshrplib=false
libperl=libperl.a
gnulibc_version=''
Dynamic Linking:
dlsrc=dl_dlopen.xs
dlext=bundle
d_dlsymun=undef
ccdlflags=' '
cccdlflags=' '
lddlflags=' -bundle -undefined dynamic_lookup -L/opt/local/lib -fstack-protector-strong'
Characteristics of this binary (from libperl):
Compile-time options:
HAS_TIMES
PERLIO_LAYERS
PERL_COPY_ON_WRITE
PERL_DONT_CREATE_GVSV
PERL_MALLOC_WRAP
PERL_OP_PARENT
PERL_PRESERVE_IVUV
PERL_USE_DEVEL
USE_64_BIT_ALL
USE_64_BIT_INT
USE_LARGE_FILES
USE_LOCALE
USE_LOCALE_COLLATE
USE_LOCALE_CTYPE
USE_LOCALE_NUMERIC
USE_LOCALE_TIME
USE_PERLIO
USE_PERL_ATOF
Locally applied patches:
Devel::PatchPerl 1.38
Built under darwin
Compiled at Feb 20 2017 20:01:25
%ENV:
PERL5LIB="/Volumes/amaretto/Users/ether/.perlbrew/libs/25.10@std/lib/perl5"
PERLBREW_BASHRC_VERSION="0.78"
PERLBREW_HOME="/Volumes/amaretto/Users/ether/.perlbrew"
PERLBREW_LIB="std"
PERLBREW_MANPATH="/Volumes/amaretto/Users/ether/.perlbrew/libs/25.10@std/man:/Volumes/amaretto/Users/ether/perl5/perlbrew/perls/25.10/man"
PERLBREW_PATH="/Volumes/amaretto/Users/ether/.perlbrew/libs/25.10@std/bin:/Volumes/amaretto/Users/ether/perl5/perlbrew/bin:/Volumes/amaretto/Users/ether/perl5/perlbrew/perls/25.10/bin"
PERLBREW_PERL="25.10"
PERLBREW_ROOT="/Volumes/amaretto/Users/ether/perl5/perlbrew"
PERLBREW_VERSION="0.78"
PERLDOC_PAGER="less -sicMr"
PERL_AUTOINSTALL_PREFER_CPAN="1"
PERL_INSTALL_QUIET="1"
PERL_LOCAL_LIB_ROOT="/Volumes/amaretto/Users/ether/.perlbrew/libs/25.10@std"
PERL_MB_OPT="--install_base /Volumes/amaretto/Users/ether/.perlbrew/libs/25.10@std"
PERL_MM_OPT="INSTALL_BASE=/Volumes/amaretto/Users/ether/.perlbrew/libs/25.10@std"
@INC:
/Volumes/amaretto/Users/ether/.perlbrew/libs/25.10@std/lib/perl5/darwin-2level
/Volumes/amaretto/Users/ether/.perlbrew/libs/25.10@std/lib/perl5
/Volumes/amaretto/Users/ether/perl5/perlbrew/perls/25.10/lib/site_perl/5.25.10/darwin-2level
/Volumes/amaretto/Users/ether/perl5/perlbrew/perls/25.10/lib/site_perl/5.25.10
/Volumes/amaretto/Users/ether/perl5/perlbrew/perls/25.10/lib/5.25.10/darwin-2level
/Volumes/amaretto/Users/ether/perl5/perlbrew/perls/25.10/lib/5.25.10
.