Term-Choose_HAE v0.058 Perl 5 v5.20.3 darwin-thread-multi-2level

Status
Pass
From
Nigel Horne
Dist
Term-Choose_HAE v0.058
Platform
Perl 5 v5.20.3 darwin-thread-multi-2level
Date
2018-11-17 12:33:13
ID
f3a1ec1c-ea64-11e8-bc1b-a34c77027638
This distribution has been tested as part of the CPAN Testers
project, supporting the Perl programming language.  See
http://wiki.cpantesters.org/ for more information or email
questions to cpan-testers-discuss@perl.org


--
Dear Matthaeus Kiem,

This is a computer-generated report for Term-Choose_HAE-0.058
on perl 5.20.3, created by CPAN-Reporter-1.2018.

Thank you for uploading your work to CPAN.  Congratulations!
All tests were successful.

Sections of this report:

    * Tester comments
    * Program output
    * Prerequisites
    * Environment and other context

------------------------------
TESTER COMMENTS
------------------------------

Additional comments from tester:

this report is from an automated smoke testing program
and was not reviewed by a human for accuracy

------------------------------
PROGRAM OUTPUT
------------------------------

Output from '/sw/bin/make test':

PERL_DL_NONLAZY=1 "/Users/hornenj/perl5/perlbrew/perls/perl-5.20.3/bin/perl" "-MExtUtils::Command::MM" "-MTest::Harness" "-e" "undef *Test::Harness::Switches; test_harness(0, 'blib/lib', 'blib/arch')" t/*/*.t
# Testing Term::Choose_HAE 0.058, Perl 5.020003, /Users/hornenj/perl5/perlbrew/perls/perl-5.20.3/bin/perl
t/00_load/00-load.t .............. ok
t/01_arguments/01_new.t .......... ok
t/01_arguments/01_new_invalid.t .. ok
All tests successful.
Files=3, Tests=358,  0 wallclock secs ( 0.05 usr  0.01 sys +  0.25 cusr  0.15 csys =  0.46 CPU)
Result: PASS

------------------------------
PREREQUISITES
------------------------------

Prerequisite modules loaded:

requires:

    Module                  Need     Have    
    ----------------------- -------- --------
    Carp                    0        1.38    
    Exporter                0        5.72    
    if                      0        0.0606  
    parent                  0        0.236   
    perl                    5.010001 5.020003
    strict                  0        1.08    
    Term::Choose            1.630    1.632   
    Term::Choose::Constants 1.630    1.632   
    Term::Choose::LineFold  1.630    1.632   
    Term::Choose::Linux     1.630    1.632   
    warnings                0        1.23    

build_requires:

    Module                  Need     Have    
    ----------------------- -------- --------
    File::Spec::Functions   0        3.75    
    FindBin                 0        1.51    
    lib                     0        0.63    
    Test::Fatal             0        0.014   
    Test::More              0        1.302106

configure_requires:

    Module                  Need     Have    
    ----------------------- -------- --------
    ExtUtils::MakeMaker     0        7.34    


------------------------------
ENVIRONMENT AND OTHER CONTEXT
------------------------------

Environment variables:

    AUTOMATED_TESTING = 1
    HARNESS_OPTIONS = j4
    LANG = en_US.UTF-8
    LC_ALL = POSIX
    NONINTERACTIVE_TESTING = 1
    PATH = /Users/hornenj/perl5/perlbrew/bin:/Users/hornenj/perl5/perlbrew/perls/perl-5.20.3/bin:src/njh/smoker/bin:/Users/hornenj/homebrew/bin:/Users/hornenj/bin:/usr/bin:/bin:/usr/X11R6/bin:/sw/bin
    PERL5LIB = /Users/hornenj/.cpan/build/Term-Choose-1.632-0/blib/arch:/Users/hornenj/.cpan/build/Term-Choose-1.632-0/blib/lib:/Users/hornenj/.cpan/build/Term-Choose-1.631-7/blib/arch:/Users/hornenj/.cpan/build/Term-Choose-1.631-7/blib/lib:/Users/hornenj/.cpan/build/App-BitBucketCli-0.007-15/blib/arch:/Users/hornenj/.cpan/build/App-BitBucketCli-0.007-15/blib/lib:/Users/hornenj/.cpan/build/Getopt-Alt-v0.4.8-15/blib/arch:/Users/hornenj/.cpan/build/Getopt-Alt-v0.4.8-15/blib/lib:/Users/hornenj/.cpan/build/Tie-Handle-Scalar-0.1-15/blib/arch:/Users/hornenj/.cpan/build/Tie-Handle-Scalar-0.1-15/blib/lib:/Users/hornenj/.cpan/build/Throwable-0.200013-15/blib/arch:/Users/hornenj/.cpan/build/Throwable-0.200013-15/blib/lib:/Users/hornenj/.cpan/build/Config-Any-0.32-15/blib/arch:/Users/hornenj/.cpan/build/Config-Any-0.32-15/blib/lib:/Users/hornenj/.cpan/build/Event-1.27-15/blib/arch:/Users/hornenj/.cpan/build/Event-1.27-15/blib/lib:/Users/hornenj/.cpan/build/Directory-Diff-0.08-15/blib/arch:/Users/hornenj/.cpan/build/Directory-Diff-0.08-15/blib/lib
    PERL5OPT = 
    PERL5_CPANPLUS_IS_RUNNING = 14820
    PERL5_CPAN_IS_RUNNING = 14820
    PERLBREW_HOME = /Users/hornenj/.perlbrew
    PERLBREW_MANPATH = /Users/hornenj/perl5/perlbrew/perls/perl-5.20.3/man
    PERLBREW_PATH = /Users/hornenj/perl5/perlbrew/bin:/Users/hornenj/perl5/perlbrew/perls/perl-5.20.3/bin
    PERLBREW_PERL = perl-5.20.3
    PERLBREW_ROOT = /Users/hornenj/perl5/perlbrew
    PERLBREW_SHELLRC_VERSION = 0.84
    PERLBREW_VERSION = 0.84
    PERL_MM_USE_DEFAULT = 1
    SHELL = /bin/bash
    TERM = xterm-256color
    TMPDIR = /var/folders/pz/pd7y1qjs6s3cbk170cw50fjc000c61/T//testwrapper.14806
    VERSIONER_PERL_PREFER_32_BIT = no
    VERSIONER_PERL_VERSION = 5.18

Perl special variables (and OS-specific diagnostics, for MSWin32):

    $^X = /Users/hornenj/perl5/perlbrew/perls/perl-5.20.3/bin/perl
    $UID/$EUID = 12481 / 12481
    $GID = 14 14 206 5344 37191 527 12 62 98 204 399 37223 241 223 100
    $EGID = 14 14 206 5344 37191 527 12 62 98 204 399 37223 241 223 100

Perl module toolchain versions installed:

    Module              Have    
    ------------------- --------
    CPAN                2.16    
    CPAN::Meta          2.150010
    Cwd                 3.75    
    ExtUtils::CBuilder  0.280224
    ExtUtils::Command   7.34    
    ExtUtils::Install   2.06    
    ExtUtils::MakeMaker 7.34    
    ExtUtils::Manifest  1.70    
    ExtUtils::ParseXS   3.30    
    File::Spec          3.75    
    JSON                2.97001 
    JSON::PP            2.27400 
    Module::Build       0.4220  
    Module::Signature   n/a     
    Parse::CPAN::Meta   2.150010
    Test::Harness       3.36    
    Test::More          1.302106
    YAML                1.26    
    YAML::Syck          1.30    
    version             0.9917  


--

Summary of my perl5 (revision 5 version 20 subversion 3) configuration:
   
  Platform:
    osname=darwin, osvers=14.5.0, archname=darwin-thread-multi-2level
    uname='darwin ncbimac2027.ncbi.nlm.nih.gov 14.5.0 darwin kernel version 14.5.0: wed jul 29 02:26:53 pdt 2015; root:xnu-2782.40.9~1release_x86_64 x86_64 '
    config_args='-de -Dprefix=/Users/hornenj/perl5/perlbrew/perls/perl-5.20.3 -Duseithreads -Dusemultiplicity -Dusedevel -Accflags=-O2 -W -Wformat=2 -Wswitch -Wshadow -Wwrite-strings -Wuninitialized -Wall -pipe -mtune=native -march=native -fomit-frame-pointer -msse2 -msse -mmmx -pedantic -D_FORTIFY_SOURCE=2 -Wpointer-arith -Wstrict-prototypes -fstack-protector -Wstack-protector -Wextra -Wbad-function-cast -Wcast-align -Wcast-qual -Wdisabled-optimization -Wendif-labels -Wfloat-equal -Wformat-nonliteral -Winline -Wmissing-declarations -Wmissing-prototypes -Wnested-externs -Wpointer-arith -Wundef -Wformat-security -fassociative-math -Acc=cc -Aeval:scriptdir=/Users/hornenj/perl5/perlbrew/perls/perl-5.20.3/bin'
    hint=recommended, useposix=true, d_sigaction=define
    useithreads=define, usemultiplicity=define
    use64bitint=define, use64bitall=define, uselongdouble=undef
    usemymalloc=n, bincompat5005=undef
  Compiler:
    cc=' cc', ccflags ='-fno-common -DPERL_DARWIN -O2 -W -Wformat=2 -Wswitch -Wshadow -Wwrite-strings -Wuninitialized -Wall -pipe -mtune=native -march=native -fomit-frame-pointer -msse2 -msse -mmmx -pedantic -D_FORTIFY_SOURCE=2 -Wpointer-arith -Wstrict-prototypes -fstack-protector -Wstack-protector -Wextra -Wbad-function-cast -Wcast-align -Wcast-qual -Wdisabled-optimization -Wendif-labels -Wfloat-equal -Wformat-nonliteral -Winline -Wmissing-declarations -Wmissing-prototypes -Wnested-externs -Wpointer-arith -Wundef -Wformat-security -fassociative-math -fno-strict-aliasing -I/usr/local/include',
    optimize='-O3',
    cppflags='-fno-common -DPERL_DARWIN -O2 -W -Wformat=2 -Wswitch -Wshadow -Wwrite-strings -Wuninitialized -Wall -pipe -mtune=native -march=native -fomit-frame-pointer -msse2 -msse -mmmx -pedantic -D_FORTIFY_SOURCE=2 -Wpointer-arith -Wstrict-prototypes -fstack-protector -Wstack-protector -Wextra -Wbad-function-cast -Wcast-align -Wcast-qual -Wdisabled-optimization -Wendif-labels -Wfloat-equal -Wformat-nonliteral -Winline -Wmissing-declarations -Wmissing-prototypes -Wnested-externs -Wpointer-arith -Wundef -Wformat-security -fassociative-math -fno-strict-aliasing -I/usr/local/include'
    ccversion='', gccversion='4.2.1 Compatible Apple LLVM 6.0 (clang-600.0.56)', gccosandvers=''
    intsize=4, longsize=8, ptrsize=8, doublesize=8, byteorder=12345678
    d_longlong=define, longlongsize=8, d_longdbl=define, longdblsize=16
    ivtype='long', ivsize=8, nvtype='double', nvsize=8, Off_t='off_t', lseeksize=8
    alignbytes=8, prototype=define
  Linker and Libraries:
    ld='env MACOSX_DEPLOYMENT_TARGET=10.3 cc', ldflags =' -fstack-protector -L/usr/local/lib'
    libpth=/Applications/Xcode.app/Contents/Developer/Toolchains/XcodeDefault.xctoolchain/usr/bin/../lib/clang/6.0/lib /Applications/Xcode.app/Contents/Developer/Toolchains/XcodeDefault.xctoolchain/usr/lib /Applications/Xcode.app/Contents/Developer/Platforms/MacOSX.platform/Developer/SDKs/MacOSX10.10.sdk/usr/lib /usr/local/lib /usr/lib
    libs=-lpthread -ldbm -ldl -lm -lutil -lc
    perllibs=-lpthread -ldl -lm -lutil -lc
    libc=, so=dylib, useshrplib=false, libperl=libperl.a
    gnulibc_version=''
  Dynamic Linking:
    dlsrc=dl_dlopen.xs, dlext=bundle, d_dlsymun=undef, ccdlflags=' '
    cccdlflags=' ', lddlflags=' -bundle -undefined dynamic_lookup -L/usr/local/lib -fstack-protector'


Characteristics of this binary (from libperl): 
  Compile-time options: HAS_TIMES MULTIPLICITY PERLIO_LAYERS
                        PERL_DONT_CREATE_GVSV
                        PERL_HASH_FUNC_ONE_AT_A_TIME_HARD
                        PERL_IMPLICIT_CONTEXT PERL_MALLOC_WRAP
                        PERL_NEW_COPY_ON_WRITE PERL_PRESERVE_IVUV
                        PERL_USE_DEVEL USE_64_BIT_ALL USE_64_BIT_INT
                        USE_ITHREADS USE_LARGE_FILES USE_LOCALE
                        USE_LOCALE_COLLATE USE_LOCALE_CTYPE
                        USE_LOCALE_NUMERIC USE_PERLIO USE_PERL_ATOF
                        USE_REENTRANT_API
  Locally applied patches:
	Devel::PatchPerl 1.30
  Built under darwin
  Compiled at Sep 14 2015 07:51:22
  %ENV:
    PERL5LIB="/Users/hornenj/.cpan/build/Term-Choose-1.632-0/blib/arch:/Users/hornenj/.cpan/build/Term-Choose-1.632-0/blib/lib:/Users/hornenj/.cpan/build/Term-Choose-1.631-7/blib/arch:/Users/hornenj/.cpan/build/Term-Choose-1.631-7/blib/lib:/Users/hornenj/.cpan/build/App-BitBucketCli-0.007-15/blib/arch:/Users/hornenj/.cpan/build/App-BitBucketCli-0.007-15/blib/lib:/Users/hornenj/.cpan/build/Getopt-Alt-v0.4.8-15/blib/arch:/Users/hornenj/.cpan/build/Getopt-Alt-v0.4.8-15/blib/lib:/Users/hornenj/.cpan/build/Tie-Handle-Scalar-0.1-15/blib/arch:/Users/hornenj/.cpan/build/Tie-Handle-Scalar-0.1-15/blib/lib:/Users/hornenj/.cpan/build/Throwable-0.200013-15/blib/arch:/Users/hornenj/.cpan/build/Throwable-0.200013-15/blib/lib:/Users/hornenj/.cpan/build/Config-Any-0.32-15/blib/arch:/Users/hornenj/.cpan/build/Config-Any-0.32-15/blib/lib:/Users/hornenj/.cpan/build/Event-1.27-15/blib/arch:/Users/hornenj/.cpan/build/Event-1.27-15/blib/lib:/Users/hornenj/.cpan/build/Directory-Diff-0.08-15/blib/arch:/Users/hornenj/.cpan/build/Directory-Diff-0.08-15/blib/lib"
    PERL5OPT=""
    PERL5_CPANPLUS_IS_RUNNING="14820"
    PERL5_CPAN_IS_RUNNING="14820"
    PERLBREW_HOME="/Users/hornenj/.perlbrew"
    PERLBREW_MANPATH="/Users/hornenj/perl5/perlbrew/perls/perl-5.20.3/man"
    PERLBREW_PATH="/Users/hornenj/perl5/perlbrew/bin:/Users/hornenj/perl5/perlbrew/perls/perl-5.20.3/bin"
    PERLBREW_PERL="perl-5.20.3"
    PERLBREW_ROOT="/Users/hornenj/perl5/perlbrew"
    PERLBREW_SHELLRC_VERSION="0.84"
    PERLBREW_VERSION="0.84"
    PERL_MM_USE_DEFAULT="1"
  @INC:
    /Users/hornenj/.cpan/build/Term-Choose-1.632-0/blib/arch
    /Users/hornenj/.cpan/build/Term-Choose-1.632-0/blib/lib
    /Users/hornenj/.cpan/build/Term-Choose-1.631-7/blib/arch
    /Users/hornenj/.cpan/build/Term-Choose-1.631-7/blib/lib
    /Users/hornenj/.cpan/build/App-BitBucketCli-0.007-15/blib/arch
    /Users/hornenj/.cpan/build/App-BitBucketCli-0.007-15/blib/lib
    /Users/hornenj/.cpan/build/Getopt-Alt-v0.4.8-15/blib/arch
    /Users/hornenj/.cpan/build/Getopt-Alt-v0.4.8-15/blib/lib
    /Users/hornenj/.cpan/build/Tie-Handle-Scalar-0.1-15/blib/arch
    /Users/hornenj/.cpan/build/Tie-Handle-Scalar-0.1-15/blib/lib
    /Users/hornenj/.cpan/build/Throwable-0.200013-15/blib/arch
    /Users/hornenj/.cpan/build/Throwable-0.200013-15/blib/lib
    /Users/hornenj/.cpan/build/Config-Any-0.32-15/blib/arch
    /Users/hornenj/.cpan/build/Config-Any-0.32-15/blib/lib
    /Users/hornenj/.cpan/build/Event-1.27-15/blib/arch
    /Users/hornenj/.cpan/build/Event-1.27-15/blib/lib
    /Users/hornenj/.cpan/build/Directory-Diff-0.08-15/blib/arch
    /Users/hornenj/.cpan/build/Directory-Diff-0.08-15/blib/lib
    /Users/hornenj/perl5/perlbrew/perls/perl-5.20.3/lib/site_perl/5.20.3/darwin-thread-multi-2level
    /Users/hornenj/perl5/perlbrew/perls/perl-5.20.3/lib/site_perl/5.20.3
    /Users/hornenj/perl5/perlbrew/perls/perl-5.20.3/lib/5.20.3/darwin-thread-multi-2level
    /Users/hornenj/perl5/perlbrew/perls/perl-5.20.3/lib/5.20.3
    .