Report for HTML-FormFu-MultiForm-1.02

Back
From: metabase:user:320bfe00-2aae-11df-837a-5e0a49663a4f
Subject: PASS HTML-FormFu-MultiForm-1.02 v5.26.0 GNU/Linux
Date: 2017-07-24T20:30:37Z

This distribution has been tested as part of the CPAN Testers
project, supporting the Perl programming language.  See
http://wiki.cpantesters.org/ for more information or email
questions to cpan-testers-discuss@perl.org


--
Dear Nigel Metheringham,

This is a computer-generated report for HTML-FormFu-MultiForm-1.02
on perl 5.26.0, created by CPAN-Reporter-1.2018.

Thank you for uploading your work to CPAN.  Congratulations!
All tests were successful.

Sections of this report:

    * Tester comments
    * Program output
    * Prerequisites
    * Environment and other context

------------------------------
TESTER COMMENTS
------------------------------

Additional comments from tester:

this report is from an automated smoke testing program
and was not reviewed by a human for accuracy

------------------------------
PROGRAM OUTPUT
------------------------------

Output from '/usr/bin/make test':

PERL_DL_NONLAZY=1 "/home/sand/src/perl/repoperls/installed-perls/host/k93msid/v5.26.0/5ea4/bin/perl" "-MExtUtils::Command::MM" "-MTest::Harness" "-e" "undef *Test::Harness::Switches; test_harness(0, 'blib/lib', 'blib/arch')" t/*.t t/multiform-misc/*.t t/multiform-nested-name/*.t t/multiform-no-combine/*.t t/multiform/*.t t/multiform_hidden_name/*.t
# 
# Versions for all modules listed in MYMETA.json (including optional ones):
# 
# === Configure Requires ===
# 
#     Module              Want Have
#     ------------------- ---- ----
#     ExtUtils::MakeMaker  any 7.28
# 
# === Build Requires ===
# 
#     Module              Want Have
#     ------------------- ---- ----
#     ExtUtils::MakeMaker  any 7.28
# 
# === Test Requires ===
# 
#     Module                                            Want     Have
#     ------------------------------------------------- ---- --------
#     Code::TidyAll::Plugin::Perl::AlignMooseAttributes  any     0.01
#     Cwd                                                any     3.67
#     ExtUtils::MakeMaker                                any     7.28
#     Fatal                                              any     2.29
#     File::Spec                                         any     3.67
#     Pod::Coverage::TrustPod                            any 0.100003
#     Pod::Tidy                                          any     0.10
#     Test::CPAN::Meta                                   any     0.25
#     Test::Differences                                  any     0.64
#     Test::EOL                                          any     2.00
#     Test::Kwalitee                                    1.21     1.26
#     Test::Memory::Cycle                                any     1.06
#     Test::More                                        0.92 1.302088
#     Test::NoTabs                                       any     2.00
#     Test::PAUSE::Permissions                           any     0.06
#     Test::Pod                                         1.41     1.51
#     Test::Pod::Coverage                               1.08     1.10
#     YAML::XS                                           any     0.65
#     warnings                                           any     1.37
# 
# === Test Recommends ===
# 
#     Module         Want     Have
#     ---------- -------- --------
#     CPAN::Meta 2.120900 2.150010
# 
# === Runtime Requires ===
# 
#     Module                                       Want   Have
#     -------------------------------------------- ---- ------
#     Carp                                          any   1.42
#     Clone                                         any   0.39
#     Crypt::CBC                                    any   2.33
#     Crypt::DES                                    any   2.07
#     HTML::FormFu                                  any   2.05
#     HTML::FormFu::Attribute                       any   2.05
#     HTML::FormFu::ObjectUtil                      any   2.05
#     HTML::FormFu::QueryType::CGI                  any   2.05
#     HTML::FormFu::Role::FormAndElementMethods     any   2.05
#     HTML::FormFu::Role::FormBlockAndFieldMethods  any   2.05
#     HTML::FormFu::Role::NestedHashUtils           any   2.05
#     HTML::FormFu::Role::Populate                  any   2.05
#     List::MoreUtils                               any  0.419
#     Moose                                         any 2.2005
#     MooseX::Attribute::Chained                    any  1.0.3
#     Scalar::Util                                  any   1.48
#     Storable                                      any   2.62
#     overload                                      any   1.28
#     strict                                        any   1.11
# 
t/00-report-prereqs.t ........................ ok
t/multiform-misc-file-client-side.t .......... skipped: CGI tmp_upload_dir functionality makes this unusable on modern versions
t/multiform-misc/accessors.t ................. ok
t/multiform-misc/file-server-side.t .......... skipped: CGI tmp_upload_dir functionality makes this unusable on modern versions
t/multiform-nested-name/0_render_page_1.t .... ok
t/multiform-nested-name/1_submit_page_1.t .... ok
t/multiform-nested-name/2_render_page_2.t .... ok
t/multiform-nested-name/3_submit_page_2.t .... ok
t/multiform-nested-name/4_complete_page_3.t .. ok
t/multiform-no-combine/0_render_page_1.t ..... ok
t/multiform-no-combine/1_submit_page_1.t ..... ok
t/multiform-no-combine/2_render_page_2.t ..... ok
t/multiform-no-combine/3_submit_page_2.t ..... ok
t/multiform-no-combine/4_complete_page_3.t ... ok
t/multiform/0_render_page_1.t ................ ok
t/multiform/1_submit_page_1.t ................ ok
t/multiform/2_render_page_2.t ................ ok
t/multiform/3_submit_page_2.t ................ ok
t/multiform/4_complete_page_3.t .............. ok
t/multiform_hidden_name/0_render_page_1.t .... ok
t/multiform_hidden_name/1_submit_page_1.t .... ok
t/multiform_hidden_name/2_render_page_2.t .... ok
t/multiform_hidden_name/3_submit_page_2.t .... ok
t/multiform_hidden_name/4_complete_page_3.t .. ok
All tests successful.
Files=24, Tests=111, 44 wallclock secs ( 0.07 usr  0.13 sys + 17.66 cusr  2.00 csys = 19.86 CPU)
Result: PASS

------------------------------
PREREQUISITES
------------------------------

Prerequisite modules loaded:

requires:

    Module                                            Need Have    
    ------------------------------------------------- ---- --------
    Carp                                              0    1.42    
    Clone                                             0    0.39    
    Crypt::CBC                                        0    2.33    
    Crypt::DES                                        0    2.07    
    HTML::FormFu                                      0    2.05    
    HTML::FormFu::Attribute                           0    2.05    
    HTML::FormFu::ObjectUtil                          0    2.05    
    HTML::FormFu::QueryType::CGI                      0    2.05    
    HTML::FormFu::Role::FormAndElementMethods         0    2.05    
    HTML::FormFu::Role::FormBlockAndFieldMethods      0    2.05    
    HTML::FormFu::Role::NestedHashUtils               0    2.05    
    HTML::FormFu::Role::Populate                      0    2.05    
    List::MoreUtils                                   0    0.419   
    Moose                                             0    2.2005  
    MooseX::Attribute::Chained                        0    1.0.3   
    overload                                          0    1.28    
    Scalar::Util                                      0    1.48    
    Storable                                          0    2.62    
    strict                                            0    1.11    

build_requires:

    Module                                            Need Have    
    ------------------------------------------------- ---- --------
    Code::TidyAll::Plugin::Perl::AlignMooseAttributes 0    0.01    
    Cwd                                               0    3.67    
    ExtUtils::MakeMaker                               0    7.28    
    Fatal                                             0    2.29    
    File::Spec                                        0    3.67    
    Pod::Coverage::TrustPod                           0    0.100003
    Pod::Tidy                                         0    0.10    
    Test::CPAN::Meta                                  0    0.25    
    Test::Differences                                 0    0.64    
    Test::EOL                                         0    2.00    
    Test::Kwalitee                                    1.21 1.26    
    Test::Memory::Cycle                               0    1.06    
    Test::More                                        0.92 1.302088
    Test::NoTabs                                      0    2.00    
    Test::PAUSE::Permissions                          0    0.06    
    Test::Pod                                         1.41 1.51    
    Test::Pod::Coverage                               1.08 1.10    
    warnings                                          0    1.37    
    YAML::XS                                          0    0.65    

configure_requires:

    Module                                            Need Have    
    ------------------------------------------------- ---- --------
    ExtUtils::MakeMaker                               0    7.28    


------------------------------
ENVIRONMENT AND OTHER CONTEXT
------------------------------

Environment variables:

    AUTOMATED_TESTING = 1
    LANG = en_US.UTF-8
    PATH = /home/sand/bin:/usr/local/bin:/usr/bin:/bin:/usr/games:/usr/local/perl/bin:/usr/X11/bin:/sbin:/usr/sbin
    PERL5LIB = 
    PERL5OPT = 
    PERL5_CPANPLUS_IS_RUNNING = 17584
    PERL5_CPAN_IS_RUNNING = 17584
    PERL_CANARY_STABILITY_NOPROMPT = 1
    PERL_MM_USE_DEFAULT = 1
    PERL_USE_UNSAFE_INC = 1
    SHELL = /usr/bin/zsh
    TERM = screen

Perl special variables (and OS-specific diagnostics, for MSWin32):

    $^X = /home/sand/src/perl/repoperls/installed-perls/host/k93msid/v5.26.0/5ea4/bin/perl
    $UID/$EUID = 1005 / 1005
    $GID = 1005 1005
    $EGID = 1005 1005

Perl module toolchain versions installed:

    Module              Have      
    ------------------- ----------
    CPAN                2.18      
    CPAN::Meta          2.150010  
    Cwd                 3.67      
    ExtUtils::CBuilder  0.280225  
    ExtUtils::Command   7.28      
    ExtUtils::Install   2.14      
    ExtUtils::MakeMaker 7.28      
    ExtUtils::Manifest  1.70      
    ExtUtils::ParseXS   3.34      
    File::Spec          3.67      
    JSON                2.94      
    JSON::PP            2.27400_02
    Module::Build       0.4224    
    Module::Signature   0.81      
    Parse::CPAN::Meta   2.150010  
    Test::Harness       3.40_01   
    Test::More          1.302088  
    YAML                1.23      
    YAML::Syck          1.30      
    version             0.9917    


--

Summary of my perl5 (revision 5 version 26 subversion 0) configuration:
  Commit id: 95388f2eb27e74cdbfb715c0097f16aeba4e6e4e
  Platform:
    osname=linux
    osvers=4.9.0-2-amd64
    archname=x86_64-linux-thread-multi-ld
    uname='linux k93msid 4.9.0-2-amd64 #1 smp debian 4.9.18-1 (2017-03-30) x86_64 gnulinux '
    config_args='-Dprefix=/home/sand/src/perl/repoperls/installed-perls/host/k93msid/v5.26.0/5ea4 -Dmyhostname=k93msid -Dinstallusrbinperl=n -Uversiononly -Dusedevel -des -Ui_db -Dlibswanted=cl pthread socket inet nsl gdbm dbm malloc dl ld sun m crypt sec util c cposix posix ucb BSD gdbm_compat -Duseithreads -Duselongdouble -DDEBUGGING=-g'
    hint=recommended
    useposix=true
    d_sigaction=define
    useithreads=define
    usemultiplicity=define
    use64bitint=define
    use64bitall=define
    uselongdouble=define
    usemymalloc=n
    default_inc_excludes_dot=define
    bincompat5005=undef
  Compiler:
    cc='cc'
    ccflags ='-D_REENTRANT -D_GNU_SOURCE -fwrapv -fno-strict-aliasing -pipe -fstack-protector-strong -I/usr/local/include -D_LARGEFILE_SOURCE -D_FILE_OFFSET_BITS=64'
    optimize='-O2 -g'
    cppflags='-D_REENTRANT -D_GNU_SOURCE -fwrapv -fno-strict-aliasing -pipe -fstack-protector-strong -I/usr/local/include'
    ccversion=''
    gccversion='6.3.0 20170406'
    gccosandvers=''
    intsize=4
    longsize=8
    ptrsize=8
    doublesize=8
    byteorder=12345678
    doublekind=3
    d_longlong=define
    longlongsize=8
    d_longdbl=define
    longdblsize=16
    longdblkind=3
    ivtype='long'
    ivsize=8
    nvtype='long double'
    nvsize=16
    Off_t='off_t'
    lseeksize=8
    alignbytes=16
    prototype=define
  Linker and Libraries:
    ld='cc'
    ldflags =' -fstack-protector-strong -L/usr/local/lib'
    libpth=/usr/local/lib /usr/lib/gcc/x86_64-linux-gnu/6/include-fixed /usr/include/x86_64-linux-gnu /usr/lib /lib/x86_64-linux-gnu /lib/../lib /usr/lib/x86_64-linux-gnu /usr/lib/../lib /lib
    libs=-lpthread -lnsl -ldl -lm -lcrypt -lutil -lc
    perllibs=-lpthread -lnsl -ldl -lm -lcrypt -lutil -lc
    libc=libc-2.24.so
    so=so
    useshrplib=false
    libperl=libperl.a
    gnulibc_version='2.24'
  Dynamic Linking:
    dlsrc=dl_dlopen.xs
    dlext=so
    d_dlsymun=undef
    ccdlflags='-Wl,-E'
    cccdlflags='-fPIC'
    lddlflags='-shared -O2 -g -L/usr/local/lib -fstack-protector-strong'


Characteristics of this binary (from libperl): 
  Compile-time options:
    HAS_TIMES
    MULTIPLICITY
    PERLIO_LAYERS
    PERL_COPY_ON_WRITE
    PERL_DONT_CREATE_GVSV
    PERL_IMPLICIT_CONTEXT
    PERL_MALLOC_WRAP
    PERL_OP_PARENT
    PERL_PRESERVE_IVUV
    PERL_USE_DEVEL
    USE_64_BIT_ALL
    USE_64_BIT_INT
    USE_ITHREADS
    USE_LARGE_FILES
    USE_LOCALE
    USE_LOCALE_COLLATE
    USE_LOCALE_CTYPE
    USE_LOCALE_NUMERIC
    USE_LOCALE_TIME
    USE_LONG_DOUBLE
    USE_PERLIO
    USE_PERL_ATOF
    USE_REENTRANT_API
  Built under linux
  Compiled at May 31 2017 05:51:53
  %ENV:
    PERL5LIB=""
    PERL5OPT=""
    PERL5_CPANPLUS_IS_RUNNING="17584"
    PERL5_CPAN_IS_RUNNING="17584"
    PERL_CANARY_STABILITY_NOPROMPT="1"
    PERL_MM_USE_DEFAULT="1"
    PERL_USE_UNSAFE_INC="1"
  @INC:
    /home/sand/src/perl/repoperls/installed-perls/host/k93msid/v5.26.0/5ea4/lib/site_perl/5.26.0/x86_64-linux-thread-multi-ld
    /home/sand/src/perl/repoperls/installed-perls/host/k93msid/v5.26.0/5ea4/lib/site_perl/5.26.0
    /home/sand/src/perl/repoperls/installed-perls/host/k93msid/v5.26.0/5ea4/lib/5.26.0/x86_64-linux-thread-multi-ld
    /home/sand/src/perl/repoperls/installed-perls/host/k93msid/v5.26.0/5ea4/lib/5.26.0
    .