Report for Web-Query-0.36

Back
From: metabase:user:31d414ea-2aae-11df-837a-5e0a49663a4f
Subject: PASS Web-Query-0.36 v5.10.1 GNU/Linux
Date: 2016-07-01T13:08:49Z

This distribution has been tested as part of the CPAN Testers
project, supporting the Perl programming language.  See
http://wiki.cpantesters.org/ for more information or email
questions to cpan-testers-discuss@perl.org


--
Dear Yanick Champoux,

This is a computer-generated report for Web-Query-0.36
on perl 5.10.1, created by CPAN-Reporter-1.2014.

Thank you for uploading your work to CPAN.  Congratulations!
All tests were successful.

Sections of this report:

    * Tester comments
    * Program output
    * Prerequisites
    * Environment and other context

------------------------------
TESTER COMMENTS
------------------------------

Additional comments from tester:

this report is from an automated smoke testing program
and was not reviewed by a human for accuracy

------------------------------
PROGRAM OUTPUT
------------------------------

Output from '/usr/bin/make test':

PERL_DL_NONLAZY=1 "/home/david/cpantesting/perl-5.10.1/bin/perl" "-MExtUtils::Command::MM" "-MTest::Harness" "-e" "undef *Test::Harness::Switches; test_harness(0, 'blib/lib', 'blib/arch')" t/*.t
t/00-compile.t ...................... ok
# 
# Versions for all modules listed in MYMETA.json (including optional ones):
# 
# === Configure Requires ===
# 
#     Module              Want Have
#     ------------------- ---- ----
#     ExtUtils::MakeMaker  any 7.04
# 
# === Build Requires ===
# 
#     Module              Want Have
#     ------------------- ---- ----
#     ExtUtils::MakeMaker  any 7.04
# 
# === Test Requires ===
# 
#     Module              Want     Have
#     ------------------- ---- --------
#     Cwd                  any     3.30
#     ExtUtils::MakeMaker  any     7.04
#     File::Spec           any     3.30
#     FindBin              any     1.50
#     IO::Handle           any     1.28
#     IPC::Open3           any     1.04
#     Test::Exception      any     0.43
#     Test::More           any 1.302035
#     lib                  any     0.62
#     utf8                 any     1.07
# 
# === Test Recommends ===
# 
#     Module         Want     Have
#     ---------- -------- --------
#     CPAN::Meta 2.120900 2.150005
# 
# === Runtime Requires ===
# 
#     Module                    Want  Have
#     ------------------------- ---- -----
#     Exporter                   any  5.63
#     HTML::Entities             any  3.69
#     HTML::Selector::XPath     0.06  0.20
#     HTML::TreeBuilder::LibXML  any  0.25
#     HTML::TreeBuilder::XPath   any  0.14
#     LWP::UserAgent             any  6.15
#     List::Util                 any  1.45
#     Scalar::Util               any  1.45
#     parent                     any 0.234
#     strict                     any  1.04
#     warnings                   any  1.06
# 
t/00-report-prereqs.t ............... ok
t/00_compile.t ...................... ok
# testing Web::Query
# testing Web::Query::LibXML
t/01_src.t .......................... ok
# testing Web::Query
# testing Web::Query::LibXML
t/02_op.t ........................... ok
# testing Web::Query
# testing Web::Query::LibXML
t/03_traverse.t ..................... ok
# testing Web::Query
# testing Web::Query::LibXML
t/04_element.t ...................... ok
# testing Web::Query
# testing Web::Query::LibXML
t/05_html5.t ........................ ok
t/06_new_from_url_error_handling.t .. ok
# testing Web::Query
# testing Web::Query::LibXML
t/07_remove.t ....................... ok
t/08_indent.t ....................... ok
# testing Web::Query
# testing Web::Query::LibXML
t/09_as_html.t ...................... ok
t/10_subclass.t ..................... ok
# testing Web::Query
# testing Web::Query::LibXML
t/11_get_eq.t ....................... ok
# testing Web::Query
# testing Web::Query::LibXML
t/add.t ............................. ok
# testing Web::Query
# testing Web::Query::LibXML
t/after.t ........................... ok
# testing Web::Query
# testing Web::Query::LibXML
t/append.t .......................... ok
# testing Web::Query
# testing Web::Query::LibXML
t/attr.t ............................ ok
t/bad-url-with-options.t ............ ok
# testing Web::Query
# testing Web::Query::LibXML
t/before.t .......................... ok
t/bug-text-contents.t ............... ok
t/class.t ........................... ok
# testing Web::Query
# testing Web::Query::LibXML
t/clone.t ........................... ok
# testing Web::Query
# testing Web::Query::LibXML
t/contents.t ........................ ok
# testing Web::Query
# testing Web::Query::LibXML
t/detach.t .......................... ok
t/filter.t .......................... ok
# testing Web::Query
# testing Web::Query::LibXML
t/find.t ............................ ok
# testing Web::Query
# testing Web::Query::LibXML
t/has_class.t ....................... ok
# testing Web::Query
# testing Web::Query::LibXML
t/insert_after.t .................... ok
# testing Web::Query
# testing Web::Query::LibXML
t/insert_before.t ................... ok
t/match_and_not.t ................... ok
t/new.t ............................. ok
# testing Web::Query
# testing Web::Query::LibXML
t/next.t ............................ ok
# testing Web::Query
# testing Web::Query::LibXML
t/next_until.t ...................... ok
t/no_space_compacting.t ............. ok
t/node-types.t ...................... ok
# testing Web::Query
# testing Web::Query::LibXML
t/prepend.t ......................... ok
# testing Web::Query
# testing Web::Query::LibXML
t/prev.t ............................ ok
t/processing-instructions.t ......... ok
t/remove.t .......................... ok
# testing Web::Query
# testing Web::Query::LibXML
t/remove_class.t .................... ok
t/replace_with.t .................... ok
t/special-attributes.t .............. ok
t/split.t ........................... ok
# testing Web::Query
# testing Web::Query::LibXML
t/store_comments.t .................. ok
t/tagname.t ......................... ok
t/xpath.t ........................... ok
All tests successful.
Files=47, Tests=207, 10 wallclock secs ( 0.13 usr  0.18 sys +  4.09 cusr  0.61 csys =  5.01 CPU)
Result: PASS

------------------------------
PREREQUISITES
------------------------------

Prerequisite modules loaded:

requires:

    Module                    Need     Have    
    ------------------------- -------- --------
    Exporter                  0        5.63    
    HTML::Entities            0        3.69    
    HTML::Selector::XPath     0.06     0.20    
    HTML::TreeBuilder::LibXML 0        0.25    
    HTML::TreeBuilder::XPath  0        0.14    
    List::Util                0        1.45    
    LWP::UserAgent            0        6.15    
    parent                    0        0.234   
    perl                      5.008005 5.010001
    Scalar::Util              0        1.45    
    strict                    0        1.04    
    warnings                  0        1.06    

build_requires:

    Module                    Need     Have    
    ------------------------- -------- --------
    Cwd                       0        3.30    
    ExtUtils::MakeMaker       0        7.04    
    File::Spec                0        3.30    
    FindBin                   0        1.50    
    IO::Handle                0        1.28    
    IPC::Open3                0        1.04    
    lib                       0        0.62    
    Test::Exception           0        0.43    
    Test::More                0        1.302035
    utf8                      0        1.07    

configure_requires:

    Module                    Need     Have    
    ------------------------- -------- --------
    ExtUtils::MakeMaker       0        7.04    


------------------------------
ENVIRONMENT AND OTHER CONTEXT
------------------------------

Environment variables:

    AUTOMATED_TESTING = 1
    NONINTERACTIVE_TESTING = 1
    PATH = /usr/local/bin:/usr/bin:/bin:/usr/games
    PERL = 5.10.1
    PERL5LIB = 
    PERL5OPT = 
    PERL5_CPANPLUS_IS_RUNNING = 27008
    PERL5_CPAN_IS_RUNNING = 27008
    PERLVER = 5.10.1
    PERL_INLINE_DIRECTORY = /home/david/.Inline-5.10.1
    PERL_MM_USE_DEFAULT = 1
    SHELL = /bin/bash
    TERM = screen

Perl special variables (and OS-specific diagnostics, for MSWin32):

    $^X = /home/david/cpantesting/perl-5.10.1/bin/perl
    $UID/$EUID = 1000 / 1000
    $GID = 1000 1000
    $EGID = 1000 1000

Perl module toolchain versions installed:

    Module              Have    
    ------------------- --------
    CPAN                2.10    
    CPAN::Meta          2.150005
    Cwd                 3.30    
    ExtUtils::CBuilder  0.2703  
    ExtUtils::Command   1.16    
    ExtUtils::Install   1.54    
    ExtUtils::MakeMaker 7.04    
    ExtUtils::Manifest  1.65    
    ExtUtils::ParseXS   3.30    
    File::Spec          3.30    
    JSON                2.27    
    JSON::PP            2.27400 
    Module::Build       0.4218  
    Module::Signature   0.80    
    Parse::CPAN::Meta   1.4421  
    Test::Harness       3.36    
    Test::More          1.302035
    YAML                1.15    
    YAML::Syck          1.29    
    version             0.9917  


--

Summary of my perl5 (revision 5 version 10 subversion 1) configuration:
   
  Platform:
    osname=linux, osvers=2.6.18-4-xen-amd64, archname=x86_64-linux-thread-multi
    uname='linux pigsty.barnyard.co.uk 2.6.18-4-xen-amd64 #1 smp fri may 4 02:40:51 utc 2007 x86_64 gnulinux '
    config_args='-de -Duse64bitall -Dusethreads -Dprefix=/home/david/cpantesting/perl-5.10.1'
    hint=recommended, useposix=true, d_sigaction=define
    useithreads=define, usemultiplicity=define
    useperlio=define, d_sfio=undef, uselargefiles=define, usesocks=undef
    use64bitint=define, use64bitall=define, uselongdouble=undef
    usemymalloc=n, bincompat5005=undef
  Compiler:
    cc='cc', ccflags ='-D_REENTRANT -D_GNU_SOURCE -fno-strict-aliasing -pipe -fstack-protector -I/usr/local/include -D_LARGEFILE_SOURCE -D_FILE_OFFSET_BITS=64',
    optimize='-O2',
    cppflags='-D_REENTRANT -D_GNU_SOURCE -fno-strict-aliasing -pipe -fstack-protector -I/usr/local/include'
    ccversion='', gccversion='4.1.2 20061115 (prerelease) (Debian 4.1.1-21)', gccosandvers=''
    intsize=4, longsize=8, ptrsize=8, doublesize=8, byteorder=12345678
    d_longlong=define, longlongsize=8, d_longdbl=define, longdblsize=16
    ivtype='long', ivsize=8, nvtype='double', nvsize=8, Off_t='off_t', lseeksize=8
    alignbytes=8, prototype=define
  Linker and Libraries:
    ld='cc', ldflags =' -fstack-protector -L/usr/local/lib'
    libpth=/usr/local/lib /lib /usr/lib /lib64 /usr/lib64
    libs=-lnsl -lgdbm -ldb -ldl -lm -lcrypt -lutil -lpthread -lc -lgdbm_compat
    perllibs=-lnsl -ldl -lm -lcrypt -lutil -lpthread -lc
    libc=/lib/libc-2.3.6.so, so=so, useshrplib=false, libperl=libperl.a
    gnulibc_version='2.3.6'
  Dynamic Linking:
    dlsrc=dl_dlopen.xs, dlext=so, d_dlsymun=undef, ccdlflags='-Wl,-E'
    cccdlflags='-fPIC', lddlflags='-shared -O2 -L/usr/local/lib -fstack-protector'


Characteristics of this binary (from libperl): 
  Compile-time options: MULTIPLICITY PERL_DONT_CREATE_GVSV
                        PERL_IMPLICIT_CONTEXT PERL_MALLOC_WRAP USE_64_BIT_ALL
                        USE_64_BIT_INT USE_ITHREADS USE_LARGE_FILES
                        USE_PERLIO USE_REENTRANT_API
  Built under linux
  Compiled at Aug 25 2009 16:04:12
  %ENV:
    PERL="5.10.1"
    PERL5LIB=""
    PERL5OPT=""
    PERL5_CPANPLUS_IS_RUNNING="27008"
    PERL5_CPAN_IS_RUNNING="27008"
    PERLVER="5.10.1"
    PERL_INLINE_DIRECTORY="/home/david/.Inline-5.10.1"
    PERL_MM_USE_DEFAULT="1"
  @INC:
    /home/david/cpantesting/perl-5.10.1/lib/5.10.1/x86_64-linux-thread-multi
    /home/david/cpantesting/perl-5.10.1/lib/5.10.1
    /home/david/cpantesting/perl-5.10.1/lib/site_perl/5.10.1/x86_64-linux-thread-multi
    /home/david/cpantesting/perl-5.10.1/lib/site_perl/5.10.1
    .