Device-HID v0.007 Perl 5 v5.8.1 darwin-thread-multi-2level
- Status
- Pass
- From
- Nigel Horne
- Dist
-
Device-HID v0.007
- Platform
- Perl 5 v5.8.1 darwin-thread-multi-2level
- Date
- 2018-03-18 05:48:15
- ID
- f3b6f432-2a6f-11e8-97b4-94c54478e4d8
This distribution has been tested as part of the CPAN Testers
project, supporting the Perl programming language. See
http://wiki.cpantesters.org/ for more information or email
questions to cpan-testers-discuss@perl.org
--
Dear Ahmad Fatoum,
This is a computer-generated report for Device-HID-0.007
on perl 5.8.1, created by CPAN-Reporter-1.2018.
Thank you for uploading your work to CPAN. Congratulations!
All tests were successful.
Sections of this report:
* Tester comments
* Program output
* Prerequisites
* Environment and other context
------------------------------
TESTER COMMENTS
------------------------------
Additional comments from tester:
this report is from an automated smoke testing program
and was not reviewed by a human for accuracy
------------------------------
PROGRAM OUTPUT
------------------------------
Output from '/sw/bin/make test':
"/Users/hornenj/perl5/perlbrew/perls/perl-5.8.1/bin/perl" -MExtUtils::Command::MM -e 'cp_nonempty' -- XS.bs ../blib/arch/auto/Device/HID/XS/XS.bs 644
Manifying 1 pod document
"/Users/hornenj/perl5/perlbrew/perls/perl-5.8.1/bin/perl" -MExtUtils::Command::MM -e 'cp_nonempty' -- XS.bs ../blib/arch/auto/Device/HID/XS/XS.bs 644
PERL_DL_NONLAZY=1 "/Users/hornenj/perl5/perlbrew/perls/perl-5.8.1/bin/perl" "-MExtUtils::Command::MM" "-MTest::Harness" "-e" "undef *Test::Harness::Switches; test_harness(0, '../blib/lib', '../blib/arch')" t/*.t
t/Device-HID-XS.t .. ok
All tests successful.
Files=1, Tests=2, 0 wallclock secs ( 0.01 usr 0.01 sys + 0.04 cusr 0.01 csys = 0.07 CPU)
Result: PASS
PERL_DL_NONLAZY=1 "/Users/hornenj/perl5/perlbrew/perls/perl-5.8.1/bin/perl" "-MExtUtils::Command::MM" "-MTest::Harness" "-e" "undef *Test::Harness::Switches; test_harness(0, 'blib/lib', 'blib/arch')" t/*.t
t/00-compile.t ......... ok
t/init.t ............... ok
Failed to hid_open at t/steam_controller.t line 10.
t/steam_controller.t ... ok
#
# Versions for all modules listed in MYMETA.json (including optional ones):
#
# === Configure Requires ===
#
# Module Want Have
# ------------------- ---- -------
# Alien::HIDAPI any 0.08
# ExtUtils::MakeMaker any 7.30
# Inline::C any missing
#
# === Build Requires ===
#
# Module Want Have
# ------------------- ----- ----
# Alien::HIDAPI 0.004 0.08
# ExtUtils::MakeMaker any 7.30
#
# === Test Requires ===
#
# Module Want Have
# ------------------- ---- --------
# ExtUtils::MakeMaker any 7.30
# File::Spec any 3.62
# IO::Handle any 1.28
# IPC::Open3 any 1.0105
# Test::HexString any 0.03
# Test::More any 1.302120
#
# === Test Recommends ===
#
# Module Want Have
# ---------- -------- --------
# CPAN::Meta 2.120900 2.150005
#
# === Runtime Requires ===
#
# Module Want Have
# ------------- ----- ----
# Alien::HIDAPI 0.004 0.08
#
#
# *** WARNING WARNING WARNING WARNING WARNING WARNING WARNING WARNING ***
#
# The following REQUIRED prerequisites were not satisfied:
#
# Inline::C is not installed (any version required)
#
t/00-report-prereqs.t .. ok
All tests successful.
Files=4, Tests=8, 0 wallclock secs ( 0.02 usr 0.02 sys + 0.32 cusr 0.15 csys = 0.51 CPU)
Result: PASS
------------------------------
PREREQUISITES
------------------------------
Prerequisite modules loaded:
requires:
Module Need Have
------------------- ----- --------
Alien::HIDAPI 0.004 0.08
perl 5.006 5.008001
build_requires:
Module Need Have
------------------- ----- --------
Alien::HIDAPI 0.004 0.08
ExtUtils::MakeMaker 0 7.30
File::Spec 0 3.62
IO::Handle 0 1.28
IPC::Open3 0 1.0105
Test::HexString 0 0.03
Test::More 0 1.302120
configure_requires:
Module Need Have
------------------- ----- --------
Alien::HIDAPI 0 0.08
ExtUtils::MakeMaker 0 7.30
! Inline::C 0 n/a
perl 5.006 5.008001
------------------------------
ENVIRONMENT AND OTHER CONTEXT
------------------------------
Environment variables:
AUTOMATED_TESTING = 1
HARNESS_OPTIONS = j4
LANG = en_US.UTF-8
LC_ALL = POSIX
PATH = /Users/hornenj/perl5/perlbrew/bin:/Users/hornenj/perl5/perlbrew/perls/perl-5.8.1/bin:/Users/hornenj/bin:/usr/bin:/bin:/usr/X11R6/bin:/sw/bin:src/njh/smoker/bin
PERL5LIB = /Users/hornenj/.cpan/build/Test-HexString-0.03-42/blib/arch:/Users/hornenj/.cpan/build/Test-HexString-0.03-42/blib/lib:/Users/hornenj/.cpan/build/Alien-HIDAPI-0.08-66/blib/arch:/Users/hornenj/.cpan/build/Alien-HIDAPI-0.08-66/blib/lib:/Users/hornenj/.cpan/build/Alien-libtool-0.11-65/blib/arch:/Users/hornenj/.cpan/build/Alien-libtool-0.11-65/blib/lib:/Users/hornenj/.cpan/build/Alien-automake-0.14-65/blib/arch:/Users/hornenj/.cpan/build/Alien-automake-0.14-65/blib/lib:/Users/hornenj/.cpan/build/Alien-autoconf-0.14-66/blib/arch:/Users/hornenj/.cpan/build/Alien-autoconf-0.14-66/blib/lib:/Users/hornenj/.cpan/build/Alien-m4-0.17-66/blib/arch:/Users/hornenj/.cpan/build/Alien-m4-0.17-66/blib/lib:/Users/hornenj/.cpan/build/Alien-Build-1.39-66/blib/arch:/Users/hornenj/.cpan/build/Alien-Build-1.39-66/blib/lib:/Users/hornenj/.cpan/build/File-chdir-0.1010-15/blib/arch:/Users/hornenj/.cpan/build/File-chdir-0.1010-15/blib/lib:/Users/hornenj/.cpan/build/File-Which-1.22-9/blib/arch:/Users/hornenj/.cpan/build/File-Which-1.22-9/blib/lib:/Users/hornenj/.cpan/build/FFI-CheckLib-0.18-63/blib/arch:/Users/hornenj/.cpan/build/FFI-CheckLib-0.18-63/blib/lib
PERL5OPT =
PERL5_CPANPLUS_IS_RUNNING = 87702
PERL5_CPAN_IS_RUNNING = 87702
PERLBREW_HOME = /Users/hornenj/.perlbrew
PERLBREW_MANPATH = /Users/hornenj/perl5/perlbrew/perls/perl-5.8.1/man
PERLBREW_PATH = /Users/hornenj/perl5/perlbrew/bin:/Users/hornenj/perl5/perlbrew/perls/perl-5.8.1/bin
PERLBREW_PERL = perl-5.8.1
PERLBREW_ROOT = /Users/hornenj/perl5/perlbrew
PERLBREW_SHELLRC_VERSION = 0.82
PERLBREW_VERSION = 0.82
SHELL = /bin/bash
TERM = xterm-256color
TMPDIR = /var/folders/pz/pd7y1qjs6s3cbk170cw50fjc000c61/T/
VERSIONER_PERL_PREFER_32_BIT = no
VERSIONER_PERL_VERSION = 5.18
Perl special variables (and OS-specific diagnostics, for MSWin32):
$^X = /Users/hornenj/perl5/perlbrew/perls/perl-5.8.1/bin/perl
$UID/$EUID = 12481 / 12481
$GID = 14 100 223 241 37223 206 399 204 98 62 12 527 37191 5344 14
$EGID = 14 100 223 241 37223 206 399 204 98 62 12 527 37191 5344 14
Perl module toolchain versions installed:
Module Have
------------------- --------
CPAN 2.16
CPAN::Meta 2.150005
Cwd 3.62
ExtUtils::CBuilder 0.280224
ExtUtils::Command 7.30
ExtUtils::Install 2.06
ExtUtils::MakeMaker 7.30
ExtUtils::Manifest 1.70
ExtUtils::ParseXS 3.30
File::Spec 3.62
JSON 2.93
JSON::PP 2.27400
Module::Build 0.4224
Module::Signature n/a
Parse::CPAN::Meta 1.4422
Test::Harness 3.36
Test::More 1.302120
YAML 1.24
YAML::Syck 1.30
version 0.9915
--
Summary of my perl5 (revision 5.0 version 8 subversion 1) configuration:
Platform:
osname=darwin, osvers=12.5.0, archname=darwin-thread-multi-2level
uname='darwin ncbimac2008.ncbi.nlm.nih.gov 12.5.0 darwin kernel version 12.5.0: sun sep 29 13:33:47 pdt 2013; root:xnu-2050.48.12~1release_x86_64 x86_64 '
config_args='-de -Dprefix=/Users/hornenj/perl5/perlbrew/perls/perl-5.8.1 -Duseithreads -Dusemultiplicity -Accflags=-O2 -W -Wformat=2 -Wswitch -Wshadow -Wwrite-strings -Wuninitialized -Wall -pipe -mtune=native -march=native -fomit-frame-pointer -msse2 -msse -mmmx -pedantic -D_FORTIFY_SOURCE=2 -Wpointer-arith -Wstrict-prototypes -fstack-protector -Wstack-protector -Wextra -Wbad-function-cast -Wcast-align -Wcast-qual -Wdisabled-optimization -Wendif-labels -Wfloat-equal -Wformat-nonliteral -Winline -Wmissing-declarations -Wmissing-prototypes -Wnested-externs -Wpointer-arith -Wundef -Wformat-security -fassociative-math -Acc=cc -Aeval:scriptdir=/Users/hornenj/perl5/perlbrew/perls/perl-5.8.1/bin'
hint=recommended, useposix=true, d_sigaction=define
usethreads=define use5005threads=undef useithreads=define usemultiplicity=define
useperlio=define d_sfio=undef uselargefiles=define usesocks=undef
use64bitint=define use64bitall=define uselongdouble=undef
usemymalloc=n, bincompat5005=undef
Compiler:
cc=' cc', ccflags ='-fno-common -DPERL_DARWIN -O2 -W -Wformat=2 -Wswitch -Wshadow -Wwrite-strings -Wuninitialized -Wall -pipe -mtune=native -march=native -fomit-frame-pointer -msse2 -msse -mmmx -pedantic -D_FORTIFY_SOURCE=2 -Wpointer-arith -Wstrict-prototypes -fstack-protector -Wstack-protector -Wextra -Wbad-function-cast -Wcast-align -Wcast-qual -Wdisabled-optimization -Wendif-labels -Wfloat-equal -Wformat-nonliteral -Winline -Wmissing-declarations -Wmissing-prototypes -Wnested-externs -Wpointer-arith -Wundef -Wformat-security -fassociative-math -fno-strict-aliasing -I/usr/local/include',
optimize='-O3',
cppflags='-fno-common -DPERL_DARWIN -O2 -W -Wformat=2 -Wswitch -Wshadow -Wwrite-strings -Wuninitialized -Wall -pipe -mtune=native -march=native -fomit-frame-pointer -msse2 -msse -mmmx -pedantic -D_FORTIFY_SOURCE=2 -Wpointer-arith -Wstrict-prototypes -fstack-protector -Wstack-protector -Wextra -Wbad-function-cast -Wcast-align -Wcast-qual -Wdisabled-optimization -Wendif-labels -Wfloat-equal -Wformat-nonliteral -Winline -Wmissing-declarations -Wmissing-prototypes -Wnested-externs -Wpointer-arith -Wundef -Wformat-security -fassociative-math -fno-strict-aliasing -I/usr/local/include'
ccversion='', gccversion='4.2.1 Compatible Apple LLVM 4.2 (clang-425.0.24)', gccosandvers=''
intsize=4, longsize=8, ptrsize=8, doublesize=8, byteorder=12345678
d_longlong=define, longlongsize=8, d_longdbl=define, longdblsize=16
ivtype='long', ivsize=8, nvtype='double', nvsize=8, Off_t='off_t', lseeksize=8
alignbytes=8, prototype=define
Linker and Libraries:
ld='env MACOSX_DEPLOYMENT_TARGET=10.3 cc', ldflags =' -L/usr/local/lib'
libpth=/usr/local/lib /usr/lib
libs=-ldbm -ldl -lm -lutil -lc
perllibs=-ldl -lm -lutil -lc
libc=, so=dylib, useshrplib=false, libperl=libperl.a
gnulibc_version=''
Dynamic Linking:
dlsrc=dl_dlopen.xs, dlext=bundle, d_dlsymun=undef, ccdlflags=' '
cccdlflags=' ', lddlflags=' -bundle -undefined dynamic_lookup -L/usr/local/lib'
Characteristics of this binary (from libperl):
Compile-time options: MULTIPLICITY USE_ITHREADS USE_64_BIT_INT USE_64_BIT_ALL USE_LARGE_FILES PERL_IMPLICIT_CONTEXT
Built under darwin
Compiled at Sep 15 2014 10:24:18
%ENV:
PERL5LIB="/Users/hornenj/.cpan/build/Test-HexString-0.03-42/blib/arch:/Users/hornenj/.cpan/build/Test-HexString-0.03-42/blib/lib:/Users/hornenj/.cpan/build/Alien-HIDAPI-0.08-66/blib/arch:/Users/hornenj/.cpan/build/Alien-HIDAPI-0.08-66/blib/lib:/Users/hornenj/.cpan/build/Alien-libtool-0.11-65/blib/arch:/Users/hornenj/.cpan/build/Alien-libtool-0.11-65/blib/lib:/Users/hornenj/.cpan/build/Alien-automake-0.14-65/blib/arch:/Users/hornenj/.cpan/build/Alien-automake-0.14-65/blib/lib:/Users/hornenj/.cpan/build/Alien-autoconf-0.14-66/blib/arch:/Users/hornenj/.cpan/build/Alien-autoconf-0.14-66/blib/lib:/Users/hornenj/.cpan/build/Alien-m4-0.17-66/blib/arch:/Users/hornenj/.cpan/build/Alien-m4-0.17-66/blib/lib:/Users/hornenj/.cpan/build/Alien-Build-1.39-66/blib/arch:/Users/hornenj/.cpan/build/Alien-Build-1.39-66/blib/lib:/Users/hornenj/.cpan/build/File-chdir-0.1010-15/blib/arch:/Users/hornenj/.cpan/build/File-chdir-0.1010-15/blib/lib:/Users/hornenj/.cpan/build/File-Which-1.22-9/blib/arch:/Users/hornenj/.cpan/build/File-Which-1.22-9/blib/lib:/Users/hornenj/.cpan/build/FFI-CheckLib-0.18-63/blib/arch:/Users/hornenj/.cpan/build/FFI-CheckLib-0.18-63/blib/lib"
PERL5OPT=""
PERL5_CPANPLUS_IS_RUNNING="87702"
PERL5_CPAN_IS_RUNNING="87702"
PERLBREW_HOME="/Users/hornenj/.perlbrew"
PERLBREW_MANPATH="/Users/hornenj/perl5/perlbrew/perls/perl-5.8.1/man"
PERLBREW_PATH="/Users/hornenj/perl5/perlbrew/bin:/Users/hornenj/perl5/perlbrew/perls/perl-5.8.1/bin"
PERLBREW_PERL="perl-5.8.1"
PERLBREW_ROOT="/Users/hornenj/perl5/perlbrew"
PERLBREW_SHELLRC_VERSION="0.82"
PERLBREW_VERSION="0.82"
@INC:
/Users/hornenj/.cpan/build/Test-HexString-0.03-42/blib/arch
/Users/hornenj/.cpan/build/Test-HexString-0.03-42/blib/lib
/Users/hornenj/.cpan/build/Alien-HIDAPI-0.08-66/blib/arch
/Users/hornenj/.cpan/build/Alien-HIDAPI-0.08-66/blib/lib
/Users/hornenj/.cpan/build/Alien-libtool-0.11-65/blib/arch
/Users/hornenj/.cpan/build/Alien-libtool-0.11-65/blib/lib
/Users/hornenj/.cpan/build/Alien-automake-0.14-65/blib/arch
/Users/hornenj/.cpan/build/Alien-automake-0.14-65/blib/lib
/Users/hornenj/.cpan/build/Alien-autoconf-0.14-66/blib/arch
/Users/hornenj/.cpan/build/Alien-autoconf-0.14-66/blib/lib
/Users/hornenj/.cpan/build/Alien-m4-0.17-66/blib/arch
/Users/hornenj/.cpan/build/Alien-m4-0.17-66/blib/lib
/Users/hornenj/.cpan/build/Alien-Build-1.39-66/blib/arch
/Users/hornenj/.cpan/build/Alien-Build-1.39-66/blib/lib
/Users/hornenj/.cpan/build/File-chdir-0.1010-15/blib/arch
/Users/hornenj/.cpan/build/File-chdir-0.1010-15/blib/lib
/Users/hornenj/.cpan/build/File-Which-1.22-9/blib/arch
/Users/hornenj/.cpan/build/File-Which-1.22-9/blib/lib
/Users/hornenj/.cpan/build/FFI-CheckLib-0.18-63/blib/arch
/Users/hornenj/.cpan/build/FFI-CheckLib-0.18-63/blib/lib
/Users/hornenj/perl5/perlbrew/perls/perl-5.8.1/lib/5.8.1/darwin-thread-multi-2level
/Users/hornenj/perl5/perlbrew/perls/perl-5.8.1/lib/5.8.1
/Users/hornenj/perl5/perlbrew/perls/perl-5.8.1/lib/site_perl/5.8.1/darwin-thread-multi-2level
/Users/hornenj/perl5/perlbrew/perls/perl-5.8.1/lib/site_perl/5.8.1
/Users/hornenj/perl5/perlbrew/perls/perl-5.8.1/lib/site_perl
.