PadWalker v2.5 Perl 5 v5.39.3 darwin-2level

Status
Pass
From
John SJ Anderson
Dist
PadWalker v2.5
Platform
Perl 5 v5.39.3 darwin-2level
Date
2023-09-22 20:23:54
ID
f3bcceac-5985-11ee-b23a-e2a8fdac111a
This distribution has been tested as part of the CPAN Testers
project, supporting the Perl programming language.  See
http://wiki.cpantesters.org/ for more information or email
questions to cpan-testers-discuss@perl.org


--
Dear ROBIN,

This is a computer-generated report for PadWalker-2.5
on perl 5.39.3, created by App::cpanminus::reporter 0.21 (1.7047).

Thank you for uploading your work to CPAN.  Congratulations!
All tests were successful.

Sections of this report:

    * Tester comments
    * Program output
    * Prerequisites
    * Environment and other context

------------------------------
TESTER COMMENTS
------------------------------

Additional comments from tester:

none provided

------------------------------
PROGRAM OUTPUT
------------------------------

Output from '':

Building and testing PadWalker-2.5
cp PadWalker.pm blib/lib/PadWalker.pm
Running Mkbootstrap for PadWalker ()
chmod 644 "PadWalker.bs"
"/opt/plenv/versions/5.39.3/bin/perl5.39.3" -MExtUtils::Command::MM -e 'cp_nonempty' -- PadWalker.bs blib/arch/auto/PadWalker/PadWalker.bs 644
"/opt/plenv/versions/5.39.3/bin/perl5.39.3" "/opt/plenv/versions/5.39.3/lib/perl5/5.39.3/ExtUtils/xsubpp"  -typemap '/opt/plenv/versions/5.39.3/lib/perl5/5.39.3/ExtUtils/typemap'  PadWalker.xs > PadWalker.xsc
mv PadWalker.xsc PadWalker.c
cc -c   -fno-common -DPERL_DARWIN -mmacosx-version-min=13.5 -DNO_THREAD_SAFE_QUERYLOCALE -fno-strict-aliasing -pipe -fstack-protector-strong -I/usr/local/include -Wno-error=implicit-function-declaration -O3   -DVERSION=\"2.5\" -DXS_VERSION=\"2.5\"  "-I/opt/plenv/versions/5.39.3/lib/perl5/5.39.3/darwin-2level/CORE"   PadWalker.c
rm -f blib/arch/auto/PadWalker/PadWalker.bundle
cc  -mmacosx-version-min=13.5 -bundle -undefined dynamic_lookup -L/usr/local/lib -fstack-protector-strong  PadWalker.o  -o blib/arch/auto/PadWalker/PadWalker.bundle  \
	      \
	  
chmod 755 blib/arch/auto/PadWalker/PadWalker.bundle
"/opt/plenv/versions/5.39.3/bin/perl5.39.3" -MExtUtils::Command::MM -e 'cp_nonempty' -- PadWalker.bs blib/arch/auto/PadWalker/PadWalker.bs 644
PERL_DL_NONLAZY=1 "/opt/plenv/versions/5.39.3/bin/perl5.39.3" "-MExtUtils::Command::MM" "-MTest::Harness" "-e" "undef *Test::Harness::Switches; test_harness(0, 'blib/lib', 'blib/arch')" t/*.t
"my" variable $blah masks earlier declaration in same scope at t/closure.t line 57.
t/closure.t ... ok
"my" variable $x masks earlier declaration in same scope at t/dm.t line 58.
"our" variable $x masks earlier declaration in same scope at t/dm.t line 63.
t/dm.t ........ ok
t/foo.t ....... ok
"my" variable $h masks earlier declaration in same scope at t/our.t line 12.
t/our.t ....... ok
t/recurse.t ... ok
t/sub.t ....... ok
t/test.t ...... ok
t/tt.t ........ ok
"my" variable $foo masks earlier declaration in same scope at t/var_name.t line 13.
t/var_name.t .. ok
All tests successful.
Files=9, Tests=82,  1 wallclock secs ( 0.03 usr  0.04 sys +  0.27 cusr  0.04 csys =  0.38 CPU)
Result: PASS

------------------------------
PREREQUISITES
------------------------------

Prerequisite modules loaded:

runtime:

    Module              Need     Have    
    ------------------- -------- --------
    perl                5.008001 5.039003

build:

    Module              Need     Have    
    ------------------- -------- --------
    ExtUtils::MakeMaker 0        7.70    

configure:

    Module              Need     Have    
    ------------------- -------- --------
    ExtUtils::MakeMaker 0        7.70    


------------------------------
ENVIRONMENT AND OTHER CONTEXT
------------------------------

Environment variables:

    LANG = en_US.UTF-8
    LC_ALL = en_US.UTF-8
    LC_TERMINAL = iTerm2
    LC_TERMINAL_VERSION = 3.4.20
    PATH = /opt/plenv/versions/5.39.3/bin:/opt/plenv/libexec:/opt/plenv/plugins/perl-build/bin:/Users/johnanderson/bin:/opt/plenv/shims:/opt/plenv/bin:/opt/git/bin:/opt/local/bin:/usr/local/bin:/usr/local/sbin:/usr/bin:/bin:/usr/sbin:/sbin
    PERL_CPANM_OPT = --skip-installed --prompt
    SHELL = /bin/zsh
    TERM = screen-256color
    TMPDIR = /var/folders/2y/h3jbqbjn7_l_y66_0706szp40000gp/T/

Perl special variables (and OS-specific diagnostics, for MSWin32):

    EGID = 20 20 12 61 79 80 81 98 701 33 100 204 250 395 398 400 702
    EUID = 502
    EXECUTABLE_NAME = /opt/plenv/versions/5.39.3/bin/perl5.39.3
    GID = 20 20 12 61 79 80 81 98 701 33 100 204 250 395 398 400 702
    UID = 502

Perl module toolchain versions installed:

    Module              Have    
    ------------------- --------
    CPAN                2.36    
    CPAN::Meta          2.150010
    Cwd                 3.90    
    ExtUtils::CBuilder  0.280240
    ExtUtils::Command   7.70    
    ExtUtils::Install   2.22    
    ExtUtils::MakeMaker 7.70    
    ExtUtils::Manifest  1.75    
    ExtUtils::ParseXS   3.51    
    File::Spec          3.90    
    JSON                4.10    
    JSON::PP            4.16    
    Module::Build       0.4234  
    Module::Signature   n/a     
    Parse::CPAN::Meta   2.150010
    Test::Harness       3.47    
    Test::More          1.302195
    YAML                1.30    
    YAML::Syck          n/a     
    version             0.9929  


--

Summary of my perl5 (revision 5 version 39 subversion 3) configuration:
   
  Platform:
    osname=darwin
    osvers=22.6.0
    archname=darwin-2level
    uname='darwin ws-xmhw937gpx 22.6.0 darwin kernel version 22.6.0: wed jul 5 22:17:35 pdt 2023; root:xnu-8796.141.3~6release_arm64_t8112 x86_64 i386 darwin '
    config_args='-Dprefix=/opt/plenv/versions/5.39.3 -de -Dversiononly -Dusedevel -A'eval:scriptdir=/opt/plenv/versions/5.39.3/bin''
    hint=recommended
    useposix=true
    d_sigaction=define
    useithreads=undef
    usemultiplicity=undef
    use64bitint=define
    use64bitall=define
    uselongdouble=undef
    usemymalloc=n
    default_inc_excludes_dot=define
  Compiler:
    cc='cc'
    ccflags ='-fno-common -DPERL_DARWIN -mmacosx-version-min=13.5 -DNO_THREAD_SAFE_QUERYLOCALE -fno-strict-aliasing -pipe -fstack-protector-strong -I/usr/local/include'
    optimize='-O3'
    cppflags='-fno-common -DPERL_DARWIN -mmacosx-version-min=13.5 -DNO_THREAD_SAFE_QUERYLOCALE -fno-strict-aliasing -pipe -fstack-protector-strong -I/usr/local/include'
    ccversion=''
    gccversion='Apple LLVM 15.0.0 (clang-1500.0.40.1)'
    gccosandvers=''
    intsize=4
    longsize=8
    ptrsize=8
    doublesize=8
    byteorder=12345678
    doublekind=3
    d_longlong=define
    longlongsize=8
    d_longdbl=define
    longdblsize=16
    longdblkind=3
    ivtype='long'
    ivsize=8
    nvtype='double'
    nvsize=8
    Off_t='off_t'
    lseeksize=8
    alignbytes=8
    prototype=define
  Linker and Libraries:
    ld='cc'
    ldflags =' -mmacosx-version-min=13.5 -fstack-protector-strong -L/usr/local/lib'
    libpth=/usr/local/lib /Library/Developer/CommandLineTools/usr/lib/clang/15.0.0/lib /Library/Developer/CommandLineTools/SDKs/MacOSX14.0.sdk/usr/lib /Library/Developer/CommandLineTools/usr/lib /usr/lib
    libs= 
    perllibs=
    libc=
    so=dylib
    useshrplib=false
    libperl=libperl.a
    gnulibc_version=''
  Dynamic Linking:
    dlsrc=dl_dlopen.xs
    dlext=bundle
    d_dlsymun=undef
    ccdlflags=' '
    cccdlflags=' '
    lddlflags=' -mmacosx-version-min=13.5 -bundle -undefined dynamic_lookup -L/usr/local/lib -fstack-protector-strong'


Characteristics of this binary (from libperl): 
  Compile-time options:
    HAS_LONG_DOUBLE
    HAS_STRTOLD
    HAS_TIMES
    PERLIO_LAYERS
    PERL_COPY_ON_WRITE
    PERL_DONT_CREATE_GVSV
    PERL_HASH_FUNC_SIPHASH13
    PERL_HASH_USE_SBOX32
    PERL_MALLOC_WRAP
    PERL_OP_PARENT
    PERL_PRESERVE_IVUV
    PERL_USE_DEVEL
    PERL_USE_SAFE_PUTENV
    USE_64_BIT_ALL
    USE_64_BIT_INT
    USE_LARGE_FILES
    USE_LOCALE
    USE_LOCALE_COLLATE
    USE_LOCALE_CTYPE
    USE_LOCALE_NUMERIC
    USE_LOCALE_TIME
    USE_PERLIO
    USE_PERL_ATOF
  Built under darwin
  Compiled at Sep 22 2023 09:53:16
  %ENV:
    PERL_CPANM_OPT="--skip-installed --prompt"
  @INC:
    /opt/plenv/versions/5.39.3/lib/perl5/site_perl/5.39.3/darwin-2level
    /opt/plenv/versions/5.39.3/lib/perl5/site_perl/5.39.3
    /opt/plenv/versions/5.39.3/lib/perl5/5.39.3/darwin-2level
    /opt/plenv/versions/5.39.3/lib/perl5/5.39.3