autodie v2.29 Perl 5 v5.12.5 i86pc-solaris-thread-multi

Status
Pass
From
Nigel Horne
Dist
autodie v2.29
Platform
Perl 5 v5.12.5 i86pc-solaris-thread-multi
Date
2018-12-04 23:18:48
ID
f3ec8696-f81a-11e8-8a94-e69c7b8a6238
This distribution has been tested as part of the CPAN Testers
project, supporting the Perl programming language.  See
http://wiki.cpantesters.org/ for more information or email
questions to cpan-testers-discuss@perl.org


--
Dear Paul Jamieson Fenwick,

This is a computer-generated report for autodie-2.29
on perl 5.12.5, created by CPAN-Reporter-1.2018.

Thank you for uploading your work to CPAN.  Congratulations!
All tests were successful.

Sections of this report:

    * Tester comments
    * Program output
    * Prerequisites
    * Environment and other context

------------------------------
TESTER COMMENTS
------------------------------

Additional comments from tester:

none provided

------------------------------
PROGRAM OUTPUT
------------------------------

Output from '/usr/bin/make test':

PERL_DL_NONLAZY=1 "/export/home/njh/perl5/perlbrew/perls/perl-5.12.5-thread/bin/perl" "-MExtUtils::Command::MM" "-MTest::Harness" "-e" "undef *Test::Harness::Switches; test_harness(0, 'blib/lib', 'blib/arch')" t/*.t
t/00-load.t ...................... ok
t/args.t ......................... ok
t/author-critic.t ................ skipped: these tests are for testing by the author
t/autodie.t ...................... ok
t/backcompat.t ................... ok
t/basic_exceptions.t ............. ok
t/binmode.t ...................... ok
t/blog_hints.t ................... ok
t/caller.t ....................... ok
t/chmod.t ........................ ok
t/chown.t ........................ ok
t/context.t ...................... ok
t/context_lexical.t .............. ok
t/core-trampoline-slurp.t ........ ok
t/crickey.t ...................... ok
t/critic.t ....................... skipped: Author test.  Set $ENV{AUTHOR_TESTING} to true to run.
t/dbmopen.t ...................... ok
t/eval_error.t ................... ok
t/exception_class.t .............. ok
t/exceptions.t ................... ok
t/exec.t ......................... ok
t/Fatal.t ........................ ok
t/filehandles.t .................. ok
t/fileno.t ....................... ok
t/flock.t ........................ ok
t/fork.t ......................... ok
t/format-clobber.t ............... ok
# Sub::Identify is loaded
t/hints.t ........................ ok
t/hints_insist.t ................. ok
t/hints_pod_examples.t ........... ok
t/hints_provider_does.t .......... ok
t/hints_provider_easy_does_it.t .. ok
t/hints_provider_isa.t ........... ok
t/import-into.t .................. skipped: Test needs Import::Into >= 1.002004
t/internal-backcompat.t .......... ok
t/internal.t ..................... ok
t/kill.t ......................... ok
t/kwalitee.t ..................... skipped: Author test.  Set $ENV{RELEASE_TESTING} to true to run.
t/lethal.t ....................... ok
t/lex58.t ........................ ok
t/mkdir.t ........................ ok
t/no_carp.t ...................... ok
t/open.t ......................... ok
t/pod-coverage.t ................. skipped: Author test.  Set $ENV{AUTHOR_TESTING} to true to run.
t/pod.t .......................... skipped: Author test.  Set $ENV{AUTHOR_TESTING} to true to run.
t/read.t ......................... ok
t/recv.t ......................... ok
t/release-pod-coverage.t ......... skipped: these tests are for release candidate testing
t/release-pod-syntax.t ........... skipped: these tests are for release candidate testing
t/repeat.t ....................... ok
Variable "$open" is not imported at (eval 10) line 5.
	(Did you mean &open instead?)
t/rt-74246.t ..................... ok
t/scope_leak.t ................... ok
t/skip.t ......................... ok
t/socket.t ....................... skipped: Author test.  Set $ENV{AUTHOR_TESTING} to true to run.
t/string-eval-basic.t ............ ok
t/string-eval-leak.t ............. ok
t/sysopen.t ...................... ok
t/system.t ....................... ok
t/truncate.t ..................... ok
t/unlink.t ....................... ok
t/user-context.t ................. ok
t/usersub.t ...................... ok
t/utf8_open.t .................... ok
t/utime.t ........................ ok
t/version.t ...................... skipped: Release test.  Set $ENV{RELEASE_TESTING} to true to run.
t/version_tag.t .................. ok
All tests successful.
Files=66, Tests=512, 11 wallclock secs ( 0.36 usr  0.20 sys +  7.83 cusr  1.24 csys =  9.63 CPU)
Result: PASS

------------------------------
PREREQUISITES
------------------------------

Prerequisite modules loaded:

requires:

    Module              Need     Have    
    ------------------- -------- --------
    B                   0        1.23    
    Carp                0        1.50    
    constant            0        1.20    
    Exporter            5.57     5.64_01 
    Fcntl               0        1.06    
    overload            0        1.10    
    parent              0        0.223   
    perl                5.008004 5.012005
    POSIX               0        1.19    
    Scalar::Util        0        1.50    
    strict              0        1.04    
    Tie::RefHash        0        1.38    
    warnings            0        1.09    

build_requires:

    Module              Need     Have    
    ------------------- -------- --------
    ExtUtils::MakeMaker 0        7.34    
    File::Copy          0        2.18    
    File::Spec          0        3.31_01 
    File::Temp          0        0.22    
    FindBin             0        1.50    
    if                  0        0.05    
    IO::Handle          0        1.28    
    lib                 0        0.62    
    Socket              0        1.87_01 
    Test::More          0        1.302140

configure_requires:

    Module              Need     Have    
    ------------------- -------- --------
    ExtUtils::MakeMaker 0        7.34    


------------------------------
ENVIRONMENT AND OTHER CONTEXT
------------------------------

Environment variables:

    LANG = en_US.UTF-8
    PATH = /export/home/njh/perl5/perlbrew/bin:/export/home/njh/perl5/perlbrew/perls/perl-5.12.5-thread/bin:/usr/bin:/usr/sbin:/sbin:/usr/gnu/bin
    PERL5LIB = 
    PERL5OPT = 
    PERL5_CPANPLUS_IS_RUNNING = 24635
    PERL5_CPAN_IS_RUNNING = 24635
    PERLBREW_HOME = /export/home/njh/.perlbrew
    PERLBREW_MANPATH = /export/home/njh/perl5/perlbrew/perls/perl-5.12.5-thread/man
    PERLBREW_PATH = /export/home/njh/perl5/perlbrew/bin:/export/home/njh/perl5/perlbrew/perls/perl-5.12.5-thread/bin
    PERLBREW_PERL = perl-5.12.5-thread
    PERLBREW_ROOT = /export/home/njh/perl5/perlbrew
    PERLBREW_SHELLRC_VERSION = 0.84
    PERLBREW_VERSION = 0.84
    SHELL = /bin/bash
    TERM = xterm-256color
    TMPDIR = /tmp

Perl special variables (and OS-specific diagnostics, for MSWin32):

    $^X = /export/home/njh/perl5/perlbrew/perls/perl-5.12.5-thread/bin/perl
    $UID/$EUID = 101 / 101
    $GID = 10 10
    $EGID = 10 10

Perl module toolchain versions installed:

    Module              Have    
    ------------------- --------
    CPAN                1.94_56 
    CPAN::Meta          2.143240
    Cwd                 3.31    
    ExtUtils::CBuilder  0.280230
    ExtUtils::Command   7.34    
    ExtUtils::Install   2.06    
    ExtUtils::MakeMaker 7.34    
    ExtUtils::Manifest  1.70    
    ExtUtils::ParseXS   2.21    
    File::Spec          3.31_01 
    JSON                2.97001 
    JSON::PP            2.97001 
    Module::Build       0.3603  
    Module::Signature   n/a     
    Parse::CPAN::Meta   1.4414  
    Test::Harness       3.42    
    Test::More          1.302140
    YAML                1.27    
    YAML::Syck          n/a     
    version             0.9924  


--

Summary of my perl5 (revision 5 version 12 subversion 5) configuration:
   
  Platform:
    osname=solaris, osvers=2.11, archname=i86pc-solaris-thread-multi
    uname='sunos vultr1.bandsman.co.uk 5.11 illumos-b075503f22 i86pc i386 i86pc '
    config_args='-de -Dprefix=/export/home/njh/perl5/perlbrew/perls/perl-5.12.5-thread -Dusedevel -Dusethreads -Accflags= -Aeval:scriptdir=/export/home/njh/perl5/perlbrew/perls/perl-5.12.5-thread/bin'
    hint=recommended, useposix=true, d_sigaction=define
    useithreads=define, usemultiplicity=define
    useperlio=define, d_sfio=undef, uselargefiles=define, usesocks=undef
    use64bitint=undef, use64bitall=undef, uselongdouble=undef
    usemymalloc=n, bincompat5005=undef
  Compiler:
    cc='/opt/SUNWspro/bin/cc', ccflags ='-D_REENTRANT -I/usr/gnu/include -D_LARGEFILE_SOURCE -D_FILE_OFFSET_BITS=64 -DPERL_USE_SAFE_PUTENV',
    optimize='-O',
    cppflags='-D_REENTRANT -I/usr/gnu/include'
    ccversion='Sun C 5.10 SunOS_i386 2009/06/03', gccversion='', gccosandvers=''
    intsize=4, longsize=4, ptrsize=4, doublesize=8, byteorder=1234
    d_longlong=define, longlongsize=8, d_longdbl=define, longdblsize=12
    ivtype='long', ivsize=4, nvtype='double', nvsize=8, Off_t='off_t', lseeksize=8
    alignbytes=4, prototype=define
  Linker and Libraries:
    ld='/opt/SUNWspro/bin/cc', ldflags =' -L/usr/lib -L/usr/ccs/lib -L/opt/sunstudio12.1/prod/lib -L/lib -L/usr/gnu/lib '
    libpth=/usr/lib /usr/ccs/lib /opt/sunstudio12.1/prod/lib /lib /usr/gnu/lib
    libs=-lsocket -lnsl -lgdbm -ldb -ldl -lm -lpthread -lc
    perllibs=-lsocket -lnsl -ldl -lm -lpthread -lc
    libc=/lib/libc.so, so=so, useshrplib=true, libperl=libperl.so
    gnulibc_version=''
  Dynamic Linking:
    dlsrc=dl_dlopen.xs, dlext=so, d_dlsymun=undef, ccdlflags='  -R /export/home/njh/perl5/perlbrew/perls/perl-5.12.5-thread/lib/5.12.5/i86pc-solaris-thread-multi/CORE'
    cccdlflags='-KPIC', lddlflags='-G -L/usr/lib -L/usr/ccs/lib -L/opt/sunstudio12.1/prod/lib -L/lib -L/usr/gnu/lib'


Characteristics of this binary (from libperl): 
  Compile-time options: MULTIPLICITY PERL_DONT_CREATE_GVSV
                        PERL_IMPLICIT_CONTEXT PERL_MALLOC_WRAP PERL_USE_DEVEL
                        PERL_USE_SAFE_PUTENV USE_ITHREADS USE_LARGE_FILES
                        USE_PERLIO USE_PERL_ATOF USE_REENTRANT_API
  Locally applied patches:
	Devel::PatchPerl 1.52
  Built under solaris
  Compiled at Sep 16 2018 03:38:32
  %ENV:
    PERL5LIB=""
    PERL5OPT=""
    PERL5_CPANPLUS_IS_RUNNING="24635"
    PERL5_CPAN_IS_RUNNING="24635"
    PERLBREW_HOME="/export/home/njh/.perlbrew"
    PERLBREW_MANPATH="/export/home/njh/perl5/perlbrew/perls/perl-5.12.5-thread/man"
    PERLBREW_PATH="/export/home/njh/perl5/perlbrew/bin:/export/home/njh/perl5/perlbrew/perls/perl-5.12.5-thread/bin"
    PERLBREW_PERL="perl-5.12.5-thread"
    PERLBREW_ROOT="/export/home/njh/perl5/perlbrew"
    PERLBREW_SHELLRC_VERSION="0.84"
    PERLBREW_VERSION="0.84"
  @INC:
    /export/home/njh/perl5/perlbrew/perls/perl-5.12.5-thread/lib/site_perl/5.12.5/i86pc-solaris-thread-multi
    /export/home/njh/perl5/perlbrew/perls/perl-5.12.5-thread/lib/site_perl/5.12.5
    /export/home/njh/perl5/perlbrew/perls/perl-5.12.5-thread/lib/5.12.5/i86pc-solaris-thread-multi
    /export/home/njh/perl5/perlbrew/perls/perl-5.12.5-thread/lib/5.12.5
    .