Magpie v1.163200 Perl 5 v5.28.0 OpenBSD.amd64-openbsd-thread-multi

Status
Pass
From
Alceu Rodrigues de Freitas Junior
Dist
Magpie v1.163200
Platform
Perl 5 v5.28.0 OpenBSD.amd64-openbsd-thread-multi
Date
2018-06-29 04:07:35
ID
f3f1aa68-7b51-11e8-8bf7-c6befe9f3b00
This distribution has been tested as part of the CPAN Testers
project, supporting the Perl programming language.  See
http://wiki.cpantesters.org/ for more information or email
questions to cpan-testers-discuss@perl.org


--
Dear Kip Hampton (PAUSE Custodial Account),

This is a computer-generated report for Magpie-1.163200
on perl 5.28.0, created by CPAN-Reporter-1.2018.

Thank you for uploading your work to CPAN.  Congratulations!
All tests were successful.

Sections of this report:

    * Tester comments
    * Program output
    * Prerequisites
    * Environment and other context

------------------------------
TESTER COMMENTS
------------------------------

Additional comments from tester:

this report is from an automated smoke testing program
and was not reviewed by a human for accuracy

------------------------------
PROGRAM OUTPUT
------------------------------

Output from '/usr/bin/make test':

PERL_DL_NONLAZY=1 "/home/vegeta/perl5/perlbrew/perls/perl-blead/bin/perl5.28.0" "-MExtUtils::Command::MM" "-MTest::Harness" "-e" "undef *Test::Harness::Switches; test_harness(0, 'blib/lib', 'blib/arch')" t/*.t t/config/*.t t/core/*.t t/plugins/*.t t/resources/*.t t/transformers/*.t
t/000use.t ............................ ok
t/args_middleware.t ................... ok
t/author-pod-coverage.t ............... skipped: these tests are for testing by the author
t/author-pod-syntax.t ................. skipped: these tests are for testing by the author
t/breadboard.t ........................ skipped: Test requires module 'Devel::Monitor' but it's not found
t/breadboard_middleware.t ............. ok
t/config/asset_basic_container_xml.t .. ok
t/config/asset_basic_xml.t ............ ok
t/config/asset_container_nested.t ..... ok
t/config/asset_service_block.t ........ ok
t/config/asset_service_constructor.t .. ok
t/config/asset_service_setter.t ....... ok
t/config/match_accept_xml.t ........... ok
t/config/match_env_xml.t .............. ok
t/config/match_nested_xml.t ........... ok
t/config/match_template_xml.t ......... ok
t/config/match_xml.t .................. ok
t/config/pipeline_reset.t ............. ok
t/context_middleware.t ................ ok
t/core/basic.t ........................ ok
t/core/custom_matcher.t ............... ok
t/core/declined.t ..................... ok
t/core/done.t ......................... ok
t/core/http.t ......................... ok
t/core/mixed_pipeline.t ............... ok
t/core/no_match_404.t ................. ok
t/core/output.t ....................... ok
t/core/pipeline_args.t ................ ok
t/core/pipeloader.t ................... ok
t/core/sugar_match.t .................. ok
t/core/sugar_match_accept.t ........... ok
t/core/sugar_match_env.t .............. ok
t/core/sugar_match_nested.t ........... ok
t/core/sugar_match_reset.t ............ ok
t/core/sugar_match_template.t ......... ok
t/core/template_regex_edge.t .......... ok
t/dbic.t .............................. ok
t/error.t ............................. ok
t/event.t ............................. ok
t/kioku.t ............................. skipped: Test requires module 'KiokuDB' but it's not found
t/machine.t ........................... ok
t/middleware.t ........................ ok
t/middleware_component.t .............. ok
t/plack_basic.t ....................... ok
t/plugins/resource_cache.t ............ skipped: Test requires module 'Memcached::libmemcached' but it's not found
t/plugins/uri_template.t .............. ok
t/queue.t ............................. ok
t/resource_abstract.t ................. ok
t/resource_basic.t .................... ok
t/resource_file.t ..................... ok
t/resource_middleware.t ............... ok
t/resources/kioku_bb.t ................ skipped: Test requires module 'KiokuDB' but it's not found
t/traits_middleware.t ................. ok
t/transformers/tt2.t .................. ok
t/transformers/xslt_alternates.t ...... ok
t/transformers/xslt_file.t ............ ok
t/transformers/xslt_upstream.t ........ ok
t/transformers/xslt_xinclude.t ........ ok
t/transformers/xsp_basic.t ............ skipped: Test requires module 'XML::XSP' but it's not found
t/transformers/xsp_taglibs.t .......... skipped: Test requires module 'XML::XSP' but it's not found
All tests successful.
Files=60, Tests=247, 83 wallclock secs ( 0.15 usr  0.51 sys + 65.15 cusr 14.33 csys = 80.14 CPU)
Result: PASS

------------------------------
PREREQUISITES
------------------------------

Prerequisite modules loaded:

requires:

    Module                      Need   Have    
    --------------------------- ------ --------
    Bread::Board                0.25   0.36    
    Carp                        1.24   1.50    
    Class::Load                 0.20   0.25    
    Data::Printer               0      0.99_015
    HTTP::Negotiate             6.00   6.01    
    HTTP::Throwable             0.016  0.026   
    Moose                       2.0402 2.2011  
    MooseX::Role::Parameterized 0      1.10    
    MooseX::Traits              0.11   0.13    
    MooseX::Types::Path::Class  0.05   0.09    
    Plack                       0.9985 1.0047  
    Scalar::Util                1.23   1.50    
    Try::Tiny                   0.11   0.30    
    URI                         1.59   1.74    

build_requires:

    Module                      Need   Have    
    --------------------------- ------ --------
    ExtUtils::MakeMaker         0      7.34    
    HTTP::Request::Common       6.02   6.18    
    Test::Requires              0      0.10    
    Test::Simple                0.98   1.302136

configure_requires:

    Module                      Need   Have    
    --------------------------- ------ --------
    ExtUtils::MakeMaker         0      7.34    

opt_requires:

    Module                      Need   Have    
    --------------------------- ------ --------
    CHI                         0.50   0.60    
    JSON::Any                   1.29   1.39    
  ! KiokuDB                     0.52   n/a     
  ! KiokuDB::Backend::DBI       1.21   n/a     
  ! KiokuX::Model               0.02   n/a     
    XML::LibXML                 1.90   2.0132  


------------------------------
ENVIRONMENT AND OTHER CONTEXT
------------------------------

Environment variables:

    AUTOMATED_TESTING = 1
    DBD_MYSQL_TESTDB = test
    DBD_MYSQL_TESTHOST = localhost
    DBD_MYSQL_TESTPASSWORD = 
    DBD_MYSQL_TESTPORT = 3306
    DBD_MYSQL_TESTUSER = vegeta
    EXTENDED_TESTING = 1
    PATH = /home/vegeta/perl5/perlbrew/bin:/home/vegeta/perl5/perlbrew/perls/perl-blead/bin:/home/vegeta/bin:/usr/bin:/bin:/usr/sbin:/sbin:/usr/X11R6/bin:/usr/local/bin:/usr/local/sbin
    PERL5LIB = 
    PERL5OPT = 
    PERL5_CPANPLUS_IS_RUNNING = 61649
    PERL5_CPAN_IS_RUNNING = 61649
    PERL5_CPAN_IS_RUNNING_IN_RECURSION = 56948,61649
    PERLBREW_HOME = /home/vegeta/.perlbrew
    PERLBREW_MANPATH = /home/vegeta/perl5/perlbrew/perls/perl-blead/man
    PERLBREW_PATH = /home/vegeta/perl5/perlbrew/bin:/home/vegeta/perl5/perlbrew/perls/perl-blead/bin
    PERLBREW_PERL = perl-blead
    PERLBREW_ROOT = /home/vegeta/perl5/perlbrew
    PERLBREW_SHELLRC_VERSION = 0.83
    PERLBREW_VERSION = 0.83
    PERL_CR_SMOKER_CURRENT = Magpie-1.163200
    PERL_EXTUTILS_AUTOINSTALL = --defaultdeps
    PERL_MM_USE_DEFAULT = 1
    SHELL = /usr/local/bin/bash
    TERM = vt220

Perl special variables (and OS-specific diagnostics, for MSWin32):

    $^X = /home/vegeta/perl5/perlbrew/perls/perl-blead/bin/perl5.28.0
    $UID/$EUID = 1001 / 1001
    $GID = 999 999 1001
    $EGID = 999 999 1001

Perl module toolchain versions installed:

    Module              Have    
    ------------------- --------
    CPAN                2.16    
    CPAN::Meta          2.150010
    Cwd                 3.74    
    ExtUtils::CBuilder  0.280230
    ExtUtils::Command   7.34    
    ExtUtils::Install   2.14    
    ExtUtils::MakeMaker 7.34    
    ExtUtils::Manifest  1.71    
    ExtUtils::ParseXS   3.35    
    File::Spec          3.74    
    JSON                2.97001 
    JSON::PP            2.97001 
    Module::Build       0.4224  
    Module::Signature   0.81    
    Parse::CPAN::Meta   2.150010
    Test::Harness       3.42    
    Test::More          1.302136
    YAML                1.26    
    YAML::Syck          n/a     
    version             0.9924  


--

Summary of my perl5 (revision 5 version 28 subversion 0) configuration:
  Snapshot of: 197e7984e9f640254af80f8553707bad217f3814
  Platform:
    osname=openbsd
    osvers=6.3
    archname=OpenBSD.amd64-openbsd-thread-multi
    uname='openbsd cpan-smoker-openbsd 6.3 generic.mp#107 amd64 '
    config_args='-de -Dprefix=/home/vegeta/perl5/perlbrew/perls/perl-blead -Dman1dir=none -Dman3dir=none -Duse64bitall -Dusemultiplicity -Duse64bitint -Dusethreads -Dusedevel -Aeval:scriptdir=/home/vegeta/perl5/perlbrew/perls/perl-blead/bin'
    hint=recommended
    useposix=true
    d_sigaction=define
    useithreads=define
    usemultiplicity=define
    use64bitint=define
    use64bitall=define
    uselongdouble=undef
    usemymalloc=n
    default_inc_excludes_dot=define
    bincompat5005=undef
  Compiler:
    cc='cc'
    ccflags ='-pthread -fno-strict-aliasing -pipe -fstack-protector-strong -I/usr/local/include -D_FORTIFY_SOURCE=2'
    optimize='-O2'
    cppflags='-pthread -fno-strict-aliasing -pipe -fstack-protector-strong -I/usr/local/include'
    ccversion=''
    gccversion='4.2.1 Compatible OpenBSD Clang 5.0.1 (tags/RELEASE_501/final)'
    gccosandvers=''
    intsize=4
    longsize=8
    ptrsize=8
    doublesize=8
    byteorder=12345678
    doublekind=3
    d_longlong=define
    longlongsize=8
    d_longdbl=define
    longdblsize=16
    longdblkind=3
    ivtype='long'
    ivsize=8
    nvtype='double'
    nvsize=8
    Off_t='off_t'
    lseeksize=8
    alignbytes=8
    prototype=define
  Linker and Libraries:
    ld='cc'
    ldflags ='-pthread -Wl,-E  -fstack-protector-strong -L/usr/local/lib'
    libpth=/usr/lib /usr/local/lib
    libs=-lpthread -lm -lutil -lc
    perllibs=-lpthread -lm -lutil -lc
    libc=/usr/lib/libc.so.92.3
    so=so
    useshrplib=false
    libperl=libperl.a
    gnulibc_version=''
  Dynamic Linking:
    dlsrc=dl_dlopen.xs
    dlext=so
    d_dlsymun=undef
    ccdlflags=' '
    cccdlflags='-DPIC -fPIC '
    lddlflags='-shared -fPIC  -L/usr/local/lib -fstack-protector-strong'


Characteristics of this binary (from libperl): 
  Compile-time options:
    HAS_TIMES
    MULTIPLICITY
    PERLIO_LAYERS
    PERL_COPY_ON_WRITE
    PERL_DONT_CREATE_GVSV
    PERL_IMPLICIT_CONTEXT
    PERL_MALLOC_WRAP
    PERL_OP_PARENT
    PERL_PRESERVE_IVUV
    PERL_USE_DEVEL
    USE_64_BIT_ALL
    USE_64_BIT_INT
    USE_ITHREADS
    USE_LARGE_FILES
    USE_LOCALE
    USE_LOCALE_COLLATE
    USE_LOCALE_CTYPE
    USE_LOCALE_NUMERIC
    USE_LOCALE_TIME
    USE_PERLIO
    USE_PERL_ATOF
    USE_REENTRANT_API
  Locally applied patches:
    Devel::PatchPerl 1.48
  Built under openbsd
  Compiled at Jun 10 2018 14:27:57
  %ENV:
    PERL5LIB=""
    PERL5OPT=""
    PERL5_CPANPLUS_IS_RUNNING="61649"
    PERL5_CPAN_IS_RUNNING="61649"
    PERL5_CPAN_IS_RUNNING_IN_RECURSION="56948,61649"
    PERLBREW_HOME="/home/vegeta/.perlbrew"
    PERLBREW_MANPATH="/home/vegeta/perl5/perlbrew/perls/perl-blead/man"
    PERLBREW_PATH="/home/vegeta/perl5/perlbrew/bin:/home/vegeta/perl5/perlbrew/perls/perl-blead/bin"
    PERLBREW_PERL="perl-blead"
    PERLBREW_ROOT="/home/vegeta/perl5/perlbrew"
    PERLBREW_SHELLRC_VERSION="0.83"
    PERLBREW_VERSION="0.83"
    PERL_CR_SMOKER_CURRENT="Magpie-1.163200"
    PERL_EXTUTILS_AUTOINSTALL="--defaultdeps"
    PERL_MM_USE_DEFAULT="1"
  @INC:
    /home/vegeta/perl5/perlbrew/perls/perl-blead/lib/site_perl/5.28.0/OpenBSD.amd64-openbsd-thread-multi
    /home/vegeta/perl5/perlbrew/perls/perl-blead/lib/site_perl/5.28.0
    /home/vegeta/perl5/perlbrew/perls/perl-blead/lib/5.28.0/OpenBSD.amd64-openbsd-thread-multi
    /home/vegeta/perl5/perlbrew/perls/perl-blead/lib/5.28.0