Text-VimColor v0.28 Perl 5 v5.26.1 x86_64-linux-ld
- Status
- Pass
- From
- Andreas J. König (ANDK)
- Dist
-
Text-VimColor v0.28
- Platform
- Perl 5 v5.26.1 x86_64-linux-ld
- Date
- 2018-11-19 13:35:17
- ID
- f405f904-ebff-11e8-8817-b402b0842a92
This distribution has been tested as part of the CPAN Testers
project, supporting the Perl programming language. See
http://wiki.cpantesters.org/ for more information or email
questions to cpan-testers-discuss@perl.org
--
Dear Randy Stauner,
This is a computer-generated report for Text-VimColor-0.28
on perl 5.26.1, created by CPAN-Reporter-1.2018.
Thank you for uploading your work to CPAN. Congratulations!
All tests were successful.
Sections of this report:
* Tester comments
* Program output
* Prerequisites
* Environment and other context
------------------------------
TESTER COMMENTS
------------------------------
Additional comments from tester:
this report is from an automated smoke testing program
and was not reviewed by a human for accuracy
------------------------------
PROGRAM OUTPUT
------------------------------
Output from '/usr/bin/make test':
Skip blib/lib/auto/share/dist/Text-VimColor/mark.vim (unchanged)
Skip blib/lib/auto/share/dist/Text-VimColor/define_all.vim (unchanged)
Skip blib/lib/auto/share/dist/Text-VimColor/light.css (unchanged)
Skip blib/lib/auto/share/dist/Text-VimColor/light.xsl (unchanged)
PERL_DL_NONLAZY=1 "/home/sand/src/perl/repoperls/installed-perls/host/k93msid/v5.26.1/af11/bin/perl" "-MExtUtils::Command::MM" "-MTest::Harness" "-e" "undef *Test::Harness::Switches; test_harness(0, 'blib/lib', 'blib/arch')" t/*.t
t/00-compile.t ......... ok
#
# Versions for all modules listed in MYMETA.json (including optional ones):
#
# === Configure Requires ===
#
# Module Want Have
# ----------------------- ---- ------
# ExtUtils::MakeMaker any 7.34
# File::ShareDir::Install 0.06 0.13
# File::Temp any 0.2308
# IO::File any 1.16
# IPC::Open3 any 1.20
# strict any 1.11
# warnings any 1.37
#
# === Build Requires ===
#
# Module Want Have
# ------------------- ---- ----
# ExtUtils::MakeMaker any 7.34
#
# === Test Requires ===
#
# Module Want Have
# -------------------------- ---- --------
# Exporter any 5.72
# ExtUtils::MakeMaker any 7.34
# File::Spec any 3.75
# File::Temp any 0.2308
# IO::Handle any 1.36
# IPC::Open3 any 1.20
# Path::Class 0.04 0.37
# Test::File::ShareDir::Dist any 1.001002
# Test::More 0.88 1.302140
# blib 1.01 1.06
# lib any 0.64
#
# === Test Recommends ===
#
# Module Want Have
# ---------- -------- --------
# CPAN::Meta 2.120900 2.150010
#
# === Runtime Requires ===
#
# Module Want Have
# --------------- ---- ------
# Carp any 1.42
# File::Copy any 2.32
# File::ShareDir any 1.116
# File::Temp any 0.2308
# Getopt::Long any 2.49
# IO::File any 1.16
# IPC::Open3 any 1.20
# Path::Class 0.04 0.37
# Symbol any 1.08
# Term::ANSIColor 1.03 4.06
# constant any 1.33
# strict any 1.11
# warnings any 1.37
#
# === Runtime Recommends ===
#
# Module Want Have
# --------------- ---- ----
# Term::ANSIColor 3 4.06
#
t/00-report-prereqs.t .. ok
# vim --version
#
# VIM - Vi IMproved 8.1 (2018 May 18, compiled Aug 22 2018 23:46:39)
# Included patches: 1-320
# Modified by team+vim@tracker.debian.org
# Compiled by team+vim@tracker.debian.org
# Huge version without GUI. Features included (+) or not (-):
# +acl +extra_search +mouse_netterm +tag_old_static
# +arabic +farsi +mouse_sgr -tag_any_white
# +autocmd +file_in_path -mouse_sysmouse -tcl
# +autochdir +find_in_path +mouse_urxvt +termguicolors
# -autoservername +float +mouse_xterm +terminal
# -balloon_eval +folding +multi_byte +terminfo
# +balloon_eval_term -footer +multi_lang +termresponse
# -browse +fork() -mzscheme +textobjects
# ++builtin_terms +gettext +netbeans_intg +timers
# +byte_offset -hangul_input +num64 +title
# +channel +iconv +packages -toolbar
# +cindent +insert_expand +path_extra +user_commands
# -clientserver +job -perl +vartabs
# -clipboard +jumplist +persistent_undo +vertsplit
# +cmdline_compl +keymap +postscript +virtualedit
# +cmdline_hist +lambda +printer +visual
# +cmdline_info +langmap +profile +visualextra
# +comments +libcall -python +viminfo
# +conceal +linebreak -python3 +vreplace
# +cryptv +lispindent +quickfix +wildignore
# +cscope +listcmds +reltime +wildmenu
# +cursorbind +localmap +rightleft +windows
# +cursorshape -lua -ruby +writebackup
# +dialog_con +menu +scrollbind -X11
# +diff +mksession +signs -xfontset
# +digraphs +modify_fname +smartindent -xim
# -dnd +mouse +startuptime -xpm
# -ebcdic -mouseshape +statusline -xsmp
# +emacs_tags +mouse_dec -sun_workshop -xterm_clipboard
# +eval +mouse_gpm +syntax -xterm_save
# +ex_extra -mouse_jsbterm +tag_binary
# system vimrc file: "$VIM/vimrc"
# user vimrc file: "$HOME/.vimrc"
# 2nd user vimrc file: "~/.vim/vimrc"
# user exrc file: "$HOME/.exrc"
# defaults file: "$VIMRUNTIME/defaults.vim"
# fall-back for $VIM: "/usr/share/vim"
# Compilation: gcc -c -I. -Iproto -DHAVE_CONFIG_H -Wdate-time -g -O2 -fdebug-prefix-map=/build/vim-9vcCse/vim-8.1.0320=. -fstack-protector-strong -Wformat -Werror=format-security -U_FORTIFY_SOURCE -D_FORTIFY_SOURCE=1
# Linking: gcc -Wl,-z,relro -Wl,-z,now -Wl,--as-needed -o vim -lm -ltinfo -lnsl -lselinux -lacl -lattr -lgpm -ldl
#
t/000-vim-version.t .... ok
t/all-syntax-groups.t .. ok
t/ansi.t ............... ok
t/bin.t ................ ok
t/compare-formats.t .... ok
t/encoding.t ........... ok
t/html.t ............... ok
t/input_filename.t ..... ok
t/new.t ................ ok
t/override-options.t ... ok
t/share-dir.t .......... ok
t/tvctestsyn.t ......... ok
t/untie-std-handles.t .. ok
t/vim_let.t ............ ok
t/vim_options.t ........ ok
t/xml.t ................ ok
All tests successful.
Test Summary Report
-------------------
t/encoding.t (Wstat: 0 Tests: 8 Failed: 0)
TODO passed: 5-6
Files=18, Tests=143, 7 wallclock secs ( 0.06 usr 0.07 sys + 2.60 cusr 1.17 csys = 3.90 CPU)
Result: PASS
------------------------------
PREREQUISITES
------------------------------
Prerequisite modules loaded:
requires:
Module Need Have
-------------------------- ----- --------
Carp 0 1.42
constant 0 1.33
File::Copy 0 2.32
File::ShareDir 0 1.116
File::Temp 0 0.2308
Getopt::Long 0 2.49
IO::File 0 1.16
IPC::Open3 0 1.20
Path::Class 0.04 0.37
perl 5.006 5.026001
strict 0 1.11
Symbol 0 1.08
Term::ANSIColor 1.03 4.06
warnings 0 1.37
build_requires:
Module Need Have
-------------------------- ----- --------
blib 1.01 1.06
Exporter 0 5.72
ExtUtils::MakeMaker 0 7.34
File::Spec 0 3.75
File::Temp 0 0.2308
IO::Handle 0 1.36
IPC::Open3 0 1.20
lib 0 0.64
Path::Class 0.04 0.37
Test::File::ShareDir::Dist 0 1.001002
Test::More 0.88 1.302140
configure_requires:
Module Need Have
-------------------------- ----- --------
ExtUtils::MakeMaker 0 7.34
File::ShareDir::Install 0.06 0.13
File::Temp 0 0.2308
IO::File 0 1.16
IPC::Open3 0 1.20
perl 5.006 5.026001
strict 0 1.11
warnings 0 1.37
------------------------------
ENVIRONMENT AND OTHER CONTEXT
------------------------------
Environment variables:
AUTOMATED_TESTING = 1
LANG = en_US.UTF-8
PATH = /home/sand/bin:/usr/local/bin:/usr/bin:/bin:/usr/games:/usr/local/perl/bin:/usr/X11/bin:/sbin:/usr/sbin
PERL5LIB = /tmp/loop_over_bdir-22549-tKqeiW/MooX-late-0.015-0/blib/arch:/tmp/loop_over_bdir-22549-tKqeiW/MooX-late-0.015-0/blib/lib:/tmp/loop_over_bdir-22549-tKqeiW/MooX-0.101-0/blib/arch:/tmp/loop_over_bdir-22549-tKqeiW/MooX-0.101-0/blib/lib
PERL5OPT =
PERL5_CPANPLUS_IS_RUNNING = 22550
PERL5_CPAN_IS_RUNNING = 22550
PERL5_CPAN_IS_RUNNING_IN_RECURSION = 2358,22550
PERL_CANARY_STABILITY_NOPROMPT = 1
PERL_MM_USE_DEFAULT = 1
PERL_USE_UNSAFE_INC = 1
SHELL = /usr/bin/zsh
TERM = screen
Perl special variables (and OS-specific diagnostics, for MSWin32):
$^X = /home/sand/src/perl/repoperls/installed-perls/host/k93msid/v5.26.1/af11/bin/perl
$UID/$EUID = 1005 / 1005
$GID = 1005 1005
$EGID = 1005 1005
Perl module toolchain versions installed:
Module Have
------------------- --------
CPAN 2.21
CPAN::Meta 2.150010
Cwd 3.75
ExtUtils::CBuilder 0.280230
ExtUtils::Command 7.34
ExtUtils::Install 2.06
ExtUtils::MakeMaker 7.34
ExtUtils::Manifest 1.70
ExtUtils::ParseXS 3.34
File::Spec 3.75
JSON 2.97001
JSON::PP 2.97001
Module::Build 0.4224
Module::Signature 0.83
Parse::CPAN::Meta 2.150010
Test::Harness 3.42
Test::More 1.302140
YAML 1.26
YAML::Syck 1.31
version 0.9917
--
Summary of my perl5 (revision 5 version 26 subversion 1) configuration:
Derived from: 714a461a2ab3017f19ea0f7bbb4934b2309d3aa8
Platform:
osname=linux
osvers=4.18.0-2-amd64
archname=x86_64-linux-ld
uname='linux k93msid 4.18.0-2-amd64 #1 smp debian 4.18.10-2 (2018-10-07) x86_64 gnulinux '
config_args='-Dprefix=/home/sand/src/perl/repoperls/installed-perls/host/k93msid/v5.26.1/af11 -Dmyhostname=k93msid -Dinstallusrbinperl=n -Uversiononly -Dusedevel -des -Ui_db -Dlibswanted=cl pthread socket inet nsl gdbm dbm malloc dl ld sun m crypt sec util c cposix posix ucb BSD gdbm_compat -Uuseithreads -Duselongdouble -DEBUGGING=-g'
hint=recommended
useposix=true
d_sigaction=define
useithreads=undef
usemultiplicity=undef
use64bitint=define
use64bitall=define
uselongdouble=define
usemymalloc=n
default_inc_excludes_dot=define
bincompat5005=undef
Compiler:
cc='cc'
ccflags ='-fwrapv -fno-strict-aliasing -pipe -fstack-protector-strong -I/usr/local/include -D_LARGEFILE_SOURCE -D_FILE_OFFSET_BITS=64'
optimize='-O2 -g'
cppflags='-fwrapv -fno-strict-aliasing -pipe -fstack-protector-strong -I/usr/local/include'
ccversion=''
gccversion='8.2.0'
gccosandvers=''
intsize=4
longsize=8
ptrsize=8
doublesize=8
byteorder=12345678
doublekind=3
d_longlong=define
longlongsize=8
d_longdbl=define
longdblsize=16
longdblkind=3
ivtype='long'
ivsize=8
nvtype='long double'
nvsize=16
Off_t='off_t'
lseeksize=8
alignbytes=16
prototype=define
Linker and Libraries:
ld='cc'
ldflags =' -fstack-protector-strong -L/usr/local/lib'
libpth=/usr/local/lib /usr/lib/gcc/x86_64-linux-gnu/8/include-fixed /usr/include/x86_64-linux-gnu /usr/lib /lib/x86_64-linux-gnu /lib/../lib /usr/lib/x86_64-linux-gnu /usr/lib/../lib /lib
libs=-lpthread -lnsl -ldl -lm -lcrypt -lutil -lc
perllibs=-lpthread -lnsl -ldl -lm -lcrypt -lutil -lc
libc=libc-2.27.so
so=so
useshrplib=false
libperl=libperl.a
gnulibc_version='2.27'
Dynamic Linking:
dlsrc=dl_dlopen.xs
dlext=so
d_dlsymun=undef
ccdlflags='-Wl,-E'
cccdlflags='-fPIC'
lddlflags='-shared -O2 -g -L/usr/local/lib -fstack-protector-strong'
Characteristics of this binary (from libperl):
Compile-time options:
HAS_TIMES
PERLIO_LAYERS
PERL_COPY_ON_WRITE
PERL_DONT_CREATE_GVSV
PERL_MALLOC_WRAP
PERL_OP_PARENT
PERL_PRESERVE_IVUV
PERL_USE_DEVEL
USE_64_BIT_ALL
USE_64_BIT_INT
USE_LARGE_FILES
USE_LOCALE
USE_LOCALE_COLLATE
USE_LOCALE_CTYPE
USE_LOCALE_NUMERIC
USE_LOCALE_TIME
USE_LONG_DOUBLE
USE_PERLIO
USE_PERL_ATOF
Locally applied patches:
uncommitted-changes
Built under linux
Compiled at Oct 28 2018 19:50:00
%ENV:
PERL5LIB="/tmp/loop_over_bdir-22549-tKqeiW/MooX-late-0.015-0/blib/arch:/tmp/loop_over_bdir-22549-tKqeiW/MooX-late-0.015-0/blib/lib:/tmp/loop_over_bdir-22549-tKqeiW/MooX-0.101-0/blib/arch:/tmp/loop_over_bdir-22549-tKqeiW/MooX-0.101-0/blib/lib"
PERL5OPT=""
PERL5_CPANPLUS_IS_RUNNING="22550"
PERL5_CPAN_IS_RUNNING="22550"
PERL5_CPAN_IS_RUNNING_IN_RECURSION="2358,22550"
PERL_CANARY_STABILITY_NOPROMPT="1"
PERL_MM_USE_DEFAULT="1"
PERL_USE_UNSAFE_INC="1"
@INC:
/tmp/loop_over_bdir-22549-tKqeiW/MooX-late-0.015-0/blib/arch
/tmp/loop_over_bdir-22549-tKqeiW/MooX-late-0.015-0/blib/lib
/tmp/loop_over_bdir-22549-tKqeiW/MooX-0.101-0/blib/arch
/tmp/loop_over_bdir-22549-tKqeiW/MooX-0.101-0/blib/lib
/home/sand/src/perl/repoperls/installed-perls/host/k93msid/v5.26.1/af11/lib/site_perl/5.26.1/x86_64-linux-ld
/home/sand/src/perl/repoperls/installed-perls/host/k93msid/v5.26.1/af11/lib/site_perl/5.26.1
/home/sand/src/perl/repoperls/installed-perls/host/k93msid/v5.26.1/af11/lib/5.26.1/x86_64-linux-ld
/home/sand/src/perl/repoperls/installed-perls/host/k93msid/v5.26.1/af11/lib/5.26.1
.