Weather-OpenWeatherMap v0.005004 Perl 5 v5.31.5 x86_64-linux-thread-multi

Status
Pass
From
Andreas J. König (ANDK)
Dist
Weather-OpenWeatherMap v0.005004
Platform
Perl 5 v5.31.5 x86_64-linux-thread-multi
Date
2019-10-23 13:49:37
ID
f40e8c30-f59b-11e9-b8b6-1657e83b1713
This distribution has been tested as part of the CPAN Testers
project, supporting the Perl programming language.  See
http://wiki.cpantesters.org/ for more information or email
questions to cpan-testers-discuss@perl.org


--
Dear Jon Portnoy (PAUSE Custodial Account),

This is a computer-generated report for Weather-OpenWeatherMap-0.005004
on perl 5.31.5, created by CPAN-Reporter-1.2018.

Thank you for uploading your work to CPAN.  Congratulations!
All tests were successful.

Sections of this report:

    * Tester comments
    * Program output
    * Prerequisites
    * Environment and other context

------------------------------
TESTER COMMENTS
------------------------------

Additional comments from tester:

this report is from an automated smoke testing program
and was not reviewed by a human for accuracy

------------------------------
PROGRAM OUTPUT
------------------------------

Output from '/usr/bin/make test':

Skip blib/lib/auto/share/dist/Weather-OpenWeatherMap/hourly.json (unchanged)
Skip blib/lib/auto/share/dist/Weather-OpenWeatherMap/failure.json (unchanged)
Skip blib/lib/auto/share/dist/Weather-OpenWeatherMap/3day.json (unchanged)
Skip blib/lib/auto/share/dist/Weather-OpenWeatherMap/current.json (unchanged)
Skip blib/lib/auto/share/dist/Weather-OpenWeatherMap/find.json (unchanged)
PERL_DL_NONLAZY=1 "/tmp/basesmoker-reloperl-SEz7/bin/perl" "-MExtUtils::Command::MM" "-MTest::Harness" "-e" "undef *Test::Harness::Switches; test_harness(0, 'blib/lib', 'blib/arch')" t/*.t t/request/*.t t/request/forecast/*.t t/result/*.t t/result/forecast/*.t
# 
# Versions for all modules listed in MYMETA.json (including optional ones):
# 
# === Configure Requires ===
# 
#     Module                  Want Have
#     ----------------------- ---- ----
#     ExtUtils::MakeMaker      any 7.38
#     File::ShareDir::Install 0.06 0.13
# 
# === Build Requires ===
# 
#     Module              Want Have
#     ------------------- ---- ----
#     ExtUtils::MakeMaker  any 7.38
# 
# === Test Requires ===
# 
#     Module               Want     Have
#     -------------------- ---- --------
#     Devel::Cycle          any     1.12
#     ExtUtils::MakeMaker   any     7.38
#     File::Spec            any     3.78
#     Test::File::ShareDir    1 1.001002
#     Test::More            any 1.302168
#     Test::Roo               1    1.004
# 
# === Test Recommends ===
# 
#     Module         Want     Have
#     ---------- -------- --------
#     CPAN::Meta 2.120900 2.150010
# 
# === Runtime Requires ===
# 
#     Module                       Want     Have
#     ------------------------ -------- --------
#     Carp                          any     1.50
#     Digest::SHA                   any     6.02
#     Exporter::Tiny                any 1.002001
#     File::ShareDir                any    1.116
#     HTTP::Request                 any     6.18
#     JSON::MaybeXS                 any 1.004000
#     LWP::UserAgent                any     6.39
#     List::Objects::Types            1 2.001001
#     List::Objects::WithUtils 2.010002 2.028003
#     Module::Runtime               any    0.016
#     Moo                             2 2.003004
#     Path::Tiny                   0.05    0.108
#     Throwable                     0.2 0.200013
#     Try::Tiny                     any     0.30
#     Types::DateTime               any    0.002
#     Types::Path::Tiny           0.005    0.006
#     Types::Standard               any 1.004004
#     URI::Escape                   any     3.31
#     strictures                      2 2.000006
# 
t/00-report-prereqs.t ........ ok
t/author-no-tabs.t ........... skipped: these tests are for testing by the author
t/author-pod-syntax.t ........ skipped: these tests are for testing by the author
        # Sleeping 1 second
        # Sleeping 1 second
t/cache.t .................... ok
t/error.t .................... ok
t/openweathermap.t ........... ok
t/release-cpan-changes.t ..... skipped: these tests are for release candidate testing
t/release-dist-manifest.t .... skipped: these tests are for release candidate testing
t/release-pod-linkcheck.t .... skipped: these tests are for release candidate testing
t/release-synopsis.t ......... skipped: these tests are for release candidate testing
t/release-unused-vars.t ...... skipped: these tests are for release candidate testing
t/request/current.t .......... ok
t/request/find.t ............. ok
t/request/forecast/daily.t ... ok
t/request/forecast/hourly.t .. ok
t/result/current.t ........... ok
t/result/find.t .............. ok
t/result/forecast/daily.t .... ok
t/result/forecast/hourly.t ... ok
t/units.t .................... ok
All tests successful.
Files=20, Tests=23,  8 wallclock secs ( 0.10 usr  0.14 sys +  5.12 cusr  0.98 csys =  6.34 CPU)
Result: PASS

------------------------------
PREREQUISITES
------------------------------

Prerequisite modules loaded:

requires:

    Module                   Need     Have    
    ------------------------ -------- --------
    Carp                     0        1.50    
    Digest::SHA              0        6.02    
    Exporter::Tiny           0        1.002001
    File::ShareDir           0        1.116   
    HTTP::Request            0        6.18    
    JSON::MaybeXS            0        1.004000
    List::Objects::Types     1        2.001001
    List::Objects::WithUtils 2.010002 2.028003
    LWP::UserAgent           0        6.39    
    Module::Runtime          0        0.016   
    Moo                      2        2.003004
    Path::Tiny               0.05     0.108   
    perl                     5.010001 5.031005
    strictures               2        2.000006
    Throwable                0.2      0.200013
    Try::Tiny                0        0.30    
    Types::DateTime          0        0.002   
    Types::Path::Tiny        0.005    0.006   
    Types::Standard          0        1.004004
    URI::Escape              0        3.31    

build_requires:

    Module                   Need     Have    
    ------------------------ -------- --------
    Devel::Cycle             0        1.12    
    ExtUtils::MakeMaker      0        7.38    
    File::Spec               0        3.78    
    Test::File::ShareDir     1        1.001002
    Test::More               0        1.302168
    Test::Roo                1        1.004   

configure_requires:

    Module                   Need     Have    
    ------------------------ -------- --------
    ExtUtils::MakeMaker      0        7.38    
    File::ShareDir::Install  0.06     0.13    


------------------------------
ENVIRONMENT AND OTHER CONTEXT
------------------------------

Environment variables:

    AUTOMATED_TESTING = 1
    LANG = en_US.UTF-8
    PATH = /home/sand/bin:/usr/local/bin:/usr/local/sbin:/usr/sbin:/usr/bin:/sbin:/bin:/usr/games:/usr/local/games:/usr/local/perl/bin:/usr/X11/bin
    PERL = /tmp/basesmoker-reloperl-SEz7/bin/perl
    PERL5LIB = /tmp/loop_over_bdir-23088-fcttiq/Serge-1.4-0/blib/arch:/tmp/loop_over_bdir-23088-fcttiq/Serge-1.4-0/blib/lib:/tmp/loop_over_bdir-23088-fcttiq/LiquidWeb-Storm-CLI-1.03-0/blib/arch:/tmp/loop_over_bdir-23088-fcttiq/LiquidWeb-Storm-CLI-1.03-0/blib/lib:/tmp/loop_over_bdir-23088-fcttiq/MP3-PodcastFetch-1.05-0/blib/arch:/tmp/loop_over_bdir-23088-fcttiq/MP3-PodcastFetch-1.05-0/blib/lib:/tmp/loop_over_bdir-23088-fcttiq/DBIx-Migration-Directories-0.12-0/blib/arch:/tmp/loop_over_bdir-23088-fcttiq/DBIx-Migration-Directories-0.12-0/blib/lib
    PERL5OPT = 
    PERL5_CPANPLUS_IS_RUNNING = 23096
    PERL5_CPAN_IS_RUNNING = 23096
    PERL_CANARY_STABILITY_NOPROMPT = 1
    PERL_MM_USE_DEFAULT = 1
    PERL_USE_UNSAFE_INC = 1
    SHELL = /usr/bin/zsh
    TERM = screen

Perl special variables (and OS-specific diagnostics, for MSWin32):

    $^X = /tmp/basesmoker-reloperl-SEz7/bin/perl
    $UID/$EUID = 1005 / 1005
    $GID = 1005 1005
    $EGID = 1005 1005

Perl module toolchain versions installed:

    Module              Have    
    ------------------- --------
    CPAN                2.27    
    CPAN::Meta          2.150010
    Cwd                 3.78    
    ExtUtils::CBuilder  0.280233
    ExtUtils::Command   7.38    
    ExtUtils::Install   2.14    
    ExtUtils::MakeMaker 7.38    
    ExtUtils::Manifest  1.72    
    ExtUtils::ParseXS   3.40    
    File::Spec          3.78    
    JSON                4.02    
    JSON::PP            4.04    
    Module::Build       0.4229  
    Module::Signature   0.83    
    Parse::CPAN::Meta   2.150010
    Test::Harness       3.42    
    Test::More          1.302168
    YAML                1.29    
    YAML::Syck          1.31    
    version             0.9924  


--

Summary of my perl5 (revision 5 version 31 subversion 5) configuration:
  Commit id: 855bce9a38fe83707e88a27f961aa4a070555df7
  Platform:
    osname=linux
    osvers=4.15.0-65-generic
    archname=x86_64-linux-thread-multi
    uname='linux k93bionic 4.15.0-65-generic #74-ubuntu smp tue sep 17 17:06:04 utc 2019 x86_64 x86_64 x86_64 gnulinux '
    config_args='-Dprefix=/home/sand/src/perl/repoperls/installed-perls/host/k93bionic/v5.31.5/7ee9 -Dmyhostname=k93bionic -Dinstallusrbinperl=n -Uversiononly -Dusedevel -des -Ui_db -Dlibswanted=cl pthread socket inet nsl gdbm dbm malloc dl ld sun m crypt sec util c cposix posix ucb BSD gdbm_compat -Duseithreads -Uuselongdouble -DEBUGGING=-g'
    hint=recommended
    useposix=true
    d_sigaction=define
    useithreads=define
    usemultiplicity=define
    use64bitint=define
    use64bitall=define
    uselongdouble=undef
    usemymalloc=n
    default_inc_excludes_dot=define
    bincompat5005=undef
  Compiler:
    cc='cc'
    ccflags ='-D_REENTRANT -D_GNU_SOURCE -fwrapv -fno-strict-aliasing -pipe -fstack-protector-strong -I/usr/local/include -D_LARGEFILE_SOURCE -D_FILE_OFFSET_BITS=64'
    optimize='-O2 -g'
    cppflags='-D_REENTRANT -D_GNU_SOURCE -fwrapv -fno-strict-aliasing -pipe -fstack-protector-strong -I/usr/local/include'
    ccversion=''
    gccversion='7.4.0'
    gccosandvers=''
    intsize=4
    longsize=8
    ptrsize=8
    doublesize=8
    byteorder=12345678
    doublekind=3
    d_longlong=define
    longlongsize=8
    d_longdbl=define
    longdblsize=16
    longdblkind=3
    ivtype='long'
    ivsize=8
    nvtype='double'
    nvsize=8
    Off_t='off_t'
    lseeksize=8
    alignbytes=8
    prototype=define
  Linker and Libraries:
    ld='cc'
    ldflags =' -fstack-protector-strong -L/usr/local/lib'
    libpth=/usr/local/lib /usr/lib/gcc/x86_64-linux-gnu/7/include-fixed /usr/include/x86_64-linux-gnu /usr/lib /lib/x86_64-linux-gnu /lib/../lib /usr/lib/x86_64-linux-gnu /usr/lib/../lib /lib
    libs=-lpthread -lnsl -ldl -lm -lcrypt -lutil -lc
    perllibs=-lpthread -lnsl -ldl -lm -lcrypt -lutil -lc
    libc=libc-2.27.so
    so=so
    useshrplib=false
    libperl=libperl.a
    gnulibc_version='2.27'
  Dynamic Linking:
    dlsrc=dl_dlopen.xs
    dlext=so
    d_dlsymun=undef
    ccdlflags='-Wl,-E'
    cccdlflags='-fPIC'
    lddlflags='-shared -O2 -g -L/usr/local/lib -fstack-protector-strong'


Characteristics of this binary (from libperl): 
  Compile-time options:
    HAS_TIMES
    MULTIPLICITY
    PERLIO_LAYERS
    PERL_COPY_ON_WRITE
    PERL_DONT_CREATE_GVSV
    PERL_IMPLICIT_CONTEXT
    PERL_MALLOC_WRAP
    PERL_OP_PARENT
    PERL_PRESERVE_IVUV
    PERL_USE_DEVEL
    USE_64_BIT_ALL
    USE_64_BIT_INT
    USE_ITHREADS
    USE_LARGE_FILES
    USE_LOCALE
    USE_LOCALE_COLLATE
    USE_LOCALE_CTYPE
    USE_LOCALE_NUMERIC
    USE_LOCALE_TIME
    USE_PERLIO
    USE_PERL_ATOF
    USE_REENTRANT_API
    USE_THREAD_SAFE_LOCALE
  Built under linux
  Compiled at Oct 21 2019 04:39:29
  %ENV:
    PERL="/tmp/basesmoker-reloperl-SEz7/bin/perl"
    PERL5LIB="/tmp/loop_over_bdir-23088-fcttiq/Serge-1.4-0/blib/arch:/tmp/loop_over_bdir-23088-fcttiq/Serge-1.4-0/blib/lib:/tmp/loop_over_bdir-23088-fcttiq/LiquidWeb-Storm-CLI-1.03-0/blib/arch:/tmp/loop_over_bdir-23088-fcttiq/LiquidWeb-Storm-CLI-1.03-0/blib/lib:/tmp/loop_over_bdir-23088-fcttiq/MP3-PodcastFetch-1.05-0/blib/arch:/tmp/loop_over_bdir-23088-fcttiq/MP3-PodcastFetch-1.05-0/blib/lib:/tmp/loop_over_bdir-23088-fcttiq/DBIx-Migration-Directories-0.12-0/blib/arch:/tmp/loop_over_bdir-23088-fcttiq/DBIx-Migration-Directories-0.12-0/blib/lib"
    PERL5OPT=""
    PERL5_CPANPLUS_IS_RUNNING="23096"
    PERL5_CPAN_IS_RUNNING="23096"
    PERL_CANARY_STABILITY_NOPROMPT="1"
    PERL_MM_USE_DEFAULT="1"
    PERL_USE_UNSAFE_INC="1"
  @INC:
    /tmp/loop_over_bdir-23088-fcttiq/Serge-1.4-0/blib/arch
    /tmp/loop_over_bdir-23088-fcttiq/Serge-1.4-0/blib/lib
    /tmp/loop_over_bdir-23088-fcttiq/LiquidWeb-Storm-CLI-1.03-0/blib/arch
    /tmp/loop_over_bdir-23088-fcttiq/LiquidWeb-Storm-CLI-1.03-0/blib/lib
    /tmp/loop_over_bdir-23088-fcttiq/MP3-PodcastFetch-1.05-0/blib/arch
    /tmp/loop_over_bdir-23088-fcttiq/MP3-PodcastFetch-1.05-0/blib/lib
    /tmp/loop_over_bdir-23088-fcttiq/DBIx-Migration-Directories-0.12-0/blib/arch
    /tmp/loop_over_bdir-23088-fcttiq/DBIx-Migration-Directories-0.12-0/blib/lib
    /home/sand/src/perl/repoperls/installed-perls/host/k93bionic/v5.31.5/7ee9/lib/site_perl/5.31.5/x86_64-linux-thread-multi
    /home/sand/src/perl/repoperls/installed-perls/host/k93bionic/v5.31.5/7ee9/lib/site_perl/5.31.5
    /home/sand/src/perl/repoperls/installed-perls/host/k93bionic/v5.31.5/7ee9/lib/5.31.5/x86_64-linux-thread-multi
    /home/sand/src/perl/repoperls/installed-perls/host/k93bionic/v5.31.5/7ee9/lib/5.31.5
    .