DBIx-ScopedTransaction vv1.2.0 Perl 5 v5.24.3 OpenBSD.amd64-openbsd
- Status
- Pass
- From
- Alceu Rodrigues de Freitas Junior
- Dist
-
DBIx-ScopedTransaction vv1.2.0
- Platform
- Perl 5 v5.24.3 OpenBSD.amd64-openbsd
- Date
- 2018-02-26 19:33:42
- ID
- f42a4372-1b2b-11e8-86a0-aae65148dc6f
This distribution has been tested as part of the CPAN Testers
project, supporting the Perl programming language. See
http://wiki.cpantesters.org/ for more information or email
questions to cpan-testers-discuss@perl.org
--
Dear Guillaume Aubert,
This is a computer-generated report for DBIx-ScopedTransaction-v1.2.0
on perl 5.24.3, created by CPAN-Reporter-1.2018.
Thank you for uploading your work to CPAN. Congratulations!
All tests were successful.
Sections of this report:
* Tester comments
* Program output
* Prerequisites
* Environment and other context
------------------------------
TESTER COMMENTS
------------------------------
Additional comments from tester:
this report is from an automated smoke testing program
and was not reviewed by a human for accuracy
------------------------------
PROGRAM OUTPUT
------------------------------
Output from './Build test':
# Testing DBIx::ScopedTransaction 1.2.0, Perl 5.024003, /home/vegeta/perl5/perlbrew/perls/cperl-5.24.3/bin/cperl
t/00-load.t ........................... ok
t/10-new.t ............................ ok
t/11-new-simultaneous_transactions.t .. ok
t/12-new-void_context.t ............... ok
t/15-get_database_handle.t ............ ok
t/20-commit.t ......................... ok
t/21-commit-failure.t ................. ok
t/30-rollback.t ....................... ok
t/31-rollback-failure.t ............... ok
t/40-DESTROY.t ........................ ok
t/41-DESTROY-rollback_failure.t ....... ok
t/50-is_active.t ...................... ok
All tests successful.
Files=12, Tests=72, 3 wallclock secs ( 0.07 usr 0.12 sys + 1.32 cusr 0.65 csys = 2.16 CPU)
Result: PASS
------------------------------
PREREQUISITES
------------------------------
Prerequisite modules loaded:
requires:
Module Need Have
-------------------- ----- --------
Carp 0 1.40c
Data::Validate::Type 0 1.6.0
perl 5.006 5.024003
Try::Tiny 0 0.30
build_requires:
Module Need Have
-------------------- ----- --------
Data::Dumper 0 2.167_02
DBD::SQLite 0 1.55_07
DBI 0 1.640
File::Spec 0 3.74
Test::Exception 0 0.43
Test::FailWarnings 0 0.008
Test::More 0 1.302125
Test::Warn 0 0.32
configure_requires:
Module Need Have
-------------------- ----- --------
Module::Build 0 0.42_26
------------------------------
ENVIRONMENT AND OTHER CONTEXT
------------------------------
Environment variables:
AUTOMATED_TESTING = 1
DBD_MYSQL_TESTDB = test
DBD_MYSQL_TESTHOST = localhost
DBD_MYSQL_TESTPASSWORD =
DBD_MYSQL_TESTPORT = 3306
DBD_MYSQL_TESTUSER = vegeta
EXTENDED_TESTING = 1
PATH = /home/vegeta/perl5/perlbrew/bin:/home/vegeta/perl5/perlbrew/perls/cperl-5.24.3/bin:/home/vegeta/bin:/usr/bin:/bin:/usr/sbin:/sbin:/usr/X11R6/bin:/usr/local/bin:/usr/local/sbin
PERL5LIB =
PERL5OPT =
PERL5_CPANPLUS_IS_RUNNING = 38301
PERL5_CPAN_IS_RUNNING = 38301
PERL5_CPAN_IS_RUNNING_IN_RECURSION = 18609,38301
PERLBREW_HOME = /home/vegeta/.perlbrew
PERLBREW_MANPATH = /home/vegeta/perl5/perlbrew/perls/cperl-5.24.3/man
PERLBREW_PATH = /home/vegeta/perl5/perlbrew/bin:/home/vegeta/perl5/perlbrew/perls/cperl-5.24.3/bin
PERLBREW_PERL = cperl-5.24.3
PERLBREW_ROOT = /home/vegeta/perl5/perlbrew
PERLBREW_SHELLRC_VERSION = 0.82
PERLBREW_VERSION = 0.82
PERL_CR_SMOKER_CURRENT = DBIx-ScopedTransaction-v1.2.0
PERL_EXTUTILS_AUTOINSTALL = --defaultdeps
PERL_MM_USE_DEFAULT = 1
PERL_USE_UNSAFE_INC = 1
SHELL = /usr/local/bin/bash
TERM = xterm
Perl special variables (and OS-specific diagnostics, for MSWin32):
$^X = /home/vegeta/perl5/perlbrew/perls/cperl-5.24.3/bin/cperl
$UID/$EUID = 1002 / 1002
$GID = 1002 1002 1001
$EGID = 1002 1002 1001
Perl module toolchain versions installed:
Module Have
------------------- --------
CPAN 2.18_01
CPAN::Meta 2.150010
Cwd 3.74
ExtUtils::CBuilder 0.280230
ExtUtils::Command 7.30
ExtUtils::Install 2.14
ExtUtils::MakeMaker 8.30_04
ExtUtils::Manifest 1.70
ExtUtils::ParseXS 3.35
File::Spec 3.74
JSON 2.97001
JSON::PP 2.97001
Module::Build 0.42_26
Module::Signature n/a
Parse::CPAN::Meta 2.150010
Test::Harness 3.39_01
Test::More 1.302125
YAML 1.24
YAML::Syck 1.30
version 0.9918
--
Summary of my cperl (revision 5 version 24 subversion 3) configuration:
Platform:
osname=openbsd, osvers=6.2, archname=OpenBSD.amd64-openbsd
uname='openbsd cpan-smoker-openbsd 6.2 generic.mp#134 amd64 '
config_args='-de -Dprefix=/home/vegeta/perl5/perlbrew/perls/cperl-5.24.3 -Dusecperl -Aeval:scriptdir=/home/vegeta/perl5/perlbrew/perls/cperl-5.24.3/bin'
hint=recommended, useposix=true, d_sigaction=define
useithreads=undef, usemultiplicity=undef
use64bitint=define, use64bitall=define, uselongdouble=undef
usemymalloc=n, bincompat5005=undef
Compiler:
cc='cc', ccflags ='-fno-strict-aliasing -pipe -fstack-protector-strong -I/usr/local/include -D_FORTIFY_SOURCE=2',
optimize='-O2',
cppflags='-fno-strict-aliasing -pipe -fstack-protector-strong -I/usr/local/include'
ccversion='', gccversion='4.2.1 Compatible OpenBSD Clang 4.0.0 (tags/RELEASE_400/final)', gccosandvers=''
intsize=4, longsize=8, ptrsize=8, doublesize=8, byteorder=12345678, doublekind=3
d_longlong=define, longlongsize=8, d_longdbl=define, longdblsize=16, longdblkind=3
ivtype='long', ivsize=8, nvtype='double', nvsize=8, Off_t='off_t', lseeksize=8
alignbytes=8, prototype=define
Linker and Libraries:
ld='cc', ldflags ='-Wl,-E -fstack-protector-strong -L/usr/local/lib'
libpth=/usr/lib /usr/local/lib
libs=-lpthread -lm -lutil -lc
perllibs=-lpthread -lm -lutil -lc
libc=/usr/lib/libc.so.90.0, so=so, useshrplib=false, libperl=libperl.a
gnulibc_version=''
Dynamic Linking:
dlsrc=dl_dlopen.xs, dlext=so, d_dlsymun=undef, ccdlflags=' '
cccdlflags='-DPIC -fPIC ', lddlflags='-shared -fPIC -L/usr/local/lib -fstack-protector-strong'
Characteristics of this binary (from libperl):
Compile-time options: HAS_TIMES PERLIO_LAYERS PERL_COPY_ON_WRITE
PERL_DONT_CREATE_GVSV PERL_HASH_FUNC_FNV1A
PERL_MALLOC_WRAP PERL_PERTURB_KEYS_TOP
PERL_PRESERVE_IVUV USE_64_BIT_ALL USE_64_BIT_INT
USE_CPERL USE_LARGE_FILES USE_LOCALE
USE_LOCALE_COLLATE USE_LOCALE_CTYPE
USE_LOCALE_NUMERIC USE_LOCALE_TIME USE_PERLIO
USE_PERL_ATOF
Built under openbsd
Compiled at Feb 15 2018 20:07:58
%ENV:
PERL5LIB=""
PERL5OPT=""
PERL5_CPANPLUS_IS_RUNNING="38301"
PERL5_CPAN_IS_RUNNING="38301"
PERL5_CPAN_IS_RUNNING_IN_RECURSION="18609,38301"
PERLBREW_HOME="/home/vegeta/.perlbrew"
PERLBREW_MANPATH="/home/vegeta/perl5/perlbrew/perls/cperl-5.24.3/man"
PERLBREW_PATH="/home/vegeta/perl5/perlbrew/bin:/home/vegeta/perl5/perlbrew/perls/cperl-5.24.3/bin"
PERLBREW_PERL="cperl-5.24.3"
PERLBREW_ROOT="/home/vegeta/perl5/perlbrew"
PERLBREW_SHELLRC_VERSION="0.82"
PERLBREW_VERSION="0.82"
PERL_CR_SMOKER_CURRENT="DBIx-ScopedTransaction-v1.2.0"
PERL_EXTUTILS_AUTOINSTALL="--defaultdeps"
PERL_MM_USE_DEFAULT="1"
PERL_USE_UNSAFE_INC="1"
@INC:
/home/vegeta/perl5/perlbrew/perls/cperl-5.24.3/lib/site_cperl/5.24.3/OpenBSD.amd64-openbsd
/home/vegeta/perl5/perlbrew/perls/cperl-5.24.3/lib/site_cperl/5.24.3
/home/vegeta/perl5/perlbrew/perls/cperl-5.24.3/lib/5.24.3/OpenBSD.amd64-openbsd
/home/vegeta/perl5/perlbrew/perls/cperl-5.24.3/lib/5.24.3
.