Report for Dist-Zilla-Plugin-Bootstrap-ShareDir-Dist-1.000002

Back
From: metabase:user:30ae4450-2aae-11df-837a-5e0a49663a4f
Subject: PASS Dist-Zilla-Plugin-Bootstrap-ShareDir-Dist-1.000002 v5.16.1 
Date: 2014-08-16T14:27:17Z

This distribution has been tested as part of the CPAN Testers
project, supporting the Perl programming language.  See
http://wiki.cpantesters.org/ for more information or email
questions to cpan-testers-discuss@perl.org


--
Dear Kent Fredric,

This is a computer-generated report for Dist-Zilla-Plugin-Bootstrap-ShareDir-Dist-1.000002
on perl 5.16.1, created by CPAN-Reporter-1.2010_01.

Thank you for uploading your work to CPAN.  Congratulations!
All tests were successful.

Sections of this report:

    * Tester comments
    * Program output
    * Prerequisites
    * Environment and other context

------------------------------
TESTER COMMENTS
------------------------------

Additional comments from tester:

this report is from an automated smoke testing program
and was not reviewed by a human for accuracy

------------------------------
PROGRAM OUTPUT
------------------------------

Output from 'C:\strawberry5161\c\bin\dmake.exe test':

C:\strawberry5161\perl\bin\perl.exe "-MExtUtils::Command::MM" "-e" "test_harness(0, 'blib\lib', 'blib\arch')" t/*.t t/00-compile/*.t
t/00-compile/lib_Dist_Zilla_Plugin_Bootstrap_ShareDir_Dist_pm.t .. ok
# 
# Versions for all modules listed in MYMETA.json (including optional ones):
# 
# === Configure Requires ===
# 
#     Module              Want    Have
#     ------------------- ---- -------
#     ExtUtils::MakeMaker  any 6.63_02
# 
# === Configure Recommends ===
# 
#     Module              Want    Have
#     ------------------- ---- -------
#     ExtUtils::MakeMaker 6.98 6.63_02
# 
# === Build Requires ===
# 
#     Module              Want    Have
#     ------------------- ---- -------
#     ExtUtils::MakeMaker  any 6.63_02
# 
# === Test Requires ===
# 
#     Module                                    Want       Have
#     ----------------------------------- ---------- ----------
#     Dist::Zilla::Plugin::Bootstrap::lib 0.04000000 0.04000001
#     ExtUtils::MakeMaker                        any    6.63_02
#     File::Copy::Recursive                      any       0.38
#     File::ShareDir                             any       1.03
#     File::Spec                                 any       3.40
#     Path::Tiny                                 any      0.040
#     Test::DZil                                 any   4.300039
#     Test::Fatal                                any      0.010
#     Test::More                                0.89       0.98
# 
# === Test Recommends ===
# 
#     Module                  Want     Have
#     ------------------- -------- --------
#     CPAN::Meta          2.120900 2.132661
#     ExtUtils::MakeMaker     6.98  6.63_02
#     Test::More          1.001003     0.98
# 
# === Runtime Requires ===
# 
#     Module                                    Want       Have
#     ----------------------------------- ---------- ----------
#     Dist::Zilla::Plugin::Bootstrap::lib 0.04000000 0.04000001
#     Dist::Zilla::Role::Bootstrap               any      0.2.1
#     ExtUtils::MakeMaker                        any    6.63_02
#     File::Copy::Recursive                      any       0.38
#     File::ShareDir                             any       1.03
#     File::Spec                                 any       3.40
#     Moose                                      any     2.1005
#     MooseX::AttributeShortcuts                 any      0.022
#     Path::Tiny                                 any      0.040
#     Test::DZil                                 any   4.300039
#     Test::Fatal                                any      0.010
#     Test::File::ShareDir::Object::Dist         any   1.000005
#     Test::More                                0.89       0.98
#     lib                                        any       0.63
#     strict                                     any       1.07
#     utf8                                       any       1.09
#     warnings                                   any       1.13
# 
t/00-report-prereqs.t ............................................ ok
t/01-basic.t ..................................................... ok
t/02-try_built.t ................................................. ok
t/03-try_built-pass2.t ........................................... ok
cannot unlink file for tmp\g5hziG96j_\source\dist.ini: Permission denied at C:/strawberry5161/perl/lib/File/Temp.pm line 902.
cannot remove directory for tmp\g5hziG96j_\source: Directory not empty at C:/strawberry5161/perl/lib/File/Temp.pm line 902.
cannot remove directory for tmp\g5hziG96j_: Directory not empty at C:/strawberry5161/perl/lib/File/Temp.pm line 902.
t/04-try_built_nofallback.t ...................................... ok
t/05-try_built_nofallback-pass2.t ................................ ok
All tests successful.
Files=7, Tests=7, 14 wallclock secs ( 0.02 usr +  0.09 sys =  0.11 CPU)
Result: PASS

------------------------------
PREREQUISITES
------------------------------

Prerequisite modules loaded:

requires:

    Module                              Need       Have      
    ----------------------------------- ---------- ----------
    Dist::Zilla::Plugin::Bootstrap::lib 0.04000000 0.04000001
    Dist::Zilla::Role::Bootstrap        0          0.2.1     
    ExtUtils::MakeMaker                 0          6.63_02   
    File::Copy::Recursive               0          0.38      
    File::ShareDir                      0          1.03      
    File::Spec                          0          3.40      
    lib                                 0          0.63      
    Moose                               0          2.1005    
    MooseX::AttributeShortcuts          0          0.022     
    Path::Tiny                          0          0.040     
    strict                              0          1.07      
    Test::DZil                          0          4.300039  
    Test::Fatal                         0          0.010     
    Test::File::ShareDir::Object::Dist  0          1.000005  
    Test::More                          0.89       0.98      
    utf8                                0          1.09      
    warnings                            0          1.13      

build_requires:

    Module                              Need       Have      
    ----------------------------------- ---------- ----------
    ExtUtils::MakeMaker                 0          6.63_02   

configure_requires:

    Module                              Need       Have      
    ----------------------------------- ---------- ----------
    ExtUtils::MakeMaker                 0          6.63_02   


------------------------------
ENVIRONMENT AND OTHER CONTEXT
------------------------------

Environment variables:

    AUTOMATED_TESTING = 1
    COMSPEC = C:\WINDOWS\system32\cmd.exe
    NUMBER_OF_PROCESSORS = 1
    PATH = C:\Program Files\Far Manager\;C:\WINDOWS\system32;C:\WINDOWS;C:\WINDOWS\System32\Wbem;C:\strawberry5161\c\bin;C:\strawberry5161\perl\site\bin;C:\strawberry5161\perl\bin
    PERL5LIB = C:\strawberry5161\cpan\build\Test-File-ShareDir-1.000005-zqBlnB/blib/arch;C:\strawberry5161\cpan\build\Test-File-ShareDir-1.000005-zqBlnB/blib/lib
    PERL5OPT = 
    PERL5_CPANPLUS_IS_RUNNING = 14828
    PERL5_CPAN_IS_RUNNING = 14828
    PERL5_CPAN_IS_RUNNING_IN_RECURSION = 628,14828
    PERL_CR_SMOKER_CURRENT = Dist-Zilla-Plugin-Bootstrap-ShareDir-Dist-1.000002
    PERL_EXTUTILS_AUTOINSTALL = --defaultdeps
    PERL_MM_USE_DEFAULT = 1
    PROCESSOR_IDENTIFIER = x86 Family 16 Model 5 Stepping 3, AuthenticAMD
    TEMP = C:\DOCUME~1\c\LOCALS~1\Temp
    TERM = dumb

Perl special variables (and OS-specific diagnostics, for MSWin32):

    $^X = C:\strawberry5161\perl\bin\perl.exe
    $UID/$EUID = 0 / 0
    $GID = 0
    $EGID = 0
    Win32::GetOSName = WinXP/.Net
    Win32::GetOSVersion = Service Pack 3, 5, 1, 2600, 2, 3, 0, 256, 1
    Win32::FsType = NTFS
    Win32::IsAdminUser = 1

Perl module toolchain versions installed:

    Module              Have    
    ------------------- --------
    CPAN                2.00    
    CPAN::Meta          2.132661
    Cwd                 3.40    
    ExtUtils::CBuilder  0.280206
    ExtUtils::Command   1.17    
    ExtUtils::Install   1.58    
    ExtUtils::MakeMaker 6.63_02 
    ExtUtils::Manifest  1.61    
    ExtUtils::ParseXS   3.16    
    File::Spec          3.40    
    JSON                2.59    
    JSON::PP            2.27200 
    Module::Build       0.4007  
    Module::Signature   0.68    
    Parse::CPAN::Meta   1.4404  
    Test::Harness       3.29    
    Test::More          0.98    
    YAML                0.84    
    YAML::Syck          1.27    
    version             0.9904  


--

Summary of my perl5 (revision 5 version 16 subversion 1) configuration:
   
  Platform:
    osname=MSWin32, osvers=4.0, archname=MSWin32-x86-multi-thread
    uname='Win32 strawberry-perl 5.16.1.1 #1 Thu Aug  9 09:54:46 2012 i386'
    config_args='undef'
    hint=recommended, useposix=true, d_sigaction=undef
    useithreads=define, usemultiplicity=define
    useperlio=define, d_sfio=undef, uselargefiles=define, usesocks=undef
    use64bitint=undef, use64bitall=undef, uselongdouble=undef
    usemymalloc=n, bincompat5005=undef
  Compiler:
    cc='gcc', ccflags =' -s -O2 -DWIN32  -DPERL_TEXTMODE_SCRIPTS -DPERL_IMPLICIT_CONTEXT -DPERL_IMPLICIT_SYS -fno-strict-aliasing -mms-bitfields',
    optimize='-s -O2',
    cppflags='-DWIN32'
    ccversion='', gccversion='4.6.3', gccosandvers=''
    intsize=4, longsize=4, ptrsize=4, doublesize=8, byteorder=1234
    d_longlong=undef, longlongsize=8, d_longdbl=define, longdblsize=12
    ivtype='long', ivsize=4, nvtype='double', nvsize=8, Off_t='long long', lseeksize=8
    alignbytes=8, prototype=define
  Linker and Libraries:
    ld='g++', ldflags ='-s -L"C:\strawberry5161\perl\lib\CORE" -L"C:\strawberry5161\c\lib"'
    libpth=C:\strawberry5161\c\lib C:\strawberry5161\c\i686-w64-mingw32\lib
    libs=-lmoldname -lkernel32 -luser32 -lgdi32 -lwinspool -lcomdlg32 -ladvapi32 -lshell32 -lole32 -loleaut32 -lnetapi32 -luuid -lws2_32 -lmpr -lwinmm -lversion -lodbc32 -lodbccp32 -lcomctl32
    perllibs=-lmoldname -lkernel32 -luser32 -lgdi32 -lwinspool -lcomdlg32 -ladvapi32 -lshell32 -lole32 -loleaut32 -lnetapi32 -luuid -lws2_32 -lmpr -lwinmm -lversion -lodbc32 -lodbccp32 -lcomctl32
    libc=, so=dll, useshrplib=true, libperl=libperl516.a
    gnulibc_version=''
  Dynamic Linking:
    dlsrc=dl_win32.xs, dlext=dll, d_dlsymun=undef, ccdlflags=' '
    cccdlflags=' ', lddlflags='-mdll -s -L"C:\strawberry5161\perl\lib\CORE" -L"C:\strawberry5161\c\lib"'


Characteristics of this binary (from libperl): 
  Compile-time options: HAS_TIMES HAVE_INTERP_INTERN MULTIPLICITY
                        PERLIO_LAYERS PERL_DONT_CREATE_GVSV
                        PERL_IMPLICIT_CONTEXT PERL_IMPLICIT_SYS
                        PERL_MALLOC_WRAP PERL_PRESERVE_IVUV PL_OP_SLAB_ALLOC
                        USE_ITHREADS USE_LARGE_FILES USE_LOCALE
                        USE_LOCALE_COLLATE USE_LOCALE_CTYPE
                        USE_LOCALE_NUMERIC USE_PERLIO USE_PERL_ATOF
  Built under MSWin32
  Compiled at Aug  9 2012 10:03:09
  %ENV:
    PERL5LIB="C:\strawberry5161\cpan\build\Test-File-ShareDir-1.000005-zqBlnB/blib/arch;C:\strawberry5161\cpan\build\Test-File-ShareDir-1.000005-zqBlnB/blib/lib"
    PERL5_CPANPLUS_IS_RUNNING="14828"
    PERL5_CPAN_IS_RUNNING="14828"
    PERL5_CPAN_IS_RUNNING_IN_RECURSION="628,14828"
    PERL_CR_SMOKER_CURRENT="Dist-Zilla-Plugin-Bootstrap-ShareDir-Dist-1.000002"
    PERL_EXTUTILS_AUTOINSTALL="--defaultdeps"
    PERL_MM_USE_DEFAULT="1"
  @INC:
    C:\strawberry5161\cpan\build\Test-File-ShareDir-1.000005-zqBlnB/blib/arch
    C:\strawberry5161\cpan\build\Test-File-ShareDir-1.000005-zqBlnB/blib/lib
    C:/strawberry5161/perl/site/lib
    C:/strawberry5161/perl/vendor/lib
    C:/strawberry5161/perl/lib
    .