Report for Lexical-Attributes-2009121601

Back
From: metabase:user:472bc8ec-3096-11e2-8119-7fc15ff55eca
Subject: PASS Lexical-Attributes-2009121601 v5.17.7 GNU/Linux
Date: 2012-11-22T05:10:38Z

This distribution has been tested as part of the CPAN Testers
project, supporting the Perl programming language.  See
http://wiki.cpantesters.org/ for more information or email
questions to cpan-testers-discuss@perl.org


--
Dear Abigail,

This is a computer-generated report for Lexical-Attributes-2009121601
on perl 5.17.7, created by CPAN-Reporter-1.2006.

Thank you for uploading your work to CPAN.  Congratulations!
All tests were successful.

Sections of this report:

    * Tester comments
    * Program output
    * Prerequisites
    * Environment and other context

------------------------------
TESTER COMMENTS
------------------------------

Additional comments from tester:

this report is from an automated smoke testing program
and was not reviewed by a human for accuracy

------------------------------
PROGRAM OUTPUT
------------------------------

Output from '/usr/bin/make test':

PERL_DL_NONLAZY=1 /opt/perl-c31ee3b/bin/perl "-MExtUtils::Command::MM" "-e" "test_harness(0, 'blib/lib', 'blib/arch')" t/*.t
t/10_scalar.t ......... ok
t/13_array.t .......... ok
t/17_hash.t ........... ok
t/20_inheritance.t .... ok
t/30_overload.t ....... ok
t/40_destroy.t ........ ok
t/42_destroy_mi.t ..... ok
t/50_interpolation.t .. ok
t/80_duplicate.t ...... ok
t/95_pod.t ............ ok
t/96_pod_coverage.t ... skipped: Test::Pod::Coverage required for testing POD
t/99_kwalitee.t ....... skipped: Test::Kwalitee 1.01 required to test Kwalitee
All tests successful.
Files=12, Tests=1024, 36 wallclock secs ( 0.80 usr  0.08 sys + 28.35 cusr  0.44 csys = 29.67 CPU)
Result: PASS

------------------------------
PREREQUISITES
------------------------------

Prerequisite modules loaded:

requires:

    Module              Need     Have    
    ------------------- -------- --------
    Filter::Simple      0.78     0.88    
    perl                5.008001 5.017007
    Scalar::Util        0        1.25_01 
    strict              0        1.07    
    warnings            0        1.15    

build_requires:

    Module              Need     Have    
    ------------------- -------- --------
    ExtUtils::MakeMaker 0        6.62    

configure_requires:

    Module              Need     Have    
    ------------------- -------- --------
    ExtUtils::MakeMaker 0        6.62    
    strict              0        1.07    
    Test::More          0.88     0.98    
    warnings            0        1.15    


------------------------------
ENVIRONMENT AND OTHER CONTEXT
------------------------------

Environment variables:

    AUTHOR_TESTING = 1
    AUTOMATED_TESTING = 1
    LANG = en_US.utf8
    PATH = /usr/lib/qt-3.3/bin:/usr/kerberos/sbin:/usr/kerberos/bin:/usr/lib/ccache:/usr/local/sbin:/usr/sbin:/sbin:/usr/local/bin:/usr/bin:/bin:/usr/lib/alliance/bin:/opt/real/RealPlayer:/root/bin:/usr/lib/alliance/bin:/opt/real/RealPlayer
    PERL5LIB = 
    PERL5OPT = 
    PERL5_CPANPLUS_IS_RUNNING = 1429
    PERL5_CPAN_IS_RUNNING = 1429
    PERL_MM_USE_DEFAULT = 1
    SHELL = /bin/bash
    TERM = xterm

Perl special variables (and OS-specific diagnostics, for MSWin32):

    $^X = /opt/perl-c31ee3b/bin/perl
    $UID/$EUID = 0 / 0
    $GID = 0 0 1 2 3 4 6 10
    $EGID = 0 0 1 2 3 4 6 10

Perl module toolchain versions installed:

    Module              Have    
    ------------------- --------
    CPAN                1.9800  
    CPAN::Meta          2.120921
    Cwd                 3.33    
    ExtUtils::CBuilder  0.280205
    ExtUtils::Command   1.17    
    ExtUtils::Install   1.58    
    ExtUtils::MakeMaker 6.62    
    ExtUtils::Manifest  1.62    
    ExtUtils::ParseXS   3.18    
    File::Spec          3.33    
    JSON                2.53    
    JSON::PP            2.27200 
    Module::Build       0.4003  
    Module::Signature   n/a     
    Parse::CPAN::Meta   1.4404  
    Test::Harness       3.25    
    Test::More          0.98    
    YAML                0.84    
    YAML::Syck          1.21    
    version             0.9901  


--

Summary of my perl5 (revision 5 version 17 subversion 7) configuration:
  Snapshot of: c31ee3bbc31a4f8c5b4850ce38fb8c353dca688f
  Platform:
    osname=linux, osvers=2.6.25-14.fc9.i686, archname=i686-linux-thread-multi-64int-ld
    uname='linux localhost.localdomain 2.6.25-14.fc9.i686 #1 smp thu may 1 06:28:41 edt 2008 i686 i686 i386 gnulinux '
    config_args='-Dcc=gcc -Dprefix=/opt/perl-c31ee3b -DDEBUGGING -DPERL_IMPLICIT_CONTEXT'
    hint=recommended, useposix=true, d_sigaction=define
    useithreads=define, usemultiplicity=define
    useperlio=define, d_sfio=undef, uselargefiles=define, usesocks=undef
    use64bitint=define, use64bitall=undef, uselongdouble=define
    usemymalloc=y, bincompat5005=undef
  Compiler:
    cc='gcc', ccflags ='-D_REENTRANT -D_GNU_SOURCE -DDEBUGGING -fno-strict-aliasing -pipe -fstack-protector -I/usr/local/include -D_LARGEFILE_SOURCE -D_FILE_OFFSET_BITS=64',
    optimize='-O2 -g',
    cppflags='-D_REENTRANT -D_GNU_SOURCE -DDEBUGGING -fno-strict-aliasing -pipe -fstack-protector -I/usr/local/include'
    ccversion='', gccversion='4.3.0 20080428 (Red Hat 4.3.0-8)', gccosandvers=''
    intsize=4, longsize=4, ptrsize=4, doublesize=8, byteorder=12345678
    d_longlong=define, longlongsize=8, d_longdbl=define, longdblsize=12
    ivtype='long long', ivsize=8, nvtype='long double', nvsize=12, Off_t='off_t', lseeksize=8
    alignbytes=4, prototype=define
  Linker and Libraries:
    ld='gcc', ldflags =' -fstack-protector -L/usr/local/lib'
    libpth=/usr/local/lib /lib /usr/lib
    libs=-lnsl -ldb -ldl -lm -lcrypt -lutil -lpthread -lc
    perllibs=-lnsl -ldl -lm -lcrypt -lutil -lpthread -lc
    libc=/lib/libc-2.8.so, so=so, useshrplib=true, libperl=libperl.so
    gnulibc_version='2.8'
  Dynamic Linking:
    dlsrc=dl_dlopen.xs, dlext=so, d_dlsymun=undef, ccdlflags='-Wl,-E -Wl,-rpath,/opt/perl-c31ee3b/lib/5.17.7/i686-linux-thread-multi-64int-ld/CORE'
    cccdlflags='-fPIC', lddlflags='-shared -O2 -g -L/usr/local/lib -fstack-protector'


Characteristics of this binary (from libperl): 
  Compile-time options: DEBUGGING HAS_TIMES MULTIPLICITY MYMALLOC
                        PERLIO_LAYERS PERL_DONT_CREATE_GVSV
                        PERL_IMPLICIT_CONTEXT PERL_MALLOC_WRAP
                        PERL_PRESERVE_IVUV PERL_TRACK_MEMPOOL USE_64_BIT_INT
                        USE_FAST_STDIO USE_ITHREADS USE_LARGE_FILES
                        USE_LOCALE USE_LOCALE_COLLATE USE_LOCALE_CTYPE
                        USE_LOCALE_NUMERIC USE_LONG_DOUBLE USE_PERLIO
                        USE_PERL_ATOF USE_REENTRANT_API
  Built under linux
  Compiled at Nov 21 2012 14:38:02
  %ENV:
    PERL5LIB=""
    PERL5OPT=""
    PERL5_CPANPLUS_IS_RUNNING="1429"
    PERL5_CPAN_IS_RUNNING="1429"
    PERL_MM_USE_DEFAULT="1"
  @INC:
    /opt/perl-c31ee3b/lib/site_perl/5.17.7/i686-linux-thread-multi-64int-ld
    /opt/perl-c31ee3b/lib/site_perl/5.17.7
    /opt/perl-c31ee3b/lib/5.17.7/i686-linux-thread-multi-64int-ld
    /opt/perl-c31ee3b/lib/5.17.7
    /opt/perl-c31ee3b/lib/site_perl
    .