Test-HTML-Content v0.12 Perl 5 v5.39.8 x86_64-linux
- Status
- Pass
- From
- Andreas J. König (ANDK)
- Dist
-
Test-HTML-Content v0.12
- Platform
- Perl 5 v5.39.8 x86_64-linux
- Date
- 2024-02-29 11:44:54
- ID
- f45d9a7c-d6f7-11ee-967b-f5fedc15a1d0
This distribution has been tested as part of the CPAN Testers
project, supporting the Perl programming language. See
http://wiki.cpantesters.org/ for more information or email
questions to cpan-testers-discuss@perl.org
--
Dear Max Maischein,
This is a computer-generated report for Test-HTML-Content-0.12
on perl 5.39.8, created by CPAN-Reporter-1.2019.
Thank you for uploading your work to CPAN. Congratulations!
All tests were successful.
Sections of this report:
* Tester comments
* Program output
* Prerequisites
* Environment and other context
------------------------------
TESTER COMMENTS
------------------------------
Additional comments from tester:
this report is from an automated smoke testing program
and was not reviewed by a human for accuracy
------------------------------
PROGRAM OUTPUT
------------------------------
Output from '/usr/bin/make test':
PERL_DL_NONLAZY=1 "/tmp/basesmoker-reloperl-57lK/bin/perl" "-MExtUtils::Command::MM" "-MTest::Harness" "-e" "undef *Test::Harness::Switches; test_harness(0, 'blib/lib', 'blib/arch')" t/00-load.t t/00-prerequisites.t t/01-fallback-libxml.t t/01-fallback-pureperl.t t/01-fallback-xpath.t t/01-internal-api.t t/01-libxml-xpath-abstraction.t t/01-xpath-query-builder.t t/02-tags.t t/03-links.t t/04-comments.t t/05-doctype.t t/06-text.t t/07-errors.link.t t/08-errors.comment.t t/09-errors.declaration.t t/09-errors.xpath.t t/10-errors.text.t t/12-title-fallback.t t/12-title.t t/13-xpath-gracefull-errors.t t/embedded-Test-HTML-Content-NoXPath.t t/embedded-Test-HTML-Content-XPathExtensions.t t/embedded-Test-HTML-Content.t
# Testing Test::HTML::Content 0.12, Perl 5.039008
# AutoLoader 5.74
# Carp 1.54
# Config 5.039008
# Cwd 3.90
# Encode 3.20
# Encode::Alias 2.25
# Encode::Config 2.05
# Encode::ConfigLocal 1709001690
# Encode::Encoding 2.08
# Encode::MIME::Name 1.03
# Exporter 5.78
# Exporter::Heavy 5.78
# ExtUtils::Liblist 7.70
# ExtUtils::Liblist::Kid 7.70
# ExtUtils::MM 7.70
# ExtUtils::MM_Any 7.70
# ExtUtils::MM_Unix 7.70
# ExtUtils::MY 7.70
# ExtUtils::MakeMaker 7.70
# ExtUtils::MakeMaker::Config 7.70
# ExtUtils::MakeMaker::Locale 7.70
# ExtUtils::MakeMaker::version 7.70
# Fcntl 1.16
# File::Basename 2.86
# File::Glob 1.42
# File::Path 2.18
# File::Spec 3.90
# File::Spec::Unix 3.91
# HTML::Entities 3.81
# HTML::Parser 3.81
# HTML::PullParser 3.81
# HTML::Tagset 3.20
# HTML::TokeParser 3.81
# I18N::Langinfo 0.24
# IO 1.55
# IO::Handle 1.55
# List::Util 1.63
# Log::Agent 1.005
# Log::Agent::Formatting <unknown>
# Log::Agent::Message <unknown>
# Log::Agent::Priorities <unknown>
# POSIX 2.18
# PerlIO 1.12
# Scalar::Util 1.63
# SelectSaver 1.02
# Storable 3.32
# Symbol 1.09
# Test::Builder 1.302198
# Test::Builder::Formatter 1.302198
# Test::Builder::Module 1.302198
# Test::Builder::TodoDiag 1.302198
# Test::HTML::Content 0.12
# Test::More 1.302198
# Test2::API 1.302198
# Test2::API::Context 1.302198
# Test2::API::Instance 1.302198
# Test2::API::Stack 1.302198
# Test2::Event 1.302198
# Test2::Event::Bail 1.302198
# Test2::Event::Diag 1.302198
# Test2::Event::Exception 1.302198
# Test2::Event::Fail 1.302198
# Test2::Event::Note 1.302198
# Test2::Event::Ok 1.302198
# Test2::Event::Pass 1.302198
# Test2::Event::Plan 1.302198
# Test2::Event::Skip 1.302198
# Test2::Event::Subtest 1.302198
# Test2::Event::V2 1.302198
# Test2::Event::Waiting 1.302198
# Test2::EventFacet 1.302198
# Test2::EventFacet::About 1.302198
# Test2::EventFacet::Amnesty 1.302198
# Test2::EventFacet::Assert 1.302198
# Test2::EventFacet::Control 1.302198
# Test2::EventFacet::Error 1.302198
# Test2::EventFacet::Hub 1.302198
# Test2::EventFacet::Info 1.302198
# Test2::EventFacet::Meta 1.302198
# Test2::EventFacet::Parent 1.302198
# Test2::EventFacet::Plan 1.302198
# Test2::EventFacet::Trace 1.302198
# Test2::Formatter 1.302198
# Test2::Formatter::TAP 1.302198
# Test2::Hub 1.302198
# Test2::Hub::Interceptor 1.302198
# Test2::Hub::Interceptor::Terminator 1.302198
# Test2::Hub::Subtest 1.302198
# Test2::Util 1.302198
# Test2::Util::ExternalMeta 1.302198
# Test2::Util::Facets2Legacy 1.302198
# Test2::Util::HashBase 1.302198
# Test2::Util::Trace 1.302198
# Tie::Hash 1.06
# Time::HiRes 1.9776
# XML::LibXML 2.0210
# XML::LibXML::AttributeHash 2.0210
# XML::LibXML::Boolean 2.0210
# XML::LibXML::Error 2.0210
# XML::LibXML::Literal 2.0210
# XML::LibXML::NodeList 2.0210
# XML::LibXML::Number 2.0210
# XML::LibXML::XPathContext 2.0210
# XML::SAX::Exception 1.09
# XSLoader 0.32
# base 2.27
# bytes 1.08
# constant 1.33
# mro 1.29
# overload 1.37
# overloading 0.02
# parent 0.241
# strict 1.13
# vars 1.05
# version 0.9930
# version::regex 0.9930
# warnings 1.68
# warnings::register 1.06
t/00-load.t ..................................... ok
t/00-prerequisites.t ............................ ok
t/01-fallback-libxml.t .......................... ok
t/01-fallback-pureperl.t ........................ ok
t/01-fallback-xpath.t ........................... ok
t/01-internal-api.t ............................. ok
Old package separator "'" deprecated at t/01-libxml-xpath-abstraction.t line 19.
Use of apostrophe as package separator was deprecated in Perl 5.37.9,
and will be removed in Perl 5.42.0. You should change code that uses
Test::More::isn't() to use Test::More::isnt() as a replacement at t/01-libxml-xpath-abstraction.t line 19
Use of apostrophe as package separator was deprecated in Perl 5.37.9,
and will be removed in Perl 5.42.0. You should change code that uses
Test::More::isn't() to use Test::More::isnt() as a replacement at t/01-libxml-xpath-abstraction.t line 19
t/01-libxml-xpath-abstraction.t ................. ok
t/01-xpath-query-builder.t ...................... ok
HTML parser error : Unexpected end tag : a
<html><!-- <A href="http://www.perl.com"> -->Title</A></html>
^
HTML parser error : Unexpected end tag : a
<html><!-- <A href="http://www.perl.com"> -->Title</A></html>
^
HTML parser error : Unexpected end tag : a
<html><!-- <A href="http://www.perl.com"> -->Title</A></html>
^
HTML parser error : Unexpected end tag : a
<html><!-- <A href="http://www.perl.com"> -->Title</A></html>
^
t/02-tags.t ..................................... ok
t/03-links.t .................................... ok
t/04-comments.t ................................. ok
t/05-doctype.t .................................. ok
t/06-text.t ..................................... ok
t/07-errors.link.t .............................. ok
t/08-errors.comment.t ........................... ok
t/09-errors.declaration.t ....................... ok
t/09-errors.xpath.t ............................. ok
t/10-errors.text.t .............................. ok
t/12-title-fallback.t ........................... ok
t/12-title.t .................................... ok
t/13-xpath-gracefull-errors.t ................... ok
t/embedded-Test-HTML-Content-NoXPath.t .......... ok
t/embedded-Test-HTML-Content-XPathExtensions.t .. ok
t/embedded-Test-HTML-Content.t .................. ok
All tests successful.
Files=24, Tests=625, 4 wallclock secs ( 0.13 usr 0.03 sys + 2.83 cusr 0.56 csys = 3.55 CPU)
Result: PASS
------------------------------
PREREQUISITES
------------------------------
Prerequisite modules loaded:
requires:
Module Need Have
------------------- ------ --------
HTML::TokeParser 0 3.81
perl 5.006 5.039008
Test::Builder 0 1.302198
Test::More 0 1.302198
XML::LibXML 2.0133 2.0210
build_requires:
Module Need Have
------------------- ------ --------
ExtUtils::MakeMaker 0 7.70
Test::More 0 1.302198
configure_requires:
Module Need Have
------------------- ------ --------
ExtUtils::MakeMaker 0 7.70
------------------------------
ENVIRONMENT AND OTHER CONTEXT
------------------------------
Environment variables:
AUTOMATED_TESTING = 1
LANG = en_US.UTF-8
PATH = /home/sand/bin:/usr/local/bin:/usr/local/sbin:/usr/sbin:/usr/bin:/sbin:/bin:/usr/games:/usr/local/games:/snap/bin:/usr/local/perl/bin:/usr/X11/bin
PERL = /tmp/basesmoker-reloperl-57lK/bin/perl
PERL5LIB = /tmp/loop_over_bdir-2354-ukUQqH/dta-tokwrap-0.98-0/blib/arch:/tmp/loop_over_bdir-2354-ukUQqH/dta-tokwrap-0.98-0/blib/lib:/tmp/loop_over_bdir-2354-ukUQqH/Debian-Packages-0.03-0/blib/arch:/tmp/loop_over_bdir-2354-ukUQqH/Debian-Packages-0.03-0/blib/lib:/tmp/loop_over_bdir-2354-ukUQqH/Business-Shipping-DataFiles-1.02-0/blib/arch:/tmp/loop_over_bdir-2354-ukUQqH/Business-Shipping-DataFiles-1.02-0/blib/lib:/tmp/loop_over_bdir-2354-ukUQqH/EJBCA-CrlPublish-0.60-0/blib/arch:/tmp/loop_over_bdir-2354-ukUQqH/EJBCA-CrlPublish-0.60-0/blib/lib:/tmp/loop_over_bdir-2354-ukUQqH/DBIx-Migration-Directories-0.12-0/blib/arch:/tmp/loop_over_bdir-2354-ukUQqH/DBIx-Migration-Directories-0.12-0/blib/lib:/tmp/loop_over_bdir-2354-ukUQqH/Devel-Required-0.16-0/blib/arch:/tmp/loop_over_bdir-2354-ukUQqH/Devel-Required-0.16-0/blib/lib:/tmp/loop_over_bdir-2354-ukUQqH/triceps-2.1.0-0/blib/arch:/tmp/loop_over_bdir-2354-ukUQqH/triceps-2.1.0-0/blib/lib:/tmp/loop_over_bdir-2354-ukUQqH/Dpkg-1.22.4-0/blib/arch:/tmp/loop_over_bdir-2354-ukUQqH/Dpkg-1.22.4-0/blib/lib:/tmp/loop_over_bdir-2354-ukUQqH/LCFG-Build-Skeleton-0.5.0-0/blib/arch:/tmp/loop_over_bdir-2354-ukUQqH/LCFG-Build-Skeleton-0.5.0-0/blib/lib:/tmp/loop_over_bdir-2354-ukUQqH/Lemonldap-NG-Cli-0.2-0/blib/arch:/tmp/loop_over_bdir-2354-ukUQqH/Lemonldap-NG-Cli-0.2-0/blib/lib
PERL5OPT =
PERL5_CPANPLUS_IS_RUNNING = 2367
PERL5_CPAN_IS_RUNNING = 2367
PERL_CANARY_STABILITY_NOPROMPT = 1
PERL_MM_USE_DEFAULT = 1
PERL_USE_UNSAFE_INC = 1
SHELL = /usr/bin/zsh
TERM = screen
Perl special variables (and OS-specific diagnostics, for MSWin32):
$^X = /tmp/basesmoker-reloperl-57lK/bin/perl
$UID/$EUID = 1005 / 1005
$GID = 1005 1005
$EGID = 1005 1005
Perl module toolchain versions installed:
Module Have
------------------- --------
CPAN 2.36
CPAN::Meta 2.150010
Cwd 3.90
ExtUtils::CBuilder 0.280240
ExtUtils::Command 7.70
ExtUtils::Install 2.22
ExtUtils::MakeMaker 7.70
ExtUtils::Manifest 1.75
ExtUtils::ParseXS 3.51
File::Spec 3.90
JSON 4.10
JSON::PP 4.16
Module::Build 0.4234
Module::Signature 0.88
Parse::CPAN::Meta 2.150010
Test2 1.302198
Test::Harness 3.48
Test::More 1.302198
YAML 1.31
YAML::Syck 1.34
version 0.9930
--
Summary of my perl5 (revision 5 version 39 subversion 8) configuration:
Commit id: 78455e6e7fa235411fb2b931eda9d816b5ea880f
Platform:
osname=linux
osvers=5.4.0-171-generic
archname=x86_64-linux
uname='linux k93focal 5.4.0-171-generic #189-ubuntu smp fri jan 5 14:23:02 utc 2024 x86_64 x86_64 x86_64 gnulinux '
config_args='-Dprefix=/home/sand/src/perl/repoperls/installed-perls/host/k93focal/v5.39.8/b254 -Dmyhostname=k93focal -Dinstallusrbinperl=n -Uversiononly -Dusedevel -des -Ui_db -Dlibswanted=cl pthread socket inet nsl gdbm dbm malloc dl ld sun m crypt sec util c cposix posix ucb BSD gdbm_compat -Uuseithreads -Uuselongdouble -DEBUGGING=both'
hint=recommended
useposix=true
d_sigaction=define
useithreads=undef
usemultiplicity=undef
use64bitint=define
use64bitall=define
uselongdouble=undef
usemymalloc=n
default_inc_excludes_dot=define
Compiler:
cc='cc'
ccflags ='-fwrapv -DDEBUGGING -fno-strict-aliasing -pipe -fstack-protector-strong -I/usr/local/include -D_LARGEFILE_SOURCE -D_FILE_OFFSET_BITS=64'
optimize='-O2 -g'
cppflags='-fwrapv -DDEBUGGING -fno-strict-aliasing -pipe -fstack-protector-strong -I/usr/local/include'
ccversion=''
gccversion='9.4.0'
gccosandvers=''
intsize=4
longsize=8
ptrsize=8
doublesize=8
byteorder=12345678
doublekind=3
d_longlong=define
longlongsize=8
d_longdbl=define
longdblsize=16
longdblkind=3
ivtype='long'
ivsize=8
nvtype='double'
nvsize=8
Off_t='off_t'
lseeksize=8
alignbytes=8
prototype=define
Linker and Libraries:
ld='cc'
ldflags =' -fstack-protector-strong -L/usr/local/lib'
libpth=/usr/local/lib /usr/lib/x86_64-linux-gnu /usr/lib /usr/lib64
libs=-lpthread -lnsl -ldl -lm -lcrypt -lutil -lc
perllibs=-lpthread -lnsl -ldl -lm -lcrypt -lutil -lc
libc=libc-2.31.so
so=so
useshrplib=false
libperl=libperl.a
gnulibc_version='2.31'
Dynamic Linking:
dlsrc=dl_dlopen.xs
dlext=so
d_dlsymun=undef
ccdlflags='-Wl,-E'
cccdlflags='-fPIC'
lddlflags='-shared -O2 -g -L/usr/local/lib -fstack-protector-strong'
Characteristics of this binary (from libperl):
Compile-time options:
DEBUGGING
HAS_LONG_DOUBLE
HAS_STRTOLD
HAS_TIMES
PERLIO_LAYERS
PERL_COPY_ON_WRITE
PERL_DONT_CREATE_GVSV
PERL_HASH_FUNC_SIPHASH13
PERL_HASH_USE_SBOX32
PERL_MALLOC_WRAP
PERL_OP_PARENT
PERL_PRESERVE_IVUV
PERL_USE_DEVEL
PERL_USE_SAFE_PUTENV
USE_64_BIT_ALL
USE_64_BIT_INT
USE_LARGE_FILES
USE_LOCALE
USE_LOCALE_COLLATE
USE_LOCALE_CTYPE
USE_LOCALE_NUMERIC
USE_LOCALE_TIME
USE_PERLIO
USE_PERL_ATOF
Built under linux
Compiled at Feb 24 2024 09:04:15
%ENV:
PERL="/tmp/basesmoker-reloperl-57lK/bin/perl"
PERL5LIB="/tmp/loop_over_bdir-2354-ukUQqH/dta-tokwrap-0.98-0/blib/arch:/tmp/loop_over_bdir-2354-ukUQqH/dta-tokwrap-0.98-0/blib/lib:/tmp/loop_over_bdir-2354-ukUQqH/Debian-Packages-0.03-0/blib/arch:/tmp/loop_over_bdir-2354-ukUQqH/Debian-Packages-0.03-0/blib/lib:/tmp/loop_over_bdir-2354-ukUQqH/Business-Shipping-DataFiles-1.02-0/blib/arch:/tmp/loop_over_bdir-2354-ukUQqH/Business-Shipping-DataFiles-1.02-0/blib/lib:/tmp/loop_over_bdir-2354-ukUQqH/EJBCA-CrlPublish-0.60-0/blib/arch:/tmp/loop_over_bdir-2354-ukUQqH/EJBCA-CrlPublish-0.60-0/blib/lib:/tmp/loop_over_bdir-2354-ukUQqH/DBIx-Migration-Directories-0.12-0/blib/arch:/tmp/loop_over_bdir-2354-ukUQqH/DBIx-Migration-Directories-0.12-0/blib/lib:/tmp/loop_over_bdir-2354-ukUQqH/Devel-Required-0.16-0/blib/arch:/tmp/loop_over_bdir-2354-ukUQqH/Devel-Required-0.16-0/blib/lib:/tmp/loop_over_bdir-2354-ukUQqH/triceps-2.1.0-0/blib/arch:/tmp/loop_over_bdir-2354-ukUQqH/triceps-2.1.0-0/blib/lib:/tmp/loop_over_bdir-2354-ukUQqH/Dpkg-1.22.4-0/blib/arch:/tmp/loop_over_bdir-2354-ukUQqH/Dpkg-1.22.4-0/blib/lib:/tmp/loop_over_bdir-2354-ukUQqH/LCFG-Build-Skeleton-0.5.0-0/blib/arch:/tmp/loop_over_bdir-2354-ukUQqH/LCFG-Build-Skeleton-0.5.0-0/blib/lib:/tmp/loop_over_bdir-2354-ukUQqH/Lemonldap-NG-Cli-0.2-0/blib/arch:/tmp/loop_over_bdir-2354-ukUQqH/Lemonldap-NG-Cli-0.2-0/blib/lib"
PERL5OPT=""
PERL5_CPANPLUS_IS_RUNNING="2367"
PERL5_CPAN_IS_RUNNING="2367"
PERL_CANARY_STABILITY_NOPROMPT="1"
PERL_MM_USE_DEFAULT="1"
PERL_USE_UNSAFE_INC="1"
@INC:
/tmp/loop_over_bdir-2354-ukUQqH/dta-tokwrap-0.98-0/blib/arch
/tmp/loop_over_bdir-2354-ukUQqH/dta-tokwrap-0.98-0/blib/lib
/tmp/loop_over_bdir-2354-ukUQqH/Debian-Packages-0.03-0/blib/arch
/tmp/loop_over_bdir-2354-ukUQqH/Debian-Packages-0.03-0/blib/lib
/tmp/loop_over_bdir-2354-ukUQqH/Business-Shipping-DataFiles-1.02-0/blib/arch
/tmp/loop_over_bdir-2354-ukUQqH/Business-Shipping-DataFiles-1.02-0/blib/lib
/tmp/loop_over_bdir-2354-ukUQqH/EJBCA-CrlPublish-0.60-0/blib/arch
/tmp/loop_over_bdir-2354-ukUQqH/EJBCA-CrlPublish-0.60-0/blib/lib
/tmp/loop_over_bdir-2354-ukUQqH/DBIx-Migration-Directories-0.12-0/blib/arch
/tmp/loop_over_bdir-2354-ukUQqH/DBIx-Migration-Directories-0.12-0/blib/lib
/tmp/loop_over_bdir-2354-ukUQqH/Devel-Required-0.16-0/blib/arch
/tmp/loop_over_bdir-2354-ukUQqH/Devel-Required-0.16-0/blib/lib
/tmp/loop_over_bdir-2354-ukUQqH/triceps-2.1.0-0/blib/arch
/tmp/loop_over_bdir-2354-ukUQqH/triceps-2.1.0-0/blib/lib
/tmp/loop_over_bdir-2354-ukUQqH/Dpkg-1.22.4-0/blib/arch
/tmp/loop_over_bdir-2354-ukUQqH/Dpkg-1.22.4-0/blib/lib
/tmp/loop_over_bdir-2354-ukUQqH/LCFG-Build-Skeleton-0.5.0-0/blib/arch
/tmp/loop_over_bdir-2354-ukUQqH/LCFG-Build-Skeleton-0.5.0-0/blib/lib
/tmp/loop_over_bdir-2354-ukUQqH/Lemonldap-NG-Cli-0.2-0/blib/arch
/tmp/loop_over_bdir-2354-ukUQqH/Lemonldap-NG-Cli-0.2-0/blib/lib
/home/sand/src/perl/repoperls/installed-perls/host/k93focal/v5.39.8/b254/lib/site_perl/5.39.8/x86_64-linux
/home/sand/src/perl/repoperls/installed-perls/host/k93focal/v5.39.8/b254/lib/site_perl/5.39.8
/home/sand/src/perl/repoperls/installed-perls/host/k93focal/v5.39.8/b254/lib/5.39.8/x86_64-linux
/home/sand/src/perl/repoperls/installed-perls/host/k93focal/v5.39.8/b254/lib/5.39.8
.