HTTP-Session2 v1.10 Perl 5 v5.36.0 i686-linux
- Status
- Pass
- From
- Chris Williams (BINGOS)
- Dist
-
HTTP-Session2 v1.10
- Platform
- Perl 5 v5.36.0 i686-linux
- Date
- 2022-11-04 22:13:47
- ID
- f45e4fde-5c8d-11ed-aba6-9a79f339625c
This distribution has been tested as part of the CPAN Testers
project, supporting the Perl programming language. See
http://wiki.cpantesters.org/ for more information or email
questions to cpan-testers-discuss@perl.org
--
Dear Tokuhiro Matsuno'',
This is a computer-generated error report created automatically by
CPANPLUS, version 0.9914. Testers personal comments may appear
at the end of this report.
Thank you for uploading your work to CPAN. Congratulations!
All tests were successful.
TEST RESULTS:
Below is the error stack from stage 'make test':
t/00_compile.t .............. ok
Secret string too short at /home/cpan/pit/bare/conf/perl-5.36.0/.cpanplus/5.36.0/build/rZ32zAKAIY/HTTP-Session2-1.10/blib/lib/HTTP/Session2/Base.pm line 79.
HTTP::Session2::Base::__ANON__(HTTP::Session2::ServerStore=HASH(0x1a42020), "s3cret") called at t/01_server_side.t line 23
main::__ANON__("client -> server: request without cookie", CODE(0x1f91c30)) called at t/01_server_side.t line 25
main::__ANON__() called at /home/cpan/pit/bare/perl-5.36.0/lib/site_perl/5.36.0/Test/Builder.pm line 374
eval {...} called at /home/cpan/pit/bare/perl-5.36.0/lib/site_perl/5.36.0/Test/Builder.pm line 374
Test::Builder::subtest(Test::Builder=HASH(0x1a56db0), "First request", CODE(0x1e6fd50)) called at /home/cpan/pit/bare/perl-5.36.0/lib/site_perl/5.36.0/Test/More.pm line 809
Test::More::subtest("First request", CODE(0x1e6fd50)) called at t/01_server_side.t line 11
main::scenario("First request", CODE(0x1e6fd50)) called at t/01_server_side.t line 31
Secret string too short at /home/cpan/pit/bare/conf/perl-5.36.0/.cpanplus/5.36.0/build/rZ32zAKAIY/HTTP-Session2-1.10/blib/lib/HTTP/Session2/Base.pm line 79.
HTTP::Session2::Base::__ANON__(HTTP::Session2::ServerStore=HASH(0x1f91a50), "s3cret") called at t/01_server_side.t line 40
main::__ANON__("client -> server: request without cookie", CODE(0x1a429f0)) called at t/01_server_side.t line 42
main::__ANON__() called at /home/cpan/pit/bare/perl-5.36.0/lib/site_perl/5.36.0/Test/Builder.pm line 374
eval {...} called at /home/cpan/pit/bare/perl-5.36.0/lib/site_perl/5.36.0/Test/Builder.pm line 374
Test::Builder::subtest(Test::Builder=HASH(0x1a56db0), "Store something without login", CODE(0x1e13910)) called at /home/cpan/pit/bare/perl-5.36.0/lib/site_perl/5.36.0/Test/More.pm line 809
Test::More::subtest("Store something without login", CODE(0x1e13910)) called at t/01_server_side.t line 11
main::scenario("Store something without login", CODE(0x1e13910)) called at t/01_server_side.t line 58
Secret string too short at /home/cpan/pit/bare/conf/perl-5.36.0/.cpanplus/5.36.0/build/rZ32zAKAIY/HTTP-Session2-1.10/blib/lib/HTTP/Session2/Base.pm line 79.
HTTP::Session2::Base::__ANON__(HTTP::Session2::ServerStore=HASH(0x1a42700), "s3cret") called at t/01_server_side.t line 70
main::__ANON__("client -> server: request without cookie", CODE(0x1f918e0)) called at t/01_server_side.t line 72
main::__ANON__() called at /home/cpan/pit/bare/perl-5.36.0/lib/site_perl/5.36.0/Test/Builder.pm line 374
eval {...} called at /home/cpan/pit/bare/perl-5.36.0/lib/site_perl/5.36.0/Test/Builder.pm line 374
Test::Builder::subtest(Test::Builder=HASH(0x1a56db0), "Login", CODE(0x1f863c0)) called at /home/cpan/pit/bare/perl-5.36.0/lib/site_perl/5.36.0/Test/More.pm line 809
Test::More::subtest("Login", CODE(0x1f863c0)) called at t/01_server_side.t line 11
main::scenario("Login", CODE(0x1f863c0)) called at t/01_server_side.t line 96
Secret string too short at /home/cpan/pit/bare/conf/perl-5.36.0/.cpanplus/5.36.0/build/rZ32zAKAIY/HTTP-Session2-1.10/blib/lib/HTTP/Session2/Base.pm line 79.
HTTP::Session2::Base::__ANON__(HTTP::Session2::ServerStore=HASH(0x1fa2080), "s3cret") called at t/01_server_side.t line 108
main::__ANON__("client -> server: request without cookie", CODE(0x1f9f720)) called at t/01_server_side.t line 110
main::__ANON__() called at /home/cpan/pit/bare/perl-5.36.0/lib/site_perl/5.36.0/Test/Builder.pm line 374
eval {...} called at /home/cpan/pit/bare/perl-5.36.0/lib/site_perl/5.36.0/Test/Builder.pm line 374
Test::Builder::subtest(Test::Builder=HASH(0x1a56db0), "In a login session", CODE(0x1f86840)) called at /home/cpan/pit/bare/perl-5.36.0/lib/site_perl/5.36.0/Test/More.pm line 809
Test::More::subtest("In a login session", CODE(0x1f86840)) called at t/01_server_side.t line 11
main::scenario("In a login session", CODE(0x1f86840)) called at t/01_server_side.t line 124
Secret string too short at /home/cpan/pit/bare/conf/perl-5.36.0/.cpanplus/5.36.0/build/rZ32zAKAIY/HTTP-Session2-1.10/blib/lib/HTTP/Session2/Base.pm line 79.
HTTP::Session2::Base::__ANON__(HTTP::Session2::ServerStore=HASH(0x1f9f380), "s3cret") called at t/01_server_side.t line 136
main::__ANON__("client -> server: request without cookie", CODE(0x1a42a80)) called at t/01_server_side.t line 138
main::__ANON__() called at /home/cpan/pit/bare/perl-5.36.0/lib/site_perl/5.36.0/Test/Builder.pm line 374
eval {...} called at /home/cpan/pit/bare/perl-5.36.0/lib/site_perl/5.36.0/Test/Builder.pm line 374
Test::Builder::subtest(Test::Builder=HASH(0x1a56db0), "Invalid session id", CODE(0x1f90c60)) called at /home/cpan/pit/bare/perl-5.36.0/lib/site_perl/5.36.0/Test/More.pm line 809
Test::More::subtest("Invalid session id", CODE(0x1f90c60)) called at t/01_server_side.t line 11
main::scenario("Invalid session id", CODE(0x1f90c60)) called at t/01_server_side.t line 153
Secret string too short at /home/cpan/pit/bare/conf/perl-5.36.0/.cpanplus/5.36.0/build/rZ32zAKAIY/HTTP-Session2-1.10/blib/lib/HTTP/Session2/Base.pm line 79.
HTTP::Session2::Base::__ANON__(HTTP::Session2::ServerStore=HASH(0x1a42070), "s3cret") called at t/01_server_side.t line 160
main::__ANON__("client -> server: request without cookie", CODE(0x1a42790)) called at t/01_server_side.t line 167
main::__ANON__() called at /home/cpan/pit/bare/perl-5.36.0/lib/site_perl/5.36.0/Test/Builder.pm line 374
eval {...} called at /home/cpan/pit/bare/perl-5.36.0/lib/site_perl/5.36.0/Test/Builder.pm line 374
Test::Builder::subtest(Test::Builder=HASH(0x1a56db0), "Logout", CODE(0x1f90f70)) called at /home/cpan/pit/bare/perl-5.36.0/lib/site_perl/5.36.0/Test/More.pm line 809
Test::More::subtest("Logout", CODE(0x1f90f70)) called at t/01_server_side.t line 11
main::scenario("Logout", CODE(0x1f90f70)) called at t/01_server_side.t line 182
t/01_server_side.t .......... ok
Secret string too short at /home/cpan/pit/bare/conf/perl-5.36.0/.cpanplus/5.36.0/build/rZ32zAKAIY/HTTP-Session2-1.10/blib/lib/HTTP/Session2/Base.pm line 79.
HTTP::Session2::Base::__ANON__(HTTP::Session2::ClientStore=HASH(0x23dead0), "s3cret") called at t/02_client_side.t line 17
main::__ANON__("client -> server: request without cookie", CODE(0x294b970)) called at t/02_client_side.t line 22
main::__ANON__() called at /home/cpan/pit/bare/perl-5.36.0/lib/site_perl/5.36.0/Test/Builder.pm line 374
eval {...} called at /home/cpan/pit/bare/perl-5.36.0/lib/site_perl/5.36.0/Test/Builder.pm line 374
Test::Builder::subtest(Test::Builder=HASH(0x23f47e0), "First request", CODE(0x2938dc0)) called at /home/cpan/pit/bare/perl-5.36.0/lib/site_perl/5.36.0/Test/More.pm line 809
Test::More::subtest("First request", CODE(0x2938dc0)) called at t/02_client_side.t line 9
main::scenario("First request", CODE(0x2938dc0)) called at t/02_client_side.t line 28
Secret string too short at /home/cpan/pit/bare/conf/perl-5.36.0/.cpanplus/5.36.0/build/rZ32zAKAIY/HTTP-Session2-1.10/blib/lib/HTTP/Session2/Base.pm line 79.
HTTP::Session2::Base::__ANON__(HTTP::Session2::ClientStore=HASH(0x294b680), "s3cret") called at t/02_client_side.t line 33
main::__ANON__("client -> server: request without cookie", CODE(0x23df3b0)) called at t/02_client_side.t line 38
main::__ANON__() called at /home/cpan/pit/bare/perl-5.36.0/lib/site_perl/5.36.0/Test/Builder.pm line 374
eval {...} called at /home/cpan/pit/bare/perl-5.36.0/lib/site_perl/5.36.0/Test/Builder.pm line 374
Test::Builder::subtest(Test::Builder=HASH(0x23f47e0), "Store something without login", CODE(0x293f1e0)) called at /home/cpan/pit/bare/perl-5.36.0/lib/site_perl/5.36.0/Test/More.pm line 809
Test::More::subtest("Store something without login", CODE(0x293f1e0)) called at t/02_client_side.t line 9
main::scenario("Store something without login", CODE(0x293f1e0)) called at t/02_client_side.t line 54
Do not use HTTP::Session2::ClientStore. Use HTTP::Session2::ServerStore or HTTP::Session2::ClientStore2 instead. at /home/cpan/pit/bare/conf/perl-5.36.0/.cpanplus/5.36.0/build/rZ32zAKAIY/HTTP-Session2-1.10/blib/lib/HTTP/Session2/ClientStore.pm line 25.
Secret string too short at /home/cpan/pit/bare/conf/perl-5.36.0/.cpanplus/5.36.0/build/rZ32zAKAIY/HTTP-Session2-1.10/blib/lib/HTTP/Session2/Base.pm line 79.
HTTP::Session2::Base::__ANON__(HTTP::Session2::ClientStore=HASH(0x23df7b0), "s3cret") called at t/02_client_side.t line 60
main::__ANON__("client -> server: request without cookie", CODE(0x294b8a0)) called at t/02_client_side.t line 66
main::__ANON__() called at /home/cpan/pit/bare/perl-5.36.0/lib/site_perl/5.36.0/Test/Builder.pm line 374
eval {...} called at /home/cpan/pit/bare/perl-5.36.0/lib/site_perl/5.36.0/Test/Builder.pm line 374
Test::Builder::subtest(Test::Builder=HASH(0x23f47e0), "Login", CODE(0x293f350)) called at /home/cpan/pit/bare/perl-5.36.0/lib/site_perl/5.36.0/Test/More.pm line 809
Test::More::subtest("Login", CODE(0x293f350)) called at t/02_client_side.t line 9
main::scenario("Login", CODE(0x293f350)) called at t/02_client_side.t line 86
Do not use HTTP::Session2::ClientStore. Use HTTP::Session2::ServerStore or HTTP::Session2::ClientStore2 instead. at /home/cpan/pit/bare/conf/perl-5.36.0/.cpanplus/5.36.0/build/rZ32zAKAIY/HTTP-Session2-1.10/blib/lib/HTTP/Session2/ClientStore.pm line 35.
Do not use HTTP::Session2::ClientStore. Use HTTP::Session2::ServerStore or HTTP::Session2::ClientStore2 instead. at /home/cpan/pit/bare/conf/perl-5.36.0/.cpanplus/5.36.0/build/rZ32zAKAIY/HTTP-Session2-1.10/blib/lib/HTTP/Session2/ClientStore.pm line 25.
Secret string too short at /home/cpan/pit/bare/conf/perl-5.36.0/.cpanplus/5.36.0/build/rZ32zAKAIY/HTTP-Session2-1.10/blib/lib/HTTP/Session2/Base.pm line 79.
HTTP::Session2::Base::__ANON__(HTTP::Session2::ClientStore=HASH(0x2956f00), "s3cret") called at t/02_client_side.t line 92
main::__ANON__("client -> server: request without cookie", CODE(0x29562b0)) called at t/02_client_side.t line 98
main::__ANON__() called at /home/cpan/pit/bare/perl-5.36.0/lib/site_perl/5.36.0/Test/Builder.pm line 374
eval {...} called at /home/cpan/pit/bare/perl-5.36.0/lib/site_perl/5.36.0/Test/Builder.pm line 374
Test::Builder::subtest(Test::Builder=HASH(0x23f47e0), "In a login session", CODE(0x293f680)) called at /home/cpan/pit/bare/perl-5.36.0/lib/site_perl/5.36.0/Test/More.pm line 809
Test::More::subtest("In a login session", CODE(0x293f680)) called at t/02_client_side.t line 9
main::scenario("In a login session", CODE(0x293f680)) called at t/02_client_side.t line 107
Do not use HTTP::Session2::ClientStore. Use HTTP::Session2::ServerStore or HTTP::Session2::ClientStore2 instead. at /home/cpan/pit/bare/conf/perl-5.36.0/.cpanplus/5.36.0/build/rZ32zAKAIY/HTTP-Session2-1.10/blib/lib/HTTP/Session2/ClientStore.pm line 35.
Do not use HTTP::Session2::ClientStore. Use HTTP::Session2::ServerStore or HTTP::Session2::ClientStore2 instead. at /home/cpan/pit/bare/conf/perl-5.36.0/.cpanplus/5.36.0/build/rZ32zAKAIY/HTTP-Session2-1.10/blib/lib/HTTP/Session2/ClientStore.pm line 25.
Secret string too short at /home/cpan/pit/bare/conf/perl-5.36.0/.cpanplus/5.36.0/build/rZ32zAKAIY/HTTP-Session2-1.10/blib/lib/HTTP/Session2/Base.pm line 79.
HTTP::Session2::Base::__ANON__(HTTP::Session2::ClientStore=HASH(0x295f9b0), "s3cret") called at t/02_client_side.t line 112
main::__ANON__("client -> server: request without cookie", CODE(0x2956520)) called at t/02_client_side.t line 118
main::__ANON__() called at /home/cpan/pit/bare/perl-5.36.0/lib/site_perl/5.36.0/Test/Builder.pm line 374
eval {...} called at /home/cpan/pit/bare/perl-5.36.0/lib/site_perl/5.36.0/Test/Builder.pm line 374
Test::Builder::subtest(Test::Builder=HASH(0x23f47e0), "Logout", CODE(0x293f6d0)) called at /home/cpan/pit/bare/perl-5.36.0/lib/site_perl/5.36.0/Test/More.pm line 809
Test::More::subtest("Logout", CODE(0x293f6d0)) called at t/02_client_side.t line 9
main::scenario("Logout", CODE(0x293f6d0)) called at t/02_client_side.t line 131
t/02_client_side.t .......... ok
Secret string too short at /home/cpan/pit/bare/conf/perl-5.36.0/.cpanplus/5.36.0/build/rZ32zAKAIY/HTTP-Session2-1.10/blib/lib/HTTP/Session2/Base.pm line 79.
HTTP::Session2::Base::__ANON__(HTTP::Session2::ServerStore=HASH(0x142d1d0), "s3cret") called at t/03_mech.t line 121
main::server_session(HASH(0x142cf70)) called at t/03_mech.t line 17
main::__ANON__(HASH(0x142cf70)) called at /home/cpan/pit/jail/DMKQCpbnYi/lib/perl5/Test/WWW/Mechanize/PSGI.pm line 46
Test::WWW::Mechanize::PSGI::try {...} () called at /home/cpan/pit/jail/DMKQCpbnYi/lib/perl5/Try/Tiny.pm line 102
eval {...} called at /home/cpan/pit/jail/DMKQCpbnYi/lib/perl5/Try/Tiny.pm line 93
Try::Tiny::try(CODE(0x142cf50), Try::Tiny::Catch=REF(0xcac540)) called at /home/cpan/pit/jail/DMKQCpbnYi/lib/perl5/Test/WWW/Mechanize/PSGI.pm line 53
Test::WWW::Mechanize::PSGI::simple_request(Test::WWW::Mechanize::PSGI=HASH(0x7fb300), HTTP::Request=HASH(0x13d8dc0), undef, undef) called at /home/cpan/pit/jail/DMKQCpbnYi/lib/perl5/LWP/UserAgent.pm line 302
LWP::UserAgent::request(Test::WWW::Mechanize::PSGI=HASH(0x7fb300), HTTP::Request=HASH(0x13d8dc0)) called at /home/cpan/pit/jail/DMKQCpbnYi/lib/perl5/WWW/Mechanize.pm line 1584
WWW::Mechanize::_make_request(Test::WWW::Mechanize::PSGI=HASH(0x7fb300), HTTP::Request=HASH(0x13d8dc0)) called at /home/cpan/pit/jail/DMKQCpbnYi/lib/perl5/WWW/Mechanize.pm line 1424
WWW::Mechanize::request(Test::WWW::Mechanize::PSGI=HASH(0x7fb300), HTTP::Request=HASH(0x13d8dc0)) called at /home/cpan/pit/jail/DMKQCpbnYi/lib/perl5/LWP/UserAgent.pm line 446
LWP::UserAgent::get(Test::WWW::Mechanize::PSGI=HASH(0x7fb300), "/") called at /home/cpan/pit/jail/DMKQCpbnYi/lib/perl5/WWW/Mechanize.pm line 123
WWW::Mechanize::get(Test::WWW::Mechanize::PSGI=HASH(0x7fb300), "/") called at /home/cpan/pit/jail/DMKQCpbnYi/lib/perl5/Test/WWW/Mechanize.pm line 192
Test::WWW::Mechanize::get_ok(Test::WWW::Mechanize::PSGI=HASH(0x7fb300), "/") called at t/03_mech.t line 74
Secret string too short at /home/cpan/pit/bare/conf/perl-5.36.0/.cpanplus/5.36.0/build/rZ32zAKAIY/HTTP-Session2-1.10/blib/lib/HTTP/Session2/Base.pm line 79.
HTTP::Session2::Base::__ANON__(HTTP::Session2::ServerStore=HASH(0x142dbe0), "s3cret") called at t/03_mech.t line 121
main::server_session(HASH(0x142d560)) called at t/03_mech.t line 17
main::__ANON__(HASH(0x142d560)) called at /home/cpan/pit/jail/DMKQCpbnYi/lib/perl5/Test/WWW/Mechanize/PSGI.pm line 46
Test::WWW::Mechanize::PSGI::try {...} () called at /home/cpan/pit/jail/DMKQCpbnYi/lib/perl5/Try/Tiny.pm line 102
eval {...} called at /home/cpan/pit/jail/DMKQCpbnYi/lib/perl5/Try/Tiny.pm line 93
Try::Tiny::try(CODE(0x142d9a0), Try::Tiny::Catch=REF(0x142d0c0)) called at /home/cpan/pit/jail/DMKQCpbnYi/lib/perl5/Test/WWW/Mechanize/PSGI.pm line 53
Test::WWW::Mechanize::PSGI::simple_request(Test::WWW::Mechanize::PSGI=HASH(0x7fb300), HTTP::Request=HASH(0x142d6e0), undef, undef) called at /home/cpan/pit/jail/DMKQCpbnYi/lib/perl5/LWP/UserAgent.pm line 302
LWP::UserAgent::request(Test::WWW::Mechanize::PSGI=HASH(0x7fb300), HTTP::Request=HASH(0x142d6e0)) called at /home/cpan/pit/jail/DMKQCpbnYi/lib/perl5/WWW/Mechanize.pm line 1584
WWW::Mechanize::_make_request(Test::WWW::Mechanize::PSGI=HASH(0x7fb300), HTTP::Request=HASH(0x142d6e0)) called at /home/cpan/pit/jail/DMKQCpbnYi/lib/perl5/WWW/Mechanize.pm line 1424
WWW::Mechanize::request(Test::WWW::Mechanize::PSGI=HASH(0x7fb300), HTTP::Request=HASH(0x142d6e0)) called at /home/cpan/pit/jail/DMKQCpbnYi/lib/perl5/LWP/UserAgent.pm line 492
LWP::UserAgent::post(Test::WWW::Mechanize::PSGI=HASH(0x7fb300), "http://localhost/wishlist?foo", HASH(0x11b7f40)) called at /home/cpan/pit/jail/DMKQCpbnYi/lib/perl5/WWW/Mechanize.pm line 139
WWW::Mechanize::post(Test::WWW::Mechanize::PSGI=HASH(0x7fb300), "/wishlist?foo", HASH(0x11b7f40)) called at /home/cpan/pit/jail/DMKQCpbnYi/lib/perl5/Test/WWW/Mechanize.pm line 309
Test::WWW::Mechanize::post_ok(Test::WWW::Mechanize::PSGI=HASH(0x7fb300), "/wishlist?foo") called at t/03_mech.t line 75
Secret string too short at /home/cpan/pit/bare/conf/perl-5.36.0/.cpanplus/5.36.0/build/rZ32zAKAIY/HTTP-Session2-1.10/blib/lib/HTTP/Session2/Base.pm line 79.
HTTP::Session2::Base::__ANON__(HTTP::Session2::ServerStore=HASH(0x14389d0), "s3cret") called at t/03_mech.t line 121
main::server_session(HASH(0x142d9b0)) called at t/03_mech.t line 17
main::__ANON__(HASH(0x142d9b0)) called at /home/cpan/pit/jail/DMKQCpbnYi/lib/perl5/Test/WWW/Mechanize/PSGI.pm line 46
Test::WWW::Mechanize::PSGI::try {...} () called at /home/cpan/pit/jail/DMKQCpbnYi/lib/perl5/Try/Tiny.pm line 102
eval {...} called at /home/cpan/pit/jail/DMKQCpbnYi/lib/perl5/Try/Tiny.pm line 93
Try::Tiny::try(CODE(0x14386b0), Try::Tiny::Catch=REF(0x142db10)) called at /home/cpan/pit/jail/DMKQCpbnYi/lib/perl5/Test/WWW/Mechanize/PSGI.pm line 53
Test::WWW::Mechanize::PSGI::simple_request(Test::WWW::Mechanize::PSGI=HASH(0x7fb300), HTTP::Request=HASH(0x1438600), undef, undef) called at /home/cpan/pit/jail/DMKQCpbnYi/lib/perl5/LWP/UserAgent.pm line 302
LWP::UserAgent::request(Test::WWW::Mechanize::PSGI=HASH(0x7fb300), HTTP::Request=HASH(0x1438600)) called at /home/cpan/pit/jail/DMKQCpbnYi/lib/perl5/WWW/Mechanize.pm line 1584
WWW::Mechanize::_make_request(Test::WWW::Mechanize::PSGI=HASH(0x7fb300), HTTP::Request=HASH(0x1438600)) called at /home/cpan/pit/jail/DMKQCpbnYi/lib/perl5/WWW/Mechanize.pm line 1424
WWW::Mechanize::request(Test::WWW::Mechanize::PSGI=HASH(0x7fb300), HTTP::Request=HASH(0x1438600)) called at /home/cpan/pit/jail/DMKQCpbnYi/lib/perl5/LWP/UserAgent.pm line 446
LWP::UserAgent::get(Test::WWW::Mechanize::PSGI=HASH(0x7fb300), "http://localhost/wishlist") called at /home/cpan/pit/jail/DMKQCpbnYi/lib/perl5/WWW/Mechanize.pm line 123
WWW::Mechanize::get(Test::WWW::Mechanize::PSGI=HASH(0x7fb300), "/wishlist") called at /home/cpan/pit/jail/DMKQCpbnYi/lib/perl5/Test/WWW/Mechanize.pm line 192
Test::WWW::Mechanize::get_ok(Test::WWW::Mechanize::PSGI=HASH(0x7fb300), "/wishlist") called at t/03_mech.t line 76
Secret string too short at /home/cpan/pit/bare/conf/perl-5.36.0/.cpanplus/5.36.0/build/rZ32zAKAIY/HTTP-Session2-1.10/blib/lib/HTTP/Session2/Base.pm line 79.
HTTP::Session2::Base::__ANON__(HTTP::Session2::ServerStore=HASH(0x1438e60), "s3cret") called at t/03_mech.t line 121
main::server_session(HASH(0x1438560)) called at t/03_mech.t line 17
main::__ANON__(HASH(0x1438560)) called at /home/cpan/pit/jail/DMKQCpbnYi/lib/perl5/Test/WWW/Mechanize/PSGI.pm line 46
Test::WWW::Mechanize::PSGI::try {...} () called at /home/cpan/pit/jail/DMKQCpbnYi/lib/perl5/Try/Tiny.pm line 102
eval {...} called at /home/cpan/pit/jail/DMKQCpbnYi/lib/perl5/Try/Tiny.pm line 93
Try::Tiny::try(CODE(0x1438ec0), Try::Tiny::Catch=REF(0x1438820)) called at /home/cpan/pit/jail/DMKQCpbnYi/lib/perl5/Test/WWW/Mechanize/PSGI.pm line 53
Test::WWW::Mechanize::PSGI::simple_request(Test::WWW::Mechanize::PSGI=HASH(0x7fb300), HTTP::Request=HASH(0x1438b80), undef, undef) called at /home/cpan/pit/jail/DMKQCpbnYi/lib/perl5/LWP/UserAgent.pm line 302
LWP::UserAgent::request(Test::WWW::Mechanize::PSGI=HASH(0x7fb300), HTTP::Request=HASH(0x1438b80)) called at /home/cpan/pit/jail/DMKQCpbnYi/lib/perl5/WWW/Mechanize.pm line 1584
WWW::Mechanize::_make_request(Test::WWW::Mechanize::PSGI=HASH(0x7fb300), HTTP::Request=HASH(0x1438b80)) called at /home/cpan/pit/jail/DMKQCpbnYi/lib/perl5/WWW/Mechanize.pm line 1424
WWW::Mechanize::request(Test::WWW::Mechanize::PSGI=HASH(0x7fb300), HTTP::Request=HASH(0x1438b80)) called at /home/cpan/pit/jail/DMKQCpbnYi/lib/perl5/LWP/UserAgent.pm line 492
LWP::UserAgent::post(Test::WWW::Mechanize::PSGI=HASH(0x7fb300), "http://localhost/wishlist?bar") called at /home/cpan/pit/jail/DMKQCpbnYi/lib/perl5/WWW/Mechanize.pm line 139
WWW::Mechanize::post(Test::WWW::Mechanize::PSGI=HASH(0x7fb300), "/wishlist?bar") called at t/03_mech.t line 78
Secret string too short at /home/cpan/pit/bare/conf/perl-5.36.0/.cpanplus/5.36.0/build/rZ32zAKAIY/HTTP-Session2-1.10/blib/lib/HTTP/Session2/Base.pm line 79.
HTTP::Session2::Base::__ANON__(HTTP::Session2::ServerStore=HASH(0x14385b0), "s3cret") called at t/03_mech.t line 121
main::server_session(HASH(0x142d670)) called at t/03_mech.t line 17
main::__ANON__(HASH(0x142d670)) called at /home/cpan/pit/jail/DMKQCpbnYi/lib/perl5/Test/WWW/Mechanize/PSGI.pm line 46
Test::WWW::Mechanize::PSGI::try {...} () called at /home/cpan/pit/jail/DMKQCpbnYi/lib/perl5/Try/Tiny.pm line 102
eval {...} called at /home/cpan/pit/jail/DMKQCpbnYi/lib/perl5/Try/Tiny.pm line 93
Try::Tiny::try(CODE(0x1439160), Try::Tiny::Catch=REF(0x1438b10)) called at /home/cpan/pit/jail/DMKQCpbnYi/lib/perl5/Test/WWW/Mechanize/PSGI.pm line 53
Test::WWW::Mechanize::PSGI::simple_request(Test::WWW::Mechanize::PSGI=HASH(0x7fb300), HTTP::Request=HASH(0x1438a80), undef, undef) called at /home/cpan/pit/jail/DMKQCpbnYi/lib/perl5/LWP/UserAgent.pm line 302
LWP::UserAgent::request(Test::WWW::Mechanize::PSGI=HASH(0x7fb300), HTTP::Request=HASH(0x1438a80)) called at /home/cpan/pit/jail/DMKQCpbnYi/lib/perl5/WWW/Mechanize.pm line 1584
WWW::Mechanize::_make_request(Test::WWW::Mechanize::PSGI=HASH(0x7fb300), HTTP::Request=HASH(0x1438a80)) called at /home/cpan/pit/jail/DMKQCpbnYi/lib/perl5/WWW/Mechanize.pm line 1424
WWW::Mechanize::request(Test::WWW::Mechanize::PSGI=HASH(0x7fb300), HTTP::Request=HASH(0x1438a80)) called at /home/cpan/pit/jail/DMKQCpbnYi/lib/perl5/LWP/UserAgent.pm line 492
LWP::UserAgent::post(Test::WWW::Mechanize::PSGI=HASH(0x7fb300), "http://localhost/wishlist?bar", HASH(0x11b7f40)) called at /home/cpan/pit/jail/DMKQCpbnYi/lib/perl5/WWW/Mechanize.pm line 139
WWW::Mechanize::post(Test::WWW::Mechanize::PSGI=HASH(0x7fb300), "/wishlist?bar", HASH(0x11b7f40)) called at /home/cpan/pit/jail/DMKQCpbnYi/lib/perl5/Test/WWW/Mechanize.pm line 309
Test::WWW::Mechanize::post_ok(Test::WWW::Mechanize::PSGI=HASH(0x7fb300), "/wishlist?bar") called at t/03_mech.t line 81
Secret string too short at /home/cpan/pit/bare/conf/perl-5.36.0/.cpanplus/5.36.0/build/rZ32zAKAIY/HTTP-Session2-1.10/blib/lib/HTTP/Session2/Base.pm line 79.
HTTP::Session2::Base::__ANON__(HTTP::Session2::ServerStore=HASH(0x14394b0), "s3cret") called at t/03_mech.t line 121
main::server_session(HASH(0x143c8b0)) called at t/03_mech.t line 17
main::__ANON__(HASH(0x143c8b0)) called at /home/cpan/pit/jail/DMKQCpbnYi/lib/perl5/Test/WWW/Mechanize/PSGI.pm line 46
Test::WWW::Mechanize::PSGI::try {...} () called at /home/cpan/pit/jail/DMKQCpbnYi/lib/perl5/Try/Tiny.pm line 102
eval {...} called at /home/cpan/pit/jail/DMKQCpbnYi/lib/perl5/Try/Tiny.pm line 93
Try::Tiny::try(CODE(0x1438f50), Try::Tiny::Catch=REF(0x1438f90)) called at /home/cpan/pit/jail/DMKQCpbnYi/lib/perl5/Test/WWW/Mechanize/PSGI.pm line 53
Test::WWW::Mechanize::PSGI::simple_request(Test::WWW::Mechanize::PSGI=HASH(0x7fb300), HTTP::Request=HASH(0x1438f30), undef, undef) called at /home/cpan/pit/jail/DMKQCpbnYi/lib/perl5/LWP/UserAgent.pm line 302
LWP::UserAgent::request(Test::WWW::Mechanize::PSGI=HASH(0x7fb300), HTTP::Request=HASH(0x1438f30)) called at /home/cpan/pit/jail/DMKQCpbnYi/lib/perl5/WWW/Mechanize.pm line 1584
WWW::Mechanize::_make_request(Test::WWW::Mechanize::PSGI=HASH(0x7fb300), HTTP::Request=HASH(0x1438f30)) called at /home/cpan/pit/jail/DMKQCpbnYi/lib/perl5/WWW/Mechanize.pm line 1424
WWW::Mechanize::request(Test::WWW::Mechanize::PSGI=HASH(0x7fb300), HTTP::Request=HASH(0x1438f30)) called at /home/cpan/pit/jail/DMKQCpbnYi/lib/perl5/LWP/UserAgent.pm line 446
LWP::UserAgent::get(Test::WWW::Mechanize::PSGI=HASH(0x7fb300), "http://localhost/wishlist") called at /home/cpan/pit/jail/DMKQCpbnYi/lib/perl5/WWW/Mechanize.pm line 123
WWW::Mechanize::get(Test::WWW::Mechanize::PSGI=HASH(0x7fb300), "/wishlist") called at /home/cpan/pit/jail/DMKQCpbnYi/lib/perl5/Test/WWW/Mechanize.pm line 192
Test::WWW::Mechanize::get_ok(Test::WWW::Mechanize::PSGI=HASH(0x7fb300), "/wishlist") called at t/03_mech.t line 82
Secret string too short at /home/cpan/pit/bare/conf/perl-5.36.0/.cpanplus/5.36.0/build/rZ32zAKAIY/HTTP-Session2-1.10/blib/lib/HTTP/Session2/Base.pm line 79.
HTTP::Session2::Base::__ANON__(HTTP::Session2::ServerStore=HASH(0x1439080), "s3cret") called at t/03_mech.t line 121
main::server_session(HASH(0x143ca70)) called at t/03_mech.t line 17
main::__ANON__(HASH(0x143ca70)) called at /home/cpan/pit/jail/DMKQCpbnYi/lib/perl5/Test/WWW/Mechanize/PSGI.pm line 46
Test::WWW::Mechanize::PSGI::try {...} () called at /home/cpan/pit/jail/DMKQCpbnYi/lib/perl5/Try/Tiny.pm line 102
eval {...} called at /home/cpan/pit/jail/DMKQCpbnYi/lib/perl5/Try/Tiny.pm line 93
Try::Tiny::try(CODE(0x1438d20), Try::Tiny::Catch=REF(0x1439330)) called at /home/cpan/pit/jail/DMKQCpbnYi/lib/perl5/Test/WWW/Mechanize/PSGI.pm line 53
Test::WWW::Mechanize::PSGI::simple_request(Test::WWW::Mechanize::PSGI=HASH(0x7fb300), HTTP::Request=HASH(0x1438b50), undef, undef) called at /home/cpan/pit/jail/DMKQCpbnYi/lib/perl5/LWP/UserAgent.pm line 302
LWP::UserAgent::request(Test::WWW::Mechanize::PSGI=HASH(0x7fb300), HTTP::Request=HASH(0x1438b50)) called at /home/cpan/pit/jail/DMKQCpbnYi/lib/perl5/WWW/Mechanize.pm line 1584
WWW::Mechanize::_make_request(Test::WWW::Mechanize::PSGI=HASH(0x7fb300), HTTP::Request=HASH(0x1438b50)) called at /home/cpan/pit/jail/DMKQCpbnYi/lib/perl5/WWW/Mechanize.pm line 1424
WWW::Mechanize::request(Test::WWW::Mechanize::PSGI=HASH(0x7fb300), HTTP::Request=HASH(0x1438b50)) called at /home/cpan/pit/jail/DMKQCpbnYi/lib/perl5/LWP/UserAgent.pm line 492
LWP::UserAgent::post(Test::WWW::Mechanize::PSGI=HASH(0x7fb300), "http://localhost/account/login?john", HASH(0x11b7f40)) called at /home/cpan/pit/jail/DMKQCpbnYi/lib/perl5/WWW/Mechanize.pm line 139
WWW::Mechanize::post(Test::WWW::Mechanize::PSGI=HASH(0x7fb300), "/account/login?john", HASH(0x11b7f40)) called at /home/cpan/pit/jail/DMKQCpbnYi/lib/perl5/Test/WWW/Mechanize.pm line 309
Test::WWW::Mechanize::post_ok(Test::WWW::Mechanize::PSGI=HASH(0x7fb300), "/account/login?john") called at t/03_mech.t line 84
Secret string too short at /home/cpan/pit/bare/conf/perl-5.36.0/.cpanplus/5.36.0/build/rZ32zAKAIY/HTTP-Session2-1.10/blib/lib/HTTP/Session2/Base.pm line 79.
HTTP::Session2::Base::__ANON__(HTTP::Session2::ServerStore=HASH(0x143c910), "s3cret") called at t/03_mech.t line 121
main::server_session(HASH(0x143cf00)) called at t/03_mech.t line 17
main::__ANON__(HASH(0x143cf00)) called at /home/cpan/pit/jail/DMKQCpbnYi/lib/perl5/Test/WWW/Mechanize/PSGI.pm line 46
Test::WWW::Mechanize::PSGI::try {...} () called at /home/cpan/pit/jail/DMKQCpbnYi/lib/perl5/Try/Tiny.pm line 102
eval {...} called at /home/cpan/pit/jail/DMKQCpbnYi/lib/perl5/Try/Tiny.pm line 93
Try::Tiny::try(CODE(0x143c8d0), Try::Tiny::Catch=REF(0x143c990)) called at /home/cpan/pit/jail/DMKQCpbnYi/lib/perl5/Test/WWW/Mechanize/PSGI.pm line 53
Test::WWW::Mechanize::PSGI::simple_request(Test::WWW::Mechanize::PSGI=HASH(0x7fb300), HTTP::Request=HASH(0x142dc30), undef, undef) called at /home/cpan/pit/jail/DMKQCpbnYi/lib/perl5/LWP/UserAgent.pm line 302
LWP::UserAgent::request(Test::WWW::Mechanize::PSGI=HASH(0x7fb300), HTTP::Request=HASH(0x142dc30)) called at /home/cpan/pit/jail/DMKQCpbnYi/lib/perl5/WWW/Mechanize.pm line 1584
WWW::Mechanize::_make_request(Test::WWW::Mechanize::PSGI=HASH(0x7fb300), HTTP::Request=HASH(0x142dc30)) called at /home/cpan/pit/jail/DMKQCpbnYi/lib/perl5/WWW/Mechanize.pm line 1424
WWW::Mechanize::request(Test::WWW::Mechanize::PSGI=HASH(0x7fb300), HTTP::Request=HASH(0x142dc30)) called at /home/cpan/pit/jail/DMKQCpbnYi/lib/perl5/LWP/UserAgent.pm line 446
LWP::UserAgent::get(Test::WWW::Mechanize::PSGI=HASH(0x7fb300), "http://localhost/wishlist") called at /home/cpan/pit/jail/DMKQCpbnYi/lib/perl5/WWW/Mechanize.pm line 123
WWW::Mechanize::get(Test::WWW::Mechanize::PSGI=HASH(0x7fb300), "/wishlist") called at /home/cpan/pit/jail/DMKQCpbnYi/lib/perl5/Test/WWW/Mechanize.pm line 192
Test::WWW::Mechanize::get_ok(Test::WWW::Mechanize::PSGI=HASH(0x7fb300), "/wishlist", "Wishlist is still available") called at t/03_mech.t line 85
Secret string too short at /home/cpan/pit/bare/conf/perl-5.36.0/.cpanplus/5.36.0/build/rZ32zAKAIY/HTTP-Session2-1.10/blib/lib/HTTP/Session2/Base.pm line 79.
HTTP::Session2::Base::__ANON__(HTTP::Session2::ServerStore=HASH(0x143d1b0), "s3cret") called at t/03_mech.t line 121
main::server_session(HASH(0x143cb30)) called at t/03_mech.t line 17
main::__ANON__(HASH(0x143cb30)) called at /home/cpan/pit/jail/DMKQCpbnYi/lib/perl5/Test/WWW/Mechanize/PSGI.pm line 46
Test::WWW::Mechanize::PSGI::try {...} () called at /home/cpan/pit/jail/DMKQCpbnYi/lib/perl5/Try/Tiny.pm line 102
eval {...} called at /home/cpan/pit/jail/DMKQCpbnYi/lib/perl5/Try/Tiny.pm line 93
Try::Tiny::try(CODE(0x142d890), Try::Tiny::Catch=REF(0x143c970)) called at /home/cpan/pit/jail/DMKQCpbnYi/lib/perl5/Test/WWW/Mechanize/PSGI.pm line 53
Test::WWW::Mechanize::PSGI::simple_request(Test::WWW::Mechanize::PSGI=HASH(0x7fb300), HTTP::Request=HASH(0x143c890), undef, undef) called at /home/cpan/pit/jail/DMKQCpbnYi/lib/perl5/LWP/UserAgent.pm line 302
LWP::UserAgent::request(Test::WWW::Mechanize::PSGI=HASH(0x7fb300), HTTP::Request=HASH(0x143c890)) called at /home/cpan/pit/jail/DMKQCpbnYi/lib/perl5/WWW/Mechanize.pm line 1584
WWW::Mechanize::_make_request(Test::WWW::Mechanize::PSGI=HASH(0x7fb300), HTTP::Request=HASH(0x143c890)) called at /home/cpan/pit/jail/DMKQCpbnYi/lib/perl5/WWW/Mechanize.pm line 1424
WWW::Mechanize::request(Test::WWW::Mechanize::PSGI=HASH(0x7fb300), HTTP::Request=HASH(0x143c890)) called at /home/cpan/pit/jail/DMKQCpbnYi/lib/perl5/LWP/UserAgent.pm line 492
LWP::UserAgent::post(Test::WWW::Mechanize::PSGI=HASH(0x7fb300), "http://localhost/wishlist?baz") called at /home/cpan/pit/jail/DMKQCpbnYi/lib/perl5/WWW/Mechanize.pm line 139
WWW::Mechanize::post(Test::WWW::Mechanize::PSGI=HASH(0x7fb300), "/wishlist?baz") called at t/03_mech.t line 87
Secret string too short at /home/cpan/pit/bare/conf/perl-5.36.0/.cpanplus/5.36.0/build/rZ32zAKAIY/HTTP-Session2-1.10/blib/lib/HTTP/Session2/Base.pm line 79.
HTTP::Session2::Base::__ANON__(HTTP::Session2::ServerStore=HASH(0x143d540), "s3cret") called at t/03_mech.t line 121
main::server_session(HASH(0x143d0d0)) called at t/03_mech.t line 17
main::__ANON__(HASH(0x143d0d0)) called at /home/cpan/pit/jail/DMKQCpbnYi/lib/perl5/Test/WWW/Mechanize/PSGI.pm line 46
Test::WWW::Mechanize::PSGI::try {...} () called at /home/cpan/pit/jail/DMKQCpbnYi/lib/perl5/Try/Tiny.pm line 102
eval {...} called at /home/cpan/pit/jail/DMKQCpbnYi/lib/perl5/Try/Tiny.pm line 93
Try::Tiny::try(CODE(0x143cda0), Try::Tiny::Catch=REF(0x143ca40)) called at /home/cpan/pit/jail/DMKQCpbnYi/lib/perl5/Test/WWW/Mechanize/PSGI.pm line 53
Test::WWW::Mechanize::PSGI::simple_request(Test::WWW::Mechanize::PSGI=HASH(0x7fb300), HTTP::Request=HASH(0x143cba0), undef, undef) called at /home/cpan/pit/jail/DMKQCpbnYi/lib/perl5/LWP/UserAgent.pm line 302
LWP::UserAgent::request(Test::WWW::Mechanize::PSGI=HASH(0x7fb300), HTTP::Request=HASH(0x143cba0)) called at /home/cpan/pit/jail/DMKQCpbnYi/lib/perl5/WWW/Mechanize.pm line 1584
WWW::Mechanize::_make_request(Test::WWW::Mechanize::PSGI=HASH(0x7fb300), HTTP::Request=HASH(0x143cba0)) called at /home/cpan/pit/jail/DMKQCpbnYi/lib/perl5/WWW/Mechanize.pm line 1424
WWW::Mechanize::request(Test::WWW::Mechanize::PSGI=HASH(0x7fb300), HTTP::Request=HASH(0x143cba0)) called at /home/cpan/pit/jail/DMKQCpbnYi/lib/perl5/LWP/UserAgent.pm line 492
LWP::UserAgent::post(Test::WWW::Mechanize::PSGI=HASH(0x7fb300), "http://localhost/wishlist?baz", HASH(0x11b7f40)) called at /home/cpan/pit/jail/DMKQCpbnYi/lib/perl5/WWW/Mechanize.pm line 139
WWW::Mechanize::post(Test::WWW::Mechanize::PSGI=HASH(0x7fb300), "/wishlist?baz", HASH(0x11b7f40)) called at /home/cpan/pit/jail/DMKQCpbnYi/lib/perl5/Test/WWW/Mechanize.pm line 309
Test::WWW::Mechanize::post_ok(Test::WWW::Mechanize::PSGI=HASH(0x7fb300), "/wishlist?baz") called at t/03_mech.t line 90
Secret string too short at /home/cpan/pit/bare/conf/perl-5.36.0/.cpanplus/5.36.0/build/rZ32zAKAIY/HTTP-Session2-1.10/blib/lib/HTTP/Session2/Base.pm line 79.
HTTP::Session2::Base::__ANON__(HTTP::Session2::ServerStore=HASH(0x143d720), "s3cret") called at t/03_mech.t line 121
main::server_session(HASH(0x1440b50)) called at t/03_mech.t line 17
main::__ANON__(HASH(0x1440b50)) called at /home/cpan/pit/jail/DMKQCpbnYi/lib/perl5/Test/WWW/Mechanize/PSGI.pm line 46
Test::WWW::Mechanize::PSGI::try {...} () called at /home/cpan/pit/jail/DMKQCpbnYi/lib/perl5/Try/Tiny.pm line 102
eval {...} called at /home/cpan/pit/jail/DMKQCpbnYi/lib/perl5/Try/Tiny.pm line 93
Try::Tiny::try(CODE(0x143d640), Try::Tiny::Catch=REF(0x143d400)) called at /home/cpan/pit/jail/DMKQCpbnYi/lib/perl5/Test/WWW/Mechanize/PSGI.pm line 53
Test::WWW::Mechanize::PSGI::simple_request(Test::WWW::Mechanize::PSGI=HASH(0x7fb300), HTTP::Request=HASH(0x143cf80), undef, undef) called at /home/cpan/pit/jail/DMKQCpbnYi/lib/perl5/LWP/UserAgent.pm line 302
LWP::UserAgent::request(Test::WWW::Mechanize::PSGI=HASH(0x7fb300), HTTP::Request=HASH(0x143cf80)) called at /home/cpan/pit/jail/DMKQCpbnYi/lib/perl5/WWW/Mechanize.pm line 1584
WWW::Mechanize::_make_request(Test::WWW::Mechanize::PSGI=HASH(0x7fb300), HTTP::Request=HASH(0x143cf80)) called at /home/cpan/pit/jail/DMKQCpbnYi/lib/perl5/WWW/Mechanize.pm line 1424
WWW::Mechanize::request(Test::WWW::Mechanize::PSGI=HASH(0x7fb300), HTTP::Request=HASH(0x143cf80)) called at /home/cpan/pit/jail/DMKQCpbnYi/lib/perl5/LWP/UserAgent.pm line 446
LWP::UserAgent::get(Test::WWW::Mechanize::PSGI=HASH(0x7fb300), "http://localhost/wishlist") called at /home/cpan/pit/jail/DMKQCpbnYi/lib/perl5/WWW/Mechanize.pm line 123
WWW::Mechanize::get(Test::WWW::Mechanize::PSGI=HASH(0x7fb300), "/wishlist") called at /home/cpan/pit/jail/DMKQCpbnYi/lib/perl5/Test/WWW/Mechanize.pm line 192
Test::WWW::Mechanize::get_ok(Test::WWW::Mechanize::PSGI=HASH(0x7fb300), "/wishlist", "Wishlist is still available") called at t/03_mech.t line 91
Secret string too short at /home/cpan/pit/bare/conf/perl-5.36.0/.cpanplus/5.36.0/build/rZ32zAKAIY/HTTP-Session2-1.10/blib/lib/HTTP/Session2/Base.pm line 79.
HTTP::Session2::Base::__ANON__(HTTP::Session2::ServerStore=HASH(0x143d660), "s3cret") called at t/03_mech.t line 121
main::server_session(HASH(0x1440e20)) called at t/03_mech.t line 17
main::__ANON__(HASH(0x1440e20)) called at /home/cpan/pit/jail/DMKQCpbnYi/lib/perl5/Test/WWW/Mechanize/PSGI.pm line 46
Test::WWW::Mechanize::PSGI::try {...} () called at /home/cpan/pit/jail/DMKQCpbnYi/lib/perl5/Try/Tiny.pm line 102
eval {...} called at /home/cpan/pit/jail/DMKQCpbnYi/lib/perl5/Try/Tiny.pm line 93
Try::Tiny::try(CODE(0x143d2f0), Try::Tiny::Catch=REF(0x143d520)) called at /home/cpan/pit/jail/DMKQCpbnYi/lib/perl5/Test/WWW/Mechanize/PSGI.pm line 53
Test::WWW::Mechanize::PSGI::simple_request(Test::WWW::Mechanize::PSGI=HASH(0x7fb300), HTTP::Request=HASH(0x143d3f0), undef, undef) called at /home/cpan/pit/jail/DMKQCpbnYi/lib/perl5/LWP/UserAgent.pm line 302
LWP::UserAgent::request(Test::WWW::Mechanize::PSGI=HASH(0x7fb300), HTTP::Request=HASH(0x143d3f0)) called at /home/cpan/pit/jail/DMKQCpbnYi/lib/perl5/WWW/Mechanize.pm line 1584
WWW::Mechanize::_make_request(Test::WWW::Mechanize::PSGI=HASH(0x7fb300), HTTP::Request=HASH(0x143d3f0)) called at /home/cpan/pit/jail/DMKQCpbnYi/lib/perl5/WWW/Mechanize.pm line 1424
WWW::Mechanize::request(Test::WWW::Mechanize::PSGI=HASH(0x7fb300), HTTP::Request=HASH(0x143d3f0)) called at /home/cpan/pit/jail/DMKQCpbnYi/lib/perl5/LWP/UserAgent.pm line 446
LWP::UserAgent::get(Test::WWW::Mechanize::PSGI=HASH(0x7fb300), "http://localhost/my/name") called at /home/cpan/pit/jail/DMKQCpbnYi/lib/perl5/WWW/Mechanize.pm line 123
WWW::Mechanize::get(Test::WWW::Mechanize::PSGI=HASH(0x7fb300), "/my/name") called at /home/cpan/pit/jail/DMKQCpbnYi/lib/perl5/Test/WWW/Mechanize.pm line 192
Test::WWW::Mechanize::get_ok(Test::WWW::Mechanize::PSGI=HASH(0x7fb300), "/my/name") called at t/03_mech.t line 93
Secret string too short at /home/cpan/pit/bare/conf/perl-5.36.0/.cpanplus/5.36.0/build/rZ32zAKAIY/HTTP-Session2-1.10/blib/lib/HTTP/Session2/Base.pm line 79.
HTTP::Session2::Base::__ANON__(HTTP::Session2::ServerStore=HASH(0x1440ef0), "s3cret") called at t/03_mech.t line 121
main::server_session(HASH(0x1440ce0)) called at t/03_mech.t line 17
main::__ANON__(HASH(0x1440ce0)) called at /home/cpan/pit/jail/DMKQCpbnYi/lib/perl5/Test/WWW/Mechanize/PSGI.pm line 46
Test::WWW::Mechanize::PSGI::try {...} () called at /home/cpan/pit/jail/DMKQCpbnYi/lib/perl5/Try/Tiny.pm line 102
eval {...} called at /home/cpan/pit/jail/DMKQCpbnYi/lib/perl5/Try/Tiny.pm line 93
Try::Tiny::try(CODE(0x143d6e0), Try::Tiny::Catch=REF(0x1440e10)) called at /home/cpan/pit/jail/DMKQCpbnYi/lib/perl5/Test/WWW/Mechanize/PSGI.pm line 53
Test::WWW::Mechanize::PSGI::simple_request(Test::WWW::Mechanize::PSGI=HASH(0x7fb300), HTTP::Request=HASH(0x1441010), undef, undef) called at /home/cpan/pit/jail/DMKQCpbnYi/lib/perl5/LWP/UserAgent.pm line 302
LWP::UserAgent::request(Test::WWW::Mechanize::PSGI=HASH(0x7fb300), HTTP::Request=HASH(0x1441010)) called at /home/cpan/pit/jail/DMKQCpbnYi/lib/perl5/WWW/Mechanize.pm line 1584
WWW::Mechanize::_make_request(Test::WWW::Mechanize::PSGI=HASH(0x7fb300), HTTP::Request=HASH(0x1441010)) called at /home/cpan/pit/jail/DMKQCpbnYi/lib/perl5/WWW/Mechanize.pm line 1424
WWW::Mechanize::request(Test::WWW::Mechanize::PSGI=HASH(0x7fb300), HTTP::Request=HASH(0x1441010)) called at /home/cpan/pit/jail/DMKQCpbnYi/lib/perl5/LWP/UserAgent.pm line 492
LWP::UserAgent::post(Test::WWW::Mechanize::PSGI=HASH(0x7fb300), "http://localhost/account/logout?john") called at /home/cpan/pit/jail/DMKQCpbnYi/lib/perl5/WWW/Mechanize.pm line 139
WWW::Mechanize::post(Test::WWW::Mechanize::PSGI=HASH(0x7fb300), "/account/logout?john") called at t/03_mech.t line 97
Secret string too short at /home/cpan/pit/bare/conf/perl-5.36.0/.cpanplus/5.36.0/build/rZ32zAKAIY/HTTP-Session2-1.10/blib/lib/HTTP/Session2/Base.pm line 79.
HTTP::Session2::Base::__ANON__(HTTP::Session2::ClientStore=HASH(0x142d950), "s3cret") called at t/03_mech.t line 127
main::client_session(HASH(0x14411e0)) called at t/03_mech.t line 17
main::__ANON__(HASH(0x14411e0)) called at /home/cpan/pit/jail/DMKQCpbnYi/lib/perl5/Test/WWW/Mechanize/PSGI.pm line 46
Test::WWW::Mechanize::PSGI::try {...} () called at /home/cpan/pit/jail/DMKQCpbnYi/lib/perl5/Try/Tiny.pm line 102
eval {...} called at /home/cpan/pit/jail/DMKQCpbnYi/lib/perl5/Try/Tiny.pm line 93
Try::Tiny::try(CODE(0x142d3f0), Try::Tiny::Catch=REF(0x1441310)) called at /home/cpan/pit/jail/DMKQCpbnYi/lib/perl5/Test/WWW/Mechanize/PSGI.pm line 53
Test::WWW::Mechanize::PSGI::simple_request(Test::WWW::Mechanize::PSGI=HASH(0x14410f0), HTTP::Request=HASH(0x1440fc0), undef, undef) called at /home/cpan/pit/jail/DMKQCpbnYi/lib/perl5/LWP/UserAgent.pm line 302
LWP::UserAgent::request(Test::WWW::Mechanize::PSGI=HASH(0x14410f0), HTTP::Request=HASH(0x1440fc0)) called at /home/cpan/pit/jail/DMKQCpbnYi/lib/perl5/WWW/Mechanize.pm line 1584
WWW::Mechanize::_make_request(Test::WWW::Mechanize::PSGI=HASH(0x14410f0), HTTP::Request=HASH(0x1440fc0)) called at /home/cpan/pit/jail/DMKQCpbnYi/lib/perl5/WWW/Mechanize.pm line 1424
WWW::Mechanize::request(Test::WWW::Mechanize::PSGI=HASH(0x14410f0), HTTP::Request=HASH(0x1440fc0)) called at /home/cpan/pit/jail/DMKQCpbnYi/lib/perl5/LWP/UserAgent.pm line 446
LWP::UserAgent::get(Test::WWW::Mechanize::PSGI=HASH(0x14410f0), "/") called at /home/cpan/pit/jail/DMKQCpbnYi/lib/perl5/WWW/Mechanize.pm line 123
WWW::Mechanize::get(Test::WWW::Mechanize::PSGI=HASH(0x14410f0), "/") called at /home/cpan/pit/jail/DMKQCpbnYi/lib/perl5/Test/WWW/Mechanize.pm line 192
Test::WWW::Mechanize::get_ok(Test::WWW::Mechanize::PSGI=HASH(0x14410f0), "/") called at t/03_mech.t line 74
Secret string too short at /home/cpan/pit/bare/conf/perl-5.36.0/.cpanplus/5.36.0/build/rZ32zAKAIY/HTTP-Session2-1.10/blib/lib/HTTP/Session2/Base.pm line 79.
HTTP::Session2::Base::__ANON__(HTTP::Session2::ClientStore=HASH(0x142dbe0), "s3cret") called at t/03_mech.t line 127
main::client_session(HASH(0x1438610)) called at t/03_mech.t line 17
main::__ANON__(HASH(0x1438610)) called at /home/cpan/pit/jail/DMKQCpbnYi/lib/perl5/Test/WWW/Mechanize/PSGI.pm line 46
Test::WWW::Mechanize::PSGI::try {...} () called at /home/cpan/pit/jail/DMKQCpbnYi/lib/perl5/Try/Tiny.pm line 102
eval {...} called at /home/cpan/pit/jail/DMKQCpbnYi/lib/perl5/Try/Tiny.pm line 93
Try::Tiny::try(CODE(0x1440d10), Try::Tiny::Catch=REF(0x142d800)) called at /home/cpan/pit/jail/DMKQCpbnYi/lib/perl5/Test/WWW/Mechanize/PSGI.pm line 53
Test::WWW::Mechanize::PSGI::simple_request(Test::WWW::Mechanize::PSGI=HASH(0x14410f0), HTTP::Request=HASH(0x1439480), undef, undef) called at /home/cpan/pit/jail/DMKQCpbnYi/lib/perl5/LWP/UserAgent.pm line 302
LWP::UserAgent::request(Test::WWW::Mechanize::PSGI=HASH(0x14410f0), HTTP::Request=HASH(0x1439480)) called at /home/cpan/pit/jail/DMKQCpbnYi/lib/perl5/WWW/Mechanize.pm line 1584
WWW::Mechanize::_make_request(Test::WWW::Mechanize::PSGI=HASH(0x14410f0), HTTP::Request=HASH(0x1439480)) called at /home/cpan/pit/jail/DMKQCpbnYi/lib/perl5/WWW/Mechanize.pm line 1424
WWW::Mechanize::request(Test::WWW::Mechanize::PSGI=HASH(0x14410f0), HTTP::Request=HASH(0x1439480)) called at /home/cpan/pit/jail/DMKQCpbnYi/lib/perl5/LWP/UserAgent.pm line 492
LWP::UserAgent::post(Test::WWW::Mechanize::PSGI=HASH(0x14410f0), "http://localhost/wishlist?foo", HASH(0x11b7f40)) called at /home/cpan/pit/jail/DMKQCpbnYi/lib/perl5/WWW/Mechanize.pm line 139
WWW::Mechanize::post(Test::WWW::Mechanize::PSGI=HASH(0x14410f0), "/wishlist?foo", HASH(0x11b7f40)) called at /home/cpan/pit/jail/DMKQCpbnYi/lib/perl5/Test/WWW/Mechanize.pm line 309
Test::WWW::Mechanize::post_ok(Test::WWW::Mechanize::PSGI=HASH(0x14410f0), "/wishlist?foo") called at t/03_mech.t line 75
Do not use HTTP::Session2::ClientStore. Use HTTP::Session2::ServerStore or HTTP::Session2::ClientStore2 instead. at /home/cpan/pit/bare/conf/perl-5.36.0/.cpanplus/5.36.0/build/rZ32zAKAIY/HTTP-Session2-1.10/blib/lib/HTTP/Session2/ClientStore.pm line 25.
Secret string too short at /home/cpan/pit/bare/conf/perl-5.36.0/.cpanplus/5.36.0/build/rZ32zAKAIY/HTTP-Session2-1.10/blib/lib/HTTP/Session2/Base.pm line 79.
HTTP::Session2::Base::__ANON__(HTTP::Session2::ClientStore=HASH(0x1438fa0), "s3cret") called at t/03_mech.t line 127
main::client_session(HASH(0x142d6f0)) called at t/03_mech.t line 17
main::__ANON__(HASH(0x142d6f0)) called at /home/cpan/pit/jail/DMKQCpbnYi/lib/perl5/Test/WWW/Mechanize/PSGI.pm line 46
Test::WWW::Mechanize::PSGI::try {...} () called at /home/cpan/pit/jail/DMKQCpbnYi/lib/perl5/Try/Tiny.pm line 102
eval {...} called at /home/cpan/pit/jail/DMKQCpbnYi/lib/perl5/Try/Tiny.pm line 93
Try::Tiny::try(CODE(0x1438ce0), Try::Tiny::Catch=REF(0x1438e50)) called at /home/cpan/pit/jail/DMKQCpbnYi/lib/perl5/Test/WWW/Mechanize/PSGI.pm line 53
Test::WWW::Mechanize::PSGI::simple_request(Test::WWW::Mechanize::PSGI=HASH(0x14410f0), HTTP::Request=HASH(0x1438c20), undef, undef) called at /home/cpan/pit/jail/DMKQCpbnYi/lib/perl5/LWP/UserAgent.pm line 302
LWP::UserAgent::request(Test::WWW::Mechanize::PSGI=HASH(0x14410f0), HTTP::Request=HASH(0x1438c20)) called at /home/cpan/pit/jail/DMKQCpbnYi/lib/perl5/WWW/Mechanize.pm line 1584
WWW::Mechanize::_make_request(Test::WWW::Mechanize::PSGI=HASH(0x14410f0), HTTP::Request=HASH(0x1438c20)) called at /home/cpan/pit/jail/DMKQCpbnYi/lib/perl5/WWW/Mechanize.pm line 1424
WWW::Mechanize::request(Test::WWW::Mechanize::PSGI=HASH(0x14410f0), HTTP::Request=HASH(0x1438c20)) called at /home/cpan/pit/jail/DMKQCpbnYi/lib/perl5/LWP/UserAgent.pm line 446
LWP::UserAgent::get(Test::WWW::Mechanize::PSGI=HASH(0x14410f0), "http://localhost/wishlist") called at /home/cpan/pit/jail/DMKQCpbnYi/lib/perl5/WWW/Mechanize.pm line 123
WWW::Mechanize::get(Test::WWW::Mechanize::PSGI=HASH(0x14410f0), "/wishlist") called at /home/cpan/pit/jail/DMKQCpbnYi/lib/perl5/Test/WWW/Mechanize.pm line 192
Test::WWW::Mechanize::get_ok(Test::WWW::Mechanize::PSGI=HASH(0x14410f0), "/wishlist") called at t/03_mech.t line 76
Do not use HTTP::Session2::ClientStore. Use HTTP::Session2::ServerStore or HTTP::Session2::ClientStore2 instead. at /home/cpan/pit/bare/conf/perl-5.36.0/.cpanplus/5.36.0/build/rZ32zAKAIY/HTTP-Session2-1.10/blib/lib/HTTP/Session2/ClientStore.pm line 35.
Secret string too short at /home/cpan/pit/bare/conf/perl-5.36.0/.cpanplus/5.36.0/build/rZ32zAKAIY/HTTP-Session2-1.10/blib/lib/HTTP/Session2/Base.pm line 79.
HTTP::Session2::Base::__ANON__(HTTP::Session2::ClientStore=HASH(0x142da90), "s3cret") called at t/03_mech.t line 127
main::client_session(HASH(0x142d4b0)) called at t/03_mech.t line 17
main::__ANON__(HASH(0x142d4b0)) called at /home/cpan/pit/jail/DMKQCpbnYi/lib/perl5/Test/WWW/Mechanize/PSGI.pm line 46
Test::WWW::Mechanize::PSGI::try {...} () called at /home/cpan/pit/jail/DMKQCpbnYi/lib/perl5/Try/Tiny.pm line 102
eval {...} called at /home/cpan/pit/jail/DMKQCpbnYi/lib/perl5/Try/Tiny.pm line 93
Try::Tiny::try(CODE(0x1438cd0), Try::Tiny::Catch=REF(0x142d8d0)) called at /home/cpan/pit/jail/DMKQCpbnYi/lib/perl5/Test/WWW/Mechanize/PSGI.pm line 53
Test::WWW::Mechanize::PSGI::simple_request(Test::WWW::Mechanize::PSGI=HASH(0x14410f0), HTTP::Request=HASH(0x143cf00), undef, undef) called at /home/cpan/pit/jail/DMKQCpbnYi/lib/perl5/LWP/UserAgent.pm line 302
LWP::UserAgent::request(Test::WWW::Mechanize::PSGI=HASH(0x14410f0), HTTP::Request=HASH(0x143cf00)) called at /home/cpan/pit/jail/DMKQCpbnYi/lib/perl5/WWW/Mechanize.pm line 1584
WWW::Mechanize::_make_request(Test::WWW::Mechanize::PSGI=HASH(0x14410f0), HTTP::Request=HASH(0x143cf00)) called at /home/cpan/pit/jail/DMKQCpbnYi/lib/perl5/WWW/Mechanize.pm line 1424
WWW::Mechanize::request(Test::WWW::Mechanize::PSGI=HASH(0x14410f0), HTTP::Request=HASH(0x143cf00)) called at /home/cpan/pit/jail/DMKQCpbnYi/lib/perl5/LWP/UserAgent.pm line 492
LWP::UserAgent::post(Test::WWW::Mechanize::PSGI=HASH(0x14410f0), "http://localhost/wishlist?bar") called at /home/cpan/pit/jail/DMKQCpbnYi/lib/perl5/WWW/Mechanize.pm line 139
WWW::Mechanize::post(Test::WWW::Mechanize::PSGI=HASH(0x14410f0), "/wishlist?bar") called at t/03_mech.t line 78
Do not use HTTP::Session2::ClientStore. Use HTTP::Session2::ServerStore or HTTP::Session2::ClientStore2 instead. at /home/cpan/pit/bare/conf/perl-5.36.0/.cpanplus/5.36.0/build/rZ32zAKAIY/HTTP-Session2-1.10/blib/lib/HTTP/Session2/ClientStore.pm line 35.
Secret string too short at /home/cpan/pit/bare/conf/perl-5.36.0/.cpanplus/5.36.0/build/rZ32zAKAIY/HTTP-Session2-1.10/blib/lib/HTTP/Session2/Base.pm line 79.
HTTP::Session2::Base::__ANON__(HTTP::Session2::ClientStore=HASH(0x143d2c0), "s3cret") called at t/03_mech.t line 127
main::client_session(HASH(0x1438d80)) called at t/03_mech.t line 17
main::__ANON__(HASH(0x1438d80)) called at /home/cpan/pit/jail/DMKQCpbnYi/lib/perl5/Test/WWW/Mechanize/PSGI.pm line 46
Test::WWW::Mechanize::PSGI::try {...} () called at /home/cpan/pit/jail/DMKQCpbnYi/lib/perl5/Try/Tiny.pm line 102
eval {...} called at /home/cpan/pit/jail/DMKQCpbnYi/lib/perl5/Try/Tiny.pm line 93
Try::Tiny::try(CODE(0x1439210), Try::Tiny::Catch=REF(0x1438a90)) called at /home/cpan/pit/jail/DMKQCpbnYi/lib/perl5/Test/WWW/Mechanize/PSGI.pm line 53
Test::WWW::Mechanize::PSGI::simple_request(Test::WWW::Mechanize::PSGI=HASH(0x14410f0), HTTP::Request=HASH(0x1441350), undef, undef) called at /home/cpan/pit/jail/DMKQCpbnYi/lib/perl5/LWP/UserAgent.pm line 302
LWP::UserAgent::request(Test::WWW::Mechanize::PSGI=HASH(0x14410f0), HTTP::Request=HASH(0x1441350)) called at /home/cpan/pit/jail/DMKQCpbnYi/lib/perl5/WWW/Mechanize.pm line 1584
WWW::Mechanize::_make_request(Test::WWW::Mechanize::PSGI=HASH(0x14410f0), HTTP::Request=HASH(0x1441350)) called at /home/cpan/pit/jail/DMKQCpbnYi/lib/perl5/WWW/Mechanize.pm line 1424
WWW::Mechanize::request(Test::WWW::Mechanize::PSGI=HASH(0x14410f0), HTTP::Request=HASH(0x1441350)) called at /home/cpan/pit/jail/DMKQCpbnYi/lib/perl5/LWP/UserAgent.pm line 492
LWP::UserAgent::post(Test::WWW::Mechanize::PSGI=HASH(0x14410f0), "http://localhost/wishlist?bar", HASH(0x11b7f40)) called at /home/cpan/pit/jail/DMKQCpbnYi/lib/perl5/WWW/Mechanize.pm line 139
WWW::Mechanize::post(Test::WWW::Mechanize::PSGI=HASH(0x14410f0), "/wishlist?bar", HASH(0x11b7f40)) called at /home/cpan/pit/jail/DMKQCpbnYi/lib/perl5/Test/WWW/Mechanize.pm line 309
Test::WWW::Mechanize::post_ok(Test::WWW::Mechanize::PSGI=HASH(0x14410f0), "/wishlist?bar") called at t/03_mech.t line 81
Do not use HTTP::Session2::ClientStore. Use HTTP::Session2::ServerStore or HTTP::Session2::ClientStore2 instead. at /home/cpan/pit/bare/conf/perl-5.36.0/.cpanplus/5.36.0/build/rZ32zAKAIY/HTTP-Session2-1.10/blib/lib/HTTP/Session2/ClientStore.pm line 35.
Do not use HTTP::Session2::ClientStore. Use HTTP::Session2::ServerStore or HTTP::Session2::ClientStore2 instead. at /home/cpan/pit/bare/conf/perl-5.36.0/.cpanplus/5.36.0/build/rZ32zAKAIY/HTTP-Session2-1.10/blib/lib/HTTP/Session2/ClientStore.pm line 25.
Secret string too short at /home/cpan/pit/bare/conf/perl-5.36.0/.cpanplus/5.36.0/build/rZ32zAKAIY/HTTP-Session2-1.10/blib/lib/HTTP/Session2/Base.pm line 79.
HTTP::Session2::Base::__ANON__(HTTP::Session2::ClientStore=HASH(0x1439390), "s3cret") called at t/03_mech.t line 127
main::client_session(HASH(0x143d380)) called at t/03_mech.t line 17
main::__ANON__(HASH(0x143d380)) called at /home/cpan/pit/jail/DMKQCpbnYi/lib/perl5/Test/WWW/Mechanize/PSGI.pm line 46
Test::WWW::Mechanize::PSGI::try {...} () called at /home/cpan/pit/jail/DMKQCpbnYi/lib/perl5/Try/Tiny.pm line 102
eval {...} called at /home/cpan/pit/jail/DMKQCpbnYi/lib/perl5/Try/Tiny.pm line 93
Try::Tiny::try(CODE(0x1440aa0), Try::Tiny::Catch=REF(0x1438660)) called at /home/cpan/pit/jail/DMKQCpbnYi/lib/perl5/Test/WWW/Mechanize/PSGI.pm line 53
Test::WWW::Mechanize::PSGI::simple_request(Test::WWW::Mechanize::PSGI=HASH(0x14410f0), HTTP::Request=HASH(0x14392a0), undef, undef) called at /home/cpan/pit/jail/DMKQCpbnYi/lib/perl5/LWP/UserAgent.pm line 302
LWP::UserAgent::request(Test::WWW::Mechanize::PSGI=HASH(0x14410f0), HTTP::Request=HASH(0x14392a0)) called at /home/cpan/pit/jail/DMKQCpbnYi/lib/perl5/WWW/Mechanize.pm line 1584
WWW::Mechanize::_make_request(Test::WWW::Mechanize::PSGI=HASH(0x14410f0), HTTP::Request=HASH(0x14392a0)) called at /home/cpan/pit/jail/DMKQCpbnYi/lib/perl5/WWW/Mechanize.pm line 1424
WWW::Mechanize::request(Test::WWW::Mechanize::PSGI=HASH(0x14410f0), HTTP::Request=HASH(0x14392a0)) called at /home/cpan/pit/jail/DMKQCpbnYi/lib/perl5/LWP/UserAgent.pm line 446
LWP::UserAgent::get(Test::WWW::Mechanize::PSGI=HASH(0x14410f0), "http://localhost/wishlist") called at /home/cpan/pit/jail/DMKQCpbnYi/lib/perl5/WWW/Mechanize.pm line 123
WWW::Mechanize::get(Test::WWW::Mechanize::PSGI=HASH(0x14410f0), "/wishlist") called at /home/cpan/pit/jail/DMKQCpbnYi/lib/perl5/Test/WWW/Mechanize.pm line 192
Test::WWW::Mechanize::get_ok(Test::WWW::Mechanize::PSGI=HASH(0x14410f0), "/wishlist") called at t/03_mech.t line 82
Do not use HTTP::Session2::ClientStore. Use HTTP::Session2::ServerStore or HTTP::Session2::ClientStore2 instead. at /home/cpan/pit/bare/conf/perl-5.36.0/.cpanplus/5.36.0/build/rZ32zAKAIY/HTTP-Session2-1.10/blib/lib/HTTP/Session2/ClientStore.pm line 35.
Secret string too short at /home/cpan/pit/bare/conf/perl-5.36.0/.cpanplus/5.36.0/build/rZ32zAKAIY/HTTP-Session2-1.10/blib/lib/HTTP/Session2/Base.pm line 79.
HTTP::Session2::Base::__ANON__(HTTP::Session2::ClientStore=HASH(0x143d530), "s3cret") called at t/03_mech.t line 127
main::client_session(HASH(0x143d760)) called at t/03_mech.t line 17
main::__ANON__(HASH(0x143d760)) called at /home/cpan/pit/jail/DMKQCpbnYi/lib/perl5/Test/WWW/Mechanize/PSGI.pm line 46
Test::WWW::Mechanize::PSGI::try {...} () called at /home/cpan/pit/jail/DMKQCpbnYi/lib/perl5/Try/Tiny.pm line 102
eval {...} called at /home/cpan/pit/jail/DMKQCpbnYi/lib/perl5/Try/Tiny.pm line 93
Try::Tiny::try(CODE(0x143d340), Try::Tiny::Catch=REF(0x143cb20)) called at /home/cpan/pit/jail/DMKQCpbnYi/lib/perl5/Test/WWW/Mechanize/PSGI.pm line 53
Test::WWW::Mechanize::PSGI::simple_request(Test::WWW::Mechanize::PSGI=HASH(0x14410f0), HTTP::Request=HASH(0x1439350), undef, undef) called at /home/cpan/pit/jail/DMKQCpbnYi/lib/perl5/LWP/UserAgent.pm line 302
LWP::UserAgent::request(Test::WWW::Mechanize::PSGI=HASH(0x14410f0), HTTP::Request=HASH(0x1439350)) called at /home/cpan/pit/jail/DMKQCpbnYi/lib/perl5/WWW/Mechanize.pm line 1584
WWW::Mechanize::_make_request(Test::WWW::Mechanize::PSGI=HASH(0x14410f0), HTTP::Request=HASH(0x1439350)) called at /home/cpan/pit/jail/DMKQCpbnYi/lib/perl5/WWW/Mechanize.pm line 1424
WWW::Mechanize::request(Test::WWW::Mechanize::PSGI=HASH(0x14410f0), HTTP::Request=HASH(0x1439350)) called at /home/cpan/pit/jail/DMKQCpbnYi/lib/perl5/LWP/UserAgent.pm line 492
LWP::UserAgent::post(Test::WWW::Mechanize::PSGI=HASH(0x14410f0), "http://localhost/account/login?john", HASH(0x11b7f40)) called at /home/cpan/pit/jail/DMKQCpbnYi/lib/perl5/WWW/Mechanize.pm line 139
WWW::Mechanize::post(Test::WWW::Mechanize::PSGI=HASH(0x14410f0), "/account/login?john", HASH(0x11b7f40)) called at /home/cpan/pit/jail/DMKQCpbnYi/lib/perl5/Test/WWW/Mechanize.pm line 309
Test::WWW::Mechanize::post_ok(Test::WWW::Mechanize::PSGI=HASH(0x14410f0), "/account/login?john") called at t/03_mech.t line 84
Do not use HTTP::Session2::ClientStore. Use HTTP::Session2::ServerStore or HTTP::Session2::ClientStore2 instead. at /home/cpan/pit/bare/conf/perl-5.36.0/.cpanplus/5.36.0/build/rZ32zAKAIY/HTTP-Session2-1.10/blib/lib/HTTP/Session2/ClientStore.pm line 35.
Do not use HTTP::Session2::ClientStore. Use HTTP::Session2::ServerStore or HTTP::Session2::ClientStore2 instead. at /home/cpan/pit/bare/conf/perl-5.36.0/.cpanplus/5.36.0/build/rZ32zAKAIY/HTTP-Session2-1.10/blib/lib/HTTP/Session2/ClientStore.pm line 35.
Do not use HTTP::Session2::ClientStore. Use HTTP::Session2::ServerStore or HTTP::Session2::ClientStore2 instead. at /home/cpan/pit/bare/conf/perl-5.36.0/.cpanplus/5.36.0/build/rZ32zAKAIY/HTTP-Session2-1.10/blib/lib/HTTP/Session2/ClientStore.pm line 25.
Secret string too short at /home/cpan/pit/bare/conf/perl-5.36.0/.cpanplus/5.36.0/build/rZ32zAKAIY/HTTP-Session2-1.10/blib/lib/HTTP/Session2/Base.pm line 79.
HTTP::Session2::Base::__ANON__(HTTP::Session2::ClientStore=HASH(0xeff470), "s3cret") called at t/03_mech.t line 127
main::client_session(HASH(0x1366340)) called at t/03_mech.t line 17
main::__ANON__(HASH(0x1366340)) called at /home/cpan/pit/jail/DMKQCpbnYi/lib/perl5/Test/WWW/Mechanize/PSGI.pm line 46
Test::WWW::Mechanize::PSGI::try {...} () called at /home/cpan/pit/jail/DMKQCpbnYi/lib/perl5/Try/Tiny.pm line 102
eval {...} called at /home/cpan/pit/jail/DMKQCpbnYi/lib/perl5/Try/Tiny.pm line 93
Try::Tiny::try(CODE(0x143cd90), Try::Tiny::Catch=REF(0x143d2d0)) called at /home/cpan/pit/jail/DMKQCpbnYi/lib/perl5/Test/WWW/Mechanize/PSGI.pm line 53
Test::WWW::Mechanize::PSGI::simple_request(Test::WWW::Mechanize::PSGI=HASH(0x14410f0), HTTP::Request=HASH(0x143d060), undef, undef) called at /home/cpan/pit/jail/DMKQCpbnYi/lib/perl5/LWP/UserAgent.pm line 302
LWP::UserAgent::request(Test::WWW::Mechanize::PSGI=HASH(0x14410f0), HTTP::Request=HASH(0x143d060)) called at /home/cpan/pit/jail/DMKQCpbnYi/lib/perl5/WWW/Mechanize.pm line 1584
WWW::Mechanize::_make_request(Test::WWW::Mechanize::PSGI=HASH(0x14410f0), HTTP::Request=HASH(0x143d060)) called at /home/cpan/pit/jail/DMKQCpbnYi/lib/perl5/WWW/Mechanize.pm line 1424
WWW::Mechanize::request(Test::WWW::Mechanize::PSGI=HASH(0x14410f0), HTTP::Request=HASH(0x143d060)) called at /home/cpan/pit/jail/DMKQCpbnYi/lib/perl5/LWP/UserAgent.pm line 446
LWP::UserAgent::get(Test::WWW::Mechanize::PSGI=HASH(0x14410f0), "http://localhost/wishlist") called at /home/cpan/pit/jail/DMKQCpbnYi/lib/perl5/WWW/Mechanize.pm line 123
WWW::Mechanize::get(Test::WWW::Mechanize::PSGI=HASH(0x14410f0), "/wishlist") called at /home/cpan/pit/jail/DMKQCpbnYi/lib/perl5/Test/WWW/Mechanize.pm line 192
Test::WWW::Mechanize::get_ok(Test::WWW::Mechanize::PSGI=HASH(0x14410f0), "/wishlist", "Wishlist is still available") called at t/03_mech.t line 85
Do not use HTTP::Session2::ClientStore. Use HTTP::Session2::ServerStore or HTTP::Session2::ClientStore2 instead. at /home/cpan/pit/bare/conf/perl-5.36.0/.cpanplus/5.36.0/build/rZ32zAKAIY/HTTP-Session2-1.10/blib/lib/HTTP/Session2/ClientStore.pm line 35.
Secret string too short at /home/cpan/pit/bare/conf/perl-5.36.0/.cpanplus/5.36.0/build/rZ32zAKAIY/HTTP-Session2-1.10/blib/lib/HTTP/Session2/Base.pm line 79.
HTTP::Session2::Base::__ANON__(HTTP::Session2::ClientStore=HASH(0x13c9770), "s3cret") called at t/03_mech.t line 127
main::client_session(HASH(0x143d2f0)) called at t/03_mech.t line 17
main::__ANON__(HASH(0x143d2f0)) called at /home/cpan/pit/jail/DMKQCpbnYi/lib/perl5/Test/WWW/Mechanize/PSGI.pm line 46
Test::WWW::Mechanize::PSGI::try {...} () called at /home/cpan/pit/jail/DMKQCpbnYi/lib/perl5/Try/Tiny.pm line 102
eval {...} called at /home/cpan/pit/jail/DMKQCpbnYi/lib/perl5/Try/Tiny.pm line 93
Try::Tiny::try(CODE(0x1439260), Try::Tiny::Catch=REF(0x143d2e0)) called at /home/cpan/pit/jail/DMKQCpbnYi/lib/perl5/Test/WWW/Mechanize/PSGI.pm line 53
Test::WWW::Mechanize::PSGI::simple_request(Test::WWW::Mechanize::PSGI=HASH(0x14410f0), HTTP::Request=HASH(0x135a1c0), undef, undef) called at /home/cpan/pit/jail/DMKQCpbnYi/lib/perl5/LWP/UserAgent.pm line 302
LWP::UserAgent::request(Test::WWW::Mechanize::PSGI=HASH(0x14410f0), HTTP::Request=HASH(0x135a1c0)) called at /home/cpan/pit/jail/DMKQCpbnYi/lib/perl5/WWW/Mechanize.pm line 1584
WWW::Mechanize::_make_request(Test::WWW::Mechanize::PSGI=HASH(0x14410f0), HTTP::Request=HASH(0x135a1c0)) called at /home/cpan/pit/jail/DMKQCpbnYi/lib/perl5/WWW/Mechanize.pm line 1424
WWW::Mechanize::request(Test::WWW::Mechanize::PSGI=HASH(0x14410f0), HTTP::Request=HASH(0x135a1c0)) called at /home/cpan/pit/jail/DMKQCpbnYi/lib/perl5/LWP/UserAgent.pm line 492
LWP::UserAgent::post(Test::WWW::Mechanize::PSGI=HASH(0x14410f0), "http://localhost/wishlist?baz") called at /home/cpan/pit/jail/DMKQCpbnYi/lib/perl5/WWW/Mechanize.pm line 139
WWW::Mechanize::post(Test::WWW::Mechanize::PSGI=HASH(0x14410f0), "/wishlist?baz") called at t/03_mech.t line 87
Do not use HTTP::Session2::ClientStore. Use HTTP::Session2::ServerStore or HTTP::Session2::ClientStore2 instead. at /home/cpan/pit/bare/conf/perl-5.36.0/.cpanplus/5.36.0/build/rZ32zAKAIY/HTTP-Session2-1.10/blib/lib/HTTP/Session2/ClientStore.pm line 35.
Secret string too short at /home/cpan/pit/bare/conf/perl-5.36.0/.cpanplus/5.36.0/build/rZ32zAKAIY/HTTP-Session2-1.10/blib/lib/HTTP/Session2/Base.pm line 79.
HTTP::Session2::Base::__ANON__(HTTP::Session2::ClientStore=HASH(0x1440bf0), "s3cret") called at t/03_mech.t line 127
main::client_session(HASH(0x143d660)) called at t/03_mech.t line 17
main::__ANON__(HASH(0x143d660)) called at /home/cpan/pit/jail/DMKQCpbnYi/lib/perl5/Test/WWW/Mechanize/PSGI.pm line 46
Test::WWW::Mechanize::PSGI::try {...} () called at /home/cpan/pit/jail/DMKQCpbnYi/lib/perl5/Try/Tiny.pm line 102
eval {...} called at /home/cpan/pit/jail/DMKQCpbnYi/lib/perl5/Try/Tiny.pm line 93
Try::Tiny::try(CODE(0x143d6d0), Try::Tiny::Catch=REF(0x1440c80)) called at /home/cpan/pit/jail/DMKQCpbnYi/lib/perl5/Test/WWW/Mechanize/PSGI.pm line 53
Test::WWW::Mechanize::PSGI::simple_request(Test::WWW::Mechanize::PSGI=HASH(0x14410f0), HTTP::Request=HASH(0x1440e80), undef, undef) called at /home/cpan/pit/jail/DMKQCpbnYi/lib/perl5/LWP/UserAgent.pm line 302
LWP::UserAgent::request(Test::WWW::Mechanize::PSGI=HASH(0x14410f0), HTTP::Request=HASH(0x1440e80)) called at /home/cpan/pit/jail/DMKQCpbnYi/lib/perl5/WWW/Mechanize.pm line 1584
WWW::Mechanize::_make_request(Test::WWW::Mechanize::PSGI=HASH(0x14410f0), HTTP::Request=HASH(0x1440e80)) called at /home/cpan/pit/jail/DMKQCpbnYi/lib/perl5/WWW/Mechanize.pm line 1424
WWW::Mechanize::request(Test::WWW::Mechanize::PSGI=HASH(0x14410f0), HTTP::Request=HASH(0x1440e80)) called at /home/cpan/pit/jail/DMKQCpbnYi/lib/perl5/LWP/UserAgent.pm line 492
LWP::UserAgent::post(Test::WWW::Mechanize::PSGI=HASH(0x14410f0), "http://localhost/wishlist?baz", HASH(0x11b7f40)) called at /home/cpan/pit/jail/DMKQCpbnYi/lib/perl5/WWW/Mechanize.pm line 139
WWW::Mechanize::post(Test::WWW::Mechanize::PSGI=HASH(0x14410f0), "/wishlist?baz", HASH(0x11b7f40)) called at /home/cpan/pit/jail/DMKQCpbnYi/lib/perl5/Test/WWW/Mechanize.pm line 309
Test::WWW::Mechanize::post_ok(Test::WWW::Mechanize::PSGI=HASH(0x14410f0), "/wishlist?baz") called at t/03_mech.t line 90
Do not use HTTP::Session2::ClientStore. Use HTTP::Session2::ServerStore or HTTP::Session2::ClientStore2 instead. at /home/cpan/pit/bare/conf/perl-5.36.0/.cpanplus/5.36.0/build/rZ32zAKAIY/HTTP-Session2-1.10/blib/lib/HTTP/Session2/ClientStore.pm line 35.
Do not use HTTP::Session2::ClientStore. Use HTTP::Session2::ServerStore or HTTP::Session2::ClientStore2 instead. at /home/cpan/pit/bare/conf/perl-5.36.0/.cpanplus/5.36.0/build/rZ32zAKAIY/HTTP-Session2-1.10/blib/lib/HTTP/Session2/ClientStore.pm line 25.
Secret string too short at /home/cpan/pit/bare/conf/perl-5.36.0/.cpanplus/5.36.0/build/rZ32zAKAIY/HTTP-Session2-1.10/blib/lib/HTTP/Session2/Base.pm line 79.
HTTP::Session2::Base::__ANON__(HTTP::Session2::ClientStore=HASH(0x143d7b0), "s3cret") called at t/03_mech.t line 127
main::client_session(HASH(0x14416f0)) called at t/03_mech.t line 17
main::__ANON__(HASH(0x14416f0)) called at /home/cpan/pit/jail/DMKQCpbnYi/lib/perl5/Test/WWW/Mechanize/PSGI.pm line 46
Test::WWW::Mechanize::PSGI::try {...} () called at /home/cpan/pit/jail/DMKQCpbnYi/lib/perl5/Try/Tiny.pm line 102
eval {...} called at /home/cpan/pit/jail/DMKQCpbnYi/lib/perl5/Try/Tiny.pm line 93
Try::Tiny::try(CODE(0x143cd80), Try::Tiny::Catch=REF(0x142dbf0)) called at /home/cpan/pit/jail/DMKQCpbnYi/lib/perl5/Test/WWW/Mechanize/PSGI.pm line 53
Test::WWW::Mechanize::PSGI::simple_request(Test::WWW::Mechanize::PSGI=HASH(0x14410f0), HTTP::Request=HASH(0xf0ae30), undef, undef) called at /home/cpan/pit/jail/DMKQCpbnYi/lib/perl5/LWP/UserAgent.pm line 302
LWP::UserAgent::request(Test::WWW::Mechanize::PSGI=HASH(0x14410f0), HTTP::Request=HASH(0xf0ae30)) called at /home/cpan/pit/jail/DMKQCpbnYi/lib/perl5/WWW/Mechanize.pm line 1584
WWW::Mechanize::_make_request(Test::WWW::Mechanize::PSGI=HASH(0x14410f0), HTTP::Request=HASH(0xf0ae30)) called at /home/cpan/pit/jail/DMKQCpbnYi/lib/perl5/WWW/Mechanize.pm line 1424
WWW::Mechanize::request(Test::WWW::Mechanize::PSGI=HASH(0x14410f0), HTTP::Request=HASH(0xf0ae30)) called at /home/cpan/pit/jail/DMKQCpbnYi/lib/perl5/LWP/UserAgent.pm line 446
LWP::UserAgent::get(Test::WWW::Mechanize::PSGI=HASH(0x14410f0), "http://localhost/wishlist") called at /home/cpan/pit/jail/DMKQCpbnYi/lib/perl5/WWW/Mechanize.pm line 123
WWW::Mechanize::get(Test::WWW::Mechanize::PSGI=HASH(0x14410f0), "/wishlist") called at /home/cpan/pit/jail/DMKQCpbnYi/lib/perl5/Test/WWW/Mechanize.pm line 192
Test::WWW::Mechanize::get_ok(Test::WWW::Mechanize::PSGI=HASH(0x14410f0), "/wishlist", "Wishlist is still available") called at t/03_mech.t line 91
Do not use HTTP::Session2::ClientStore. Use HTTP::Session2::ServerStore or HTTP::Session2::ClientStore2 instead. at /home/cpan/pit/bare/conf/perl-5.36.0/.cpanplus/5.36.0/build/rZ32zAKAIY/HTTP-Session2-1.10/blib/lib/HTTP/Session2/ClientStore.pm line 35.
Secret string too short at /home/cpan/pit/bare/conf/perl-5.36.0/.cpanplus/5.36.0/build/rZ32zAKAIY/HTTP-Session2-1.10/blib/lib/HTTP/Session2/Base.pm line 79.
HTTP::Session2::Base::__ANON__(HTTP::Session2::ClientStore=HASH(0x14419b0), "s3cret") called at t/03_mech.t line 127
main::client_session(HASH(0x1441a00)) called at t/03_mech.t line 17
main::__ANON__(HASH(0x1441a00)) called at /home/cpan/pit/jail/DMKQCpbnYi/lib/perl5/Test/WWW/Mechanize/PSGI.pm line 46
Test::WWW::Mechanize::PSGI::try {...} () called at /home/cpan/pit/jail/DMKQCpbnYi/lib/perl5/Try/Tiny.pm line 102
eval {...} called at /home/cpan/pit/jail/DMKQCpbnYi/lib/perl5/Try/Tiny.pm line 93
Try::Tiny::try(CODE(0x1440b20), Try::Tiny::Catch=REF(0x14412d0)) called at /home/cpan/pit/jail/DMKQCpbnYi/lib/perl5/Test/WWW/Mechanize/PSGI.pm line 53
Test::WWW::Mechanize::PSGI::simple_request(Test::WWW::Mechanize::PSGI=HASH(0x14410f0), HTTP::Request=HASH(0x1441750), undef, undef) called at /home/cpan/pit/jail/DMKQCpbnYi/lib/perl5/LWP/UserAgent.pm line 302
LWP::UserAgent::request(Test::WWW::Mechanize::PSGI=HASH(0x14410f0), HTTP::Request=HASH(0x1441750)) called at /home/cpan/pit/jail/DMKQCpbnYi/lib/perl5/WWW/Mechanize.pm line 1584
WWW::Mechanize::_make_request(Test::WWW::Mechanize::PSGI=HASH(0x14410f0), HTTP::Request=HASH(0x1441750)) called at /home/cpan/pit/jail/DMKQCpbnYi/lib/perl5/WWW/Mechanize.pm line 1424
WWW::Mechanize::request(Test::WWW::Mechanize::PSGI=HASH(0x14410f0), HTTP::Request=HASH(0x1441750)) called at /home/cpan/pit/jail/DMKQCpbnYi/lib/perl5/LWP/UserAgent.pm line 446
LWP::UserAgent::get(Test::WWW::Mechanize::PSGI=HASH(0x14410f0), "http://localhost/my/name") called at /home/cpan/pit/jail/DMKQCpbnYi/lib/perl5/WWW/Mechanize.pm line 123
WWW::Mechanize::get(Test::WWW::Mechanize::PSGI=HASH(0x14410f0), "/my/name") called at /home/cpan/pit/jail/DMKQCpbnYi/lib/perl5/Test/WWW/Mechanize.pm line 192
Test::WWW::Mechanize::get_ok(Test::WWW::Mechanize::PSGI=HASH(0x14410f0), "/my/name") called at t/03_mech.t line 93
Do not use HTTP::Session2::ClientStore. Use HTTP::Session2::ServerStore or HTTP::Session2::ClientStore2 instead. at /home/cpan/pit/bare/conf/perl-5.36.0/.cpanplus/5.36.0/build/rZ32zAKAIY/HTTP-Session2-1.10/blib/lib/HTTP/Session2/ClientStore.pm line 35.
Secret string too short at /home/cpan/pit/bare/conf/perl-5.36.0/.cpanplus/5.36.0/build/rZ32zAKAIY/HTTP-Session2-1.10/blib/lib/HTTP/Session2/Base.pm line 79.
HTTP::Session2::Base::__ANON__(HTTP::Session2::ClientStore=HASH(0x1448800), "s3cret") called at t/03_mech.t line 127
main::client_session(HASH(0x14418c0)) called at t/03_mech.t line 17
main::__ANON__(HASH(0x14418c0)) called at /home/cpan/pit/jail/DMKQCpbnYi/lib/perl5/Test/WWW/Mechanize/PSGI.pm line 46
Test::WWW::Mechanize::PSGI::try {...} () called at /home/cpan/pit/jail/DMKQCpbnYi/lib/perl5/Try/Tiny.pm line 102
eval {...} called at /home/cpan/pit/jail/DMKQCpbnYi/lib/perl5/Try/Tiny.pm line 93
Try::Tiny::try(CODE(0x1448910), Try::Tiny::Catch=REF(0x1441860)) called at /home/cpan/pit/jail/DMKQCpbnYi/lib/perl5/Test/WWW/Mechanize/PSGI.pm line 53
Test::WWW::Mechanize::PSGI::simple_request(Test::WWW::Mechanize::PSGI=HASH(0x14410f0), HTTP::Request=HASH(0x14416a0), undef, undef) called at /home/cpan/pit/jail/DMKQCpbnYi/lib/perl5/LWP/UserAgent.pm line 302
LWP::UserAgent::request(Test::WWW::Mechanize::PSGI=HASH(0x14410f0), HTTP::Request=HASH(0x14416a0)) called at /home/cpan/pit/jail/DMKQCpbnYi/lib/perl5/WWW/Mechanize.pm line 1584
WWW::Mechanize::_make_request(Test::WWW::Mechanize::PSGI=HASH(0x14410f0), HTTP::Request=HASH(0x14416a0)) called at /home/cpan/pit/jail/DMKQCpbnYi/lib/perl5/WWW/Mechanize.pm line 1424
WWW::Mechanize::request(Test::WWW::Mechanize::PSGI=HASH(0x14410f0), HTTP::Request=HASH(0x14416a0)) called at /home/cpan/pit/jail/DMKQCpbnYi/lib/perl5/LWP/UserAgent.pm line 492
LWP::UserAgent::post(Test::WWW::Mechanize::PSGI=HASH(0x14410f0), "http://localhost/account/logout?john") called at /home/cpan/pit/jail/DMKQCpbnYi/lib/perl5/WWW/Mechanize.pm line 139
WWW::Mechanize::post(Test::WWW::Mechanize::PSGI=HASH(0x14410f0), "/account/logout?john") called at t/03_mech.t line 97
Do not use HTTP::Session2::ClientStore. Use HTTP::Session2::ServerStore or HTTP::Session2::ClientStore2 instead. at /home/cpan/pit/bare/conf/perl-5.36.0/.cpanplus/5.36.0/build/rZ32zAKAIY/HTTP-Session2-1.10/blib/lib/HTTP/Session2/ClientStore.pm line 35.
Do not use HTTP::Session2::ClientStore. Use HTTP::Session2::ServerStore or HTTP::Session2::ClientStore2 instead. at /home/cpan/pit/bare/conf/perl-5.36.0/.cpanplus/5.36.0/build/rZ32zAKAIY/HTTP-Session2-1.10/blib/lib/HTTP/Session2/ClientStore.pm line 35.
t/03_mech.t ................. ok
Do not use HTTP::Session2::ClientStore. Use HTTP::Session2::ServerStore or HTTP::Session2::ClientStore2 instead. at /home/cpan/pit/bare/conf/perl-5.36.0/.cpanplus/5.36.0/build/rZ32zAKAIY/HTTP-Session2-1.10/blib/lib/HTTP/Session2/ClientStore.pm line 25.
t/04_plack_response.t ....... ok
Secret string too short at /home/cpan/pit/bare/conf/perl-5.36.0/.cpanplus/5.36.0/build/rZ32zAKAIY/HTTP-Session2-1.10/blib/lib/HTTP/Session2/Base.pm line 79.
HTTP::Session2::Base::__ANON__(HTTP::Session2::ClientStore=HASH(0x12aacd0), "s3cret") called at t/05_keep_me_signed_in.t line 20
Do not use HTTP::Session2::ClientStore. Use HTTP::Session2::ServerStore or HTTP::Session2::ClientStore2 instead. at /home/cpan/pit/bare/conf/perl-5.36.0/.cpanplus/5.36.0/build/rZ32zAKAIY/HTTP-Session2-1.10/blib/lib/HTTP/Session2/ClientStore.pm line 25.
t/05_keep_me_signed_in.t .... ok
Secret string too short at /home/cpan/pit/bare/conf/perl-5.36.0/.cpanplus/5.36.0/build/rZ32zAKAIY/HTTP-Session2-1.10/blib/lib/HTTP/Session2/Base.pm line 79.
HTTP::Session2::Base::__ANON__(HTTP::Session2::Base=HASH(0x24a5f90), "i am secret") called at t/06_base_abstract.t line 7
t/06_base_abstract.t ........ ok
Secret string too short at /home/cpan/pit/bare/conf/perl-5.36.0/.cpanplus/5.36.0/build/rZ32zAKAIY/HTTP-Session2-1.10/blib/lib/HTTP/Session2/Base.pm line 79.
HTTP::Session2::Base::__ANON__(HTTP::Session2::ClientStore=HASH(0xc65590), "secret") called at t/07_client_store.t line 23
main::__ANON__() called at /home/cpan/pit/bare/perl-5.36.0/lib/site_perl/5.36.0/Test/Builder.pm line 374
eval {...} called at /home/cpan/pit/bare/perl-5.36.0/lib/site_perl/5.36.0/Test/Builder.pm line 374
Test::Builder::subtest(Test::Builder=HASH(0xc7c290), "get/set/remove", CODE(0x1030890)) called at /home/cpan/pit/bare/perl-5.36.0/lib/site_perl/5.36.0/Test/More.pm line 809
Test::More::subtest("get/set/remove", CODE(0x1030890)) called at t/07_client_store.t line 31
Secret string too short at /home/cpan/pit/bare/conf/perl-5.36.0/.cpanplus/5.36.0/build/rZ32zAKAIY/HTTP-Session2-1.10/blib/lib/HTTP/Session2/Base.pm line 79.
HTTP::Session2::Base::__ANON__(HTTP::Session2::ClientStore=HASH(0xc65f50), "secret") called at t/07_client_store.t line 35
main::__ANON__() called at /home/cpan/pit/bare/perl-5.36.0/lib/site_perl/5.36.0/Test/Builder.pm line 374
eval {...} called at /home/cpan/pit/bare/perl-5.36.0/lib/site_perl/5.36.0/Test/Builder.pm line 374
Test::Builder::subtest(Test::Builder=HASH(0xc7c290), "validate_token", CODE(0x1030870)) called at /home/cpan/pit/bare/perl-5.36.0/lib/site_perl/5.36.0/Test/More.pm line 809
Test::More::subtest("validate_token", CODE(0x1030870)) called at t/07_client_store.t line 71
Do not use HTTP::Session2::ClientStore. Use HTTP::Session2::ServerStore or HTTP::Session2::ClientStore2 instead. at /home/cpan/pit/bare/conf/perl-5.36.0/.cpanplus/5.36.0/build/rZ32zAKAIY/HTTP-Session2-1.10/blib/lib/HTTP/Session2/ClientStore.pm line 25.
Secret string too short at /home/cpan/pit/bare/conf/perl-5.36.0/.cpanplus/5.36.0/build/rZ32zAKAIY/HTTP-Session2-1.10/blib/lib/HTTP/Session2/Base.pm line 79.
HTTP::Session2::Base::__ANON__(HTTP::Session2::ClientStore=HASH(0x141c830), "secret") called at t/07_client_store.t line 51
main::__ANON__() called at /home/cpan/pit/bare/perl-5.36.0/lib/site_perl/5.36.0/Test/Builder.pm line 374
eval {...} called at /home/cpan/pit/bare/perl-5.36.0/lib/site_perl/5.36.0/Test/Builder.pm line 374
Test::Builder::subtest(Test::Builder=HASH(0xc7c290), "bad", CODE(0xc651a0)) called at /home/cpan/pit/bare/perl-5.36.0/lib/site_perl/5.36.0/Test/More.pm line 809
Test::More::subtest("bad", CODE(0xc651a0)) called at t/07_client_store.t line 57
main::__ANON__() called at /home/cpan/pit/bare/perl-5.36.0/lib/site_perl/5.36.0/Test/Builder.pm line 374
eval {...} called at /home/cpan/pit/bare/perl-5.36.0/lib/site_perl/5.36.0/Test/Builder.pm line 374
Test::Builder::subtest(Test::Builder=HASH(0xc7c290), "validate_token", CODE(0x1030870)) called at /home/cpan/pit/bare/perl-5.36.0/lib/site_perl/5.36.0/Test/More.pm line 809
Test::More::subtest("validate_token", CODE(0x1030870)) called at t/07_client_store.t line 71
Do not use HTTP::Session2::ClientStore. Use HTTP::Session2::ServerStore or HTTP::Session2::ClientStore2 instead. at /home/cpan/pit/bare/conf/perl-5.36.0/.cpanplus/5.36.0/build/rZ32zAKAIY/HTTP-Session2-1.10/blib/lib/HTTP/Session2/ClientStore.pm line 35.
Secret string too short at /home/cpan/pit/bare/conf/perl-5.36.0/.cpanplus/5.36.0/build/rZ32zAKAIY/HTTP-Session2-1.10/blib/lib/HTTP/Session2/Base.pm line 79.
HTTP::Session2::Base::__ANON__(HTTP::Session2::ClientStore=HASH(0x141fc60), "secret") called at t/07_client_store.t line 65
main::__ANON__() called at /home/cpan/pit/bare/perl-5.36.0/lib/site_perl/5.36.0/Test/Builder.pm line 374
eval {...} called at /home/cpan/pit/bare/perl-5.36.0/lib/site_perl/5.36.0/Test/Builder.pm line 374
Test::Builder::subtest(Test::Builder=HASH(0xc7c290), "good", CODE(0xc651a0)) called at /home/cpan/pit/bare/perl-5.36.0/lib/site_perl/5.36.0/Test/More.pm line 809
Test::More::subtest("good", CODE(0xc651a0)) called at t/07_client_store.t line 70
main::__ANON__() called at /home/cpan/pit/bare/perl-5.36.0/lib/site_perl/5.36.0/Test/Builder.pm line 374
eval {...} called at /home/cpan/pit/bare/perl-5.36.0/lib/site_perl/5.36.0/Test/Builder.pm line 374
Test::Builder::subtest(Test::Builder=HASH(0xc7c290), "validate_token", CODE(0x1030870)) called at /home/cpan/pit/bare/perl-5.36.0/lib/site_perl/5.36.0/Test/More.pm line 809
Test::More::subtest("validate_token", CODE(0x1030870)) called at t/07_client_store.t line 71
Do not use HTTP::Session2::ClientStore. Use HTTP::Session2::ServerStore or HTTP::Session2::ClientStore2 instead. at /home/cpan/pit/bare/conf/perl-5.36.0/.cpanplus/5.36.0/build/rZ32zAKAIY/HTTP-Session2-1.10/blib/lib/HTTP/Session2/ClientStore.pm line 35.
Secret string too short at /home/cpan/pit/bare/conf/perl-5.36.0/.cpanplus/5.36.0/build/rZ32zAKAIY/HTTP-Session2-1.10/blib/lib/HTTP/Session2/Base.pm line 79.
HTTP::Session2::Base::__ANON__(HTTP::Session2::ClientStore=HASH(0x141c670), "secret") called at t/07_client_store.t line 76
main::__ANON__() called at /home/cpan/pit/bare/perl-5.36.0/lib/site_perl/5.36.0/Test/Builder.pm line 374
eval {...} called at /home/cpan/pit/bare/perl-5.36.0/lib/site_perl/5.36.0/Test/Builder.pm line 374
Test::Builder::subtest(Test::Builder=HASH(0xc7c290), "ignore_old", CODE(0x140cc70)) called at /home/cpan/pit/bare/perl-5.36.0/lib/site_perl/5.36.0/Test/More.pm line 809
Test::More::subtest("ignore_old", CODE(0x140cc70)) called at t/07_client_store.t line 106
Do not use HTTP::Session2::ClientStore. Use HTTP::Session2::ServerStore or HTTP::Session2::ClientStore2 instead. at /home/cpan/pit/bare/conf/perl-5.36.0/.cpanplus/5.36.0/build/rZ32zAKAIY/HTTP-Session2-1.10/blib/lib/HTTP/Session2/ClientStore.pm line 25.
Secret string too short at /home/cpan/pit/bare/conf/perl-5.36.0/.cpanplus/5.36.0/build/rZ32zAKAIY/HTTP-Session2-1.10/blib/lib/HTTP/Session2/Base.pm line 79.
HTTP::Session2::Base::__ANON__(HTTP::Session2::ClientStore=HASH(0x1428600), "secret") called at t/07_client_store.t line 87
main::__ANON__() called at /home/cpan/pit/bare/perl-5.36.0/lib/site_perl/5.36.0/Test/Builder.pm line 374
eval {...} called at /home/cpan/pit/bare/perl-5.36.0/lib/site_perl/5.36.0/Test/Builder.pm line 374
Test::Builder::subtest(Test::Builder=HASH(0xc7c290), "ignore_old disabled", CODE(0x141ff20)) called at /home/cpan/pit/bare/perl-5.36.0/lib/site_perl/5.36.0/Test/More.pm line 809
Test::More::subtest("ignore_old disabled", CODE(0x141ff20)) called at t/07_client_store.t line 95
main::__ANON__() called at /home/cpan/pit/bare/perl-5.36.0/lib/site_perl/5.36.0/Test/Builder.pm line 374
eval {...} called at /home/cpan/pit/bare/perl-5.36.0/lib/site_perl/5.36.0/Test/Builder.pm line 374
Test::Builder::subtest(Test::Builder=HASH(0xc7c290), "ignore_old", CODE(0x140cc70)) called at /home/cpan/pit/bare/perl-5.36.0/lib/site_perl/5.36.0/Test/More.pm line 809
Test::More::subtest("ignore_old", CODE(0x140cc70)) called at t/07_client_store.t line 106
Do not use HTTP::Session2::ClientStore. Use HTTP::Session2::ServerStore or HTTP::Session2::ClientStore2 instead. at /home/cpan/pit/bare/conf/perl-5.36.0/.cpanplus/5.36.0/build/rZ32zAKAIY/HTTP-Session2-1.10/blib/lib/HTTP/Session2/ClientStore.pm line 35.
Secret string too short at /home/cpan/pit/bare/conf/perl-5.36.0/.cpanplus/5.36.0/build/rZ32zAKAIY/HTTP-Session2-1.10/blib/lib/HTTP/Session2/Base.pm line 79.
HTTP::Session2::Base::__ANON__(HTTP::Session2::ClientStore=HASH(0x1428940), "secret") called at t/07_client_store.t line 97
main::__ANON__() called at /home/cpan/pit/bare/perl-5.36.0/lib/site_perl/5.36.0/Test/Builder.pm line 374
eval {...} called at /home/cpan/pit/bare/perl-5.36.0/lib/site_perl/5.36.0/Test/Builder.pm line 374
Test::Builder::subtest(Test::Builder=HASH(0xc7c290), "ignore_old enabled", CODE(0x141ff20)) called at /home/cpan/pit/bare/perl-5.36.0/lib/site_perl/5.36.0/Test/More.pm line 809
Test::More::subtest("ignore_old enabled", CODE(0x141ff20)) called at t/07_client_store.t line 105
main::__ANON__() called at /home/cpan/pit/bare/perl-5.36.0/lib/site_perl/5.36.0/Test/Builder.pm line 374
eval {...} called at /home/cpan/pit/bare/perl-5.36.0/lib/site_perl/5.36.0/Test/Builder.pm line 374
Test::Builder::subtest(Test::Builder=HASH(0xc7c290), "ignore_old", CODE(0x140cc70)) called at /home/cpan/pit/bare/perl-5.36.0/lib/site_perl/5.36.0/Test/More.pm line 809
Test::More::subtest("ignore_old", CODE(0x140cc70)) called at t/07_client_store.t line 106
t/07_client_store.t ......... ok
Secret string too short at /home/cpan/pit/bare/conf/perl-5.36.0/.cpanplus/5.36.0/build/rZ32zAKAIY/HTTP-Session2-1.10/blib/lib/HTTP/Session2/Base.pm line 79.
HTTP::Session2::Base::__ANON__(HTTP::Session2::Expired=HASH(0x21cdfb0), 33333) called at t/08_expired.t line 7
t/08_expired.t .............. ok
# /dev/urandom available
# /dev/urandom(1): QKTTP9CsRlGJm2Vb1pDkb-F1bOsC1-r
# /dev/urandom(2): SoJ0z9x8Vl-HHxczG36QIjTfyYVFCuQ
# perl: 32c9d590137500f25019b350219ce39
t/09_random.t ............... ok
t/11_secret_string.t ........ ok
Secret string too short at /home/cpan/pit/bare/conf/perl-5.36.0/.cpanplus/5.36.0/build/rZ32zAKAIY/HTTP-Session2-1.10/blib/lib/HTTP/Session2/Base.pm line 79.
HTTP::Session2::Base::__ANON__(HTTP::Session2::ClientStore2=HASH(0x1d317e0), "s3cret") called at t/client_store2/01_basic.t line 24
main::__ANON__("client -> server: request without cookie", CODE(0x1d2c0c0)) called at t/client_store2/01_basic.t line 30
main::__ANON__() called at /home/cpan/pit/bare/perl-5.36.0/lib/site_perl/5.36.0/Test/Builder.pm line 374
eval {...} called at /home/cpan/pit/bare/perl-5.36.0/lib/site_perl/5.36.0/Test/Builder.pm line 374
Test::Builder::subtest(Test::Builder=HASH(0x1752720), "First request", CODE(0x171c4e0)) called at /home/cpan/pit/bare/perl-5.36.0/lib/site_perl/5.36.0/Test/More.pm line 809
Test::More::subtest("First request", CODE(0x171c4e0)) called at t/client_store2/01_basic.t line 9
main::scenario("First request", CODE(0x171c4e0)) called at t/client_store2/01_basic.t line 36
Secret string too short at /home/cpan/pit/bare/conf/perl-5.36.0/.cpanplus/5.36.0/build/rZ32zAKAIY/HTTP-Session2-1.10/blib/lib/HTTP/Session2/Base.pm line 79.
HTTP::Session2::Base::__ANON__(HTTP::Session2::ClientStore2=HASH(0x1d32210), "s3cret") called at t/client_store2/01_basic.t line 41
main::__ANON__("client -> server: request without cookie", CODE(0x1d31750)) called at t/client_store2/01_basic.t line 47
main::__ANON__() called at /home/cpan/pit/bare/perl-5.36.0/lib/site_perl/5.36.0/Test/Builder.pm line 374
eval {...} called at /home/cpan/pit/bare/perl-5.36.0/lib/site_perl/5.36.0/Test/Builder.pm line 374
Test::Builder::subtest(Test::Builder=HASH(0x1752720), "Store something without login", CODE(0x171c4e0)) called at /home/cpan/pit/bare/perl-5.36.0/lib/site_perl/5.36.0/Test/More.pm line 809
Test::More::subtest("Store something without login", CODE(0x171c4e0)) called at t/client_store2/01_basic.t line 9
main::scenario("Store something without login", CODE(0x171c4e0)) called at t/client_store2/01_basic.t line 63
WARNING: The key derivation method "opensslv1" is deprecated. Using -pbkdf=>'pbkdf2' would be better.
Pass -nodeprecate=>1 to inhibit this message.
at /home/cpan/pit/bare/conf/perl-5.36.0/.cpanplus/5.36.0/build/rZ32zAKAIY/HTTP-Session2-1.10/blib/lib/HTTP/Session2/ClientStore2.pm line 177.
Secret string too short at /home/cpan/pit/bare/conf/perl-5.36.0/.cpanplus/5.36.0/build/rZ32zAKAIY/HTTP-Session2-1.10/blib/lib/HTTP/Session2/Base.pm line 79.
HTTP::Session2::Base::__ANON__(HTTP::Session2::ClientStore2=HASH(0x1d319a0), "s3cret") called at t/client_store2/01_basic.t line 69
main::__ANON__("client -> server: request without cookie", CODE(0x1d31ba0)) called at t/client_store2/01_basic.t line 76
main::__ANON__() called at /home/cpan/pit/bare/perl-5.36.0/lib/site_perl/5.36.0/Test/Builder.pm line 374
eval {...} called at /home/cpan/pit/bare/perl-5.36.0/lib/site_perl/5.36.0/Test/Builder.pm line 374
Test::Builder::subtest(Test::Builder=HASH(0x1752720), "Login", CODE(0x171c4e0)) called at /home/cpan/pit/bare/perl-5.36.0/lib/site_perl/5.36.0/Test/More.pm line 809
Test::More::subtest("Login", CODE(0x171c4e0)) called at t/client_store2/01_basic.t line 9
main::scenario("Login", CODE(0x171c4e0)) called at t/client_store2/01_basic.t line 96
Ciphertext does not begin with a valid header for 'salt' header mode at /home/cpan/pit/bare/conf/perl-5.36.0/.cpanplus/5.36.0/build/rZ32zAKAIY/HTTP-Session2-1.10/blib/lib/HTTP/Session2/ClientStore2.pm line 81.
Ciphertext does not begin with a valid header for 'salt' header mode at /home/cpan/pit/bare/conf/perl-5.36.0/.cpanplus/5.36.0/build/rZ32zAKAIY/HTTP-Session2-1.10/blib/lib/HTTP/Session2/ClientStore2.pm line 81.
WARNING: The key derivation method "opensslv1" is deprecated. Using -pbkdf=>'pbkdf2' would be better.
Pass -nodeprecate=>1 to inhibit this message.
at /home/cpan/pit/bare/conf/perl-5.36.0/.cpanplus/5.36.0/build/rZ32zAKAIY/HTTP-Session2-1.10/blib/lib/HTTP/Session2/ClientStore2.pm line 177.
Secret string too short at /home/cpan/pit/bare/conf/perl-5.36.0/.cpanplus/5.36.0/build/rZ32zAKAIY/HTTP-Session2-1.10/blib/lib/HTTP/Session2/Base.pm line 79.
HTTP::Session2::Base::__ANON__(HTTP::Session2::ClientStore2=HASH(0x1d40680), "s3cret") called at t/client_store2/01_basic.t line 102
main::__ANON__("client -> server: request without cookie", CODE(0x1d38600)) called at t/client_store2/01_basic.t line 109
main::__ANON__() called at /home/cpan/pit/bare/perl-5.36.0/lib/site_perl/5.36.0/Test/Builder.pm line 374
eval {...} called at /home/cpan/pit/bare/perl-5.36.0/lib/site_perl/5.36.0/Test/Builder.pm line 374
Test::Builder::subtest(Test::Builder=HASH(0x1752720), "In a login session", CODE(0x171c4e0)) called at /home/cpan/pit/bare/perl-5.36.0/lib/site_perl/5.36.0/Test/More.pm line 809
Test::More::subtest("In a login session", CODE(0x171c4e0)) called at t/client_store2/01_basic.t line 9
main::scenario("In a login session", CODE(0x171c4e0)) called at t/client_store2/01_basic.t line 118
Ciphertext does not begin with a valid header for 'salt' header mode at /home/cpan/pit/bare/conf/perl-5.36.0/.cpanplus/5.36.0/build/rZ32zAKAIY/HTTP-Session2-1.10/blib/lib/HTTP/Session2/ClientStore2.pm line 81.
WARNING: The key derivation method "opensslv1" is deprecated. Using -pbkdf=>'pbkdf2' would be better.
Pass -nodeprecate=>1 to inhibit this message.
at /home/cpan/pit/bare/conf/perl-5.36.0/.cpanplus/5.36.0/build/rZ32zAKAIY/HTTP-Session2-1.10/blib/lib/HTTP/Session2/ClientStore2.pm line 177.
Secret string too short at /home/cpan/pit/bare/conf/perl-5.36.0/.cpanplus/5.36.0/build/rZ32zAKAIY/HTTP-Session2-1.10/blib/lib/HTTP/Session2/Base.pm line 79.
HTTP::Session2::Base::__ANON__(HTTP::Session2::ClientStore2=HASH(0x1d40730), "s3cret") called at t/client_store2/01_basic.t line 123
main::__ANON__("client -> server: request without cookie", CODE(0x1d32260)) called at t/client_store2/01_basic.t line 130
main::__ANON__() called at /home/cpan/pit/bare/perl-5.36.0/lib/site_perl/5.36.0/Test/Builder.pm line 374
eval {...} called at /home/cpan/pit/bare/perl-5.36.0/lib/site_perl/5.36.0/Test/Builder.pm line 374
Test::Builder::subtest(Test::Builder=HASH(0x1752720), "Logout", CODE(0x171c4e0)) called at /home/cpan/pit/bare/perl-5.36.0/lib/site_perl/5.36.0/Test/More.pm line 809
Test::More::subtest("Logout", CODE(0x171c4e0)) called at t/client_store2/01_basic.t line 9
main::scenario("Logout", CODE(0x171c4e0)) called at t/client_store2/01_basic.t line 143
Ciphertext does not begin with a valid header for 'salt' header mode at /home/cpan/pit/bare/conf/perl-5.36.0/.cpanplus/5.36.0/build/rZ32zAKAIY/HTTP-Session2-1.10/blib/lib/HTTP/Session2/ClientStore2.pm line 81.
t/client_store2/01_basic.t .. ok
WARNING: The key derivation method "opensslv1" is deprecated. Using -pbkdf=>'pbkdf2' would be better.
Pass -nodeprecate=>1 to inhibit this message.
at /home/cpan/pit/bare/conf/perl-5.36.0/.cpanplus/5.36.0/build/rZ32zAKAIY/HTTP-Session2-1.10/blib/lib/HTTP/Session2/ClientStore2.pm line 177.
WARNING: The key derivation method "opensslv1" is deprecated. Using -pbkdf=>'pbkdf2' would be better.
Pass -nodeprecate=>1 to inhibit this message.
at /home/cpan/pit/bare/conf/perl-5.36.0/.cpanplus/5.36.0/build/rZ32zAKAIY/HTTP-Session2-1.10/blib/lib/HTTP/Session2/ClientStore2.pm line 177.
WARNING: The key derivation method "opensslv1" is deprecated. Using -pbkdf=>'pbkdf2' would be better.
Pass -nodeprecate=>1 to inhibit this message.
at /home/cpan/pit/bare/conf/perl-5.36.0/.cpanplus/5.36.0/build/rZ32zAKAIY/HTTP-Session2-1.10/blib/lib/HTTP/Session2/ClientStore2.pm line 177.
t/client_store2/02_mech.t ... ok
WARNING: The key derivation method "opensslv1" is deprecated. Using -pbkdf=>'pbkdf2' would be better.
Pass -nodeprecate=>1 to inhibit this message.
at /home/cpan/pit/bare/conf/perl-5.36.0/.cpanplus/5.36.0/build/rZ32zAKAIY/HTTP-Session2-1.10/blib/lib/HTTP/Session2/ClientStore2.pm line 177.
t/client_store2/03_colon.t .. ok
All tests successful.
Files=14, Tests=84, 2 wallclock secs ( 0.06 usr 0.01 sys + 1.42 cusr 0.13 csys = 1.62 CPU)
Result: PASS
PREREQUISITES:
Here is a list of prerequisites you specified and versions we
managed to load:
Module Name Have Want
Cookie::Baker 0.11 0
Crypt::CBC 3.04 0
Crypt::Rijndael 1.16 0
Data::MessagePack 1.02 0
Digest::HMAC 1.04 0
Digest::SHA 6.03 0
Digest::SHA1 2.13 0
MIME::Base64 3.16 3.11
Mouse v2.5.10 0
Plack::Request 1.0050 0
Plack::Response 1.0050 0
Test::More 1.302191 0.98
Test::WWW::Mechanize::PSGI 0.39 0
Time::HiRes 1.9770 0
parent 0.238 0
Perl module toolchain versions installed:
Module Name Have
CPANPLUS 0.9914
CPANPLUS::Dist::Build 0.90
Cwd 3.84
ExtUtils::CBuilder 0.280236
ExtUtils::Command 7.64
ExtUtils::Install 2.20
ExtUtils::MakeMaker 7.64
ExtUtils::Manifest 1.73
ExtUtils::ParseXS 3.45
File::Spec 3.84
Module::Build 0.4231
Pod::Parser 0
Pod::Simple 3.43
Test2 1.302191
Test::Harness 3.44
Test::More 1.302191
version 0.9929
******************************** NOTE ********************************
The comments above are created mechanically, possibly without manual
checking by the sender. As there are many people performing automatic
tests on each upload to CPAN, it is likely that you will receive
identical messages about the same problem.
If you believe that the message is mistaken, please reply to the first
one with correction and/or additional informations, and do not take
it personally. We appreciate your patience. :)
**********************************************************************
Additional comments:
This report was machine-generated by CPANPLUS::Dist::YACSmoke 1.08.
Powered by minismokebox version 0.68
CPANPLUS is prefering Build.PL
------------------------------
ENVIRONMENT AND OTHER CONTEXT
------------------------------
Environment variables:
AUTOMATED_TESTING = 1
LANG = en_GB.UTF-8
LANGUAGE = en_GB:en
NONINTERACTIVE_TESTING = 1
PATH = /usr/local/bin:/usr/bin:/bin:/usr/local/games:/usr/games
PERL5LIB = /home/cpan/pit/jail/DMKQCpbnYi/lib/perl5:/home/cpan/pit/bare/conf/perl-5.36.0/.cpanplus/5.36.0/build/rZ32zAKAIY/HTTP-Session2-1.10/blib/lib:/home/cpan/pit/bare/conf/perl-5.36.0/.cpanplus/5.36.0/build/rZ32zAKAIY/HTTP-Session2-1.10/blib/arch
PERL5_CPANPLUS_IS_RUNNING = 4236
PERL5_CPANPLUS_IS_VERSION = 0.9914
PERL5_MINISMOKEBOX = 0.68
PERL5_YACSMOKE_BASE = /home/cpan/pit/bare/conf/perl-5.36.0
PERL_EXTUTILS_AUTOINSTALL = --defaultdeps
PERL_LOCAL_LIB_ROOT = /home/cpan/pit/jail/DMKQCpbnYi
PERL_MB_OPT = --install_base "/home/cpan/pit/jail/DMKQCpbnYi"
PERL_MM_OPT = INSTALL_BASE=/home/cpan/pit/jail/DMKQCpbnYi
PERL_MM_USE_DEFAULT = 1
SHELL = /bin/bash
TERM = screen.xterm-256color
Perl special variables (and OS-specific diagnostics, for MSWin32):
Perl: $^X = /home/cpan/pit/bare/perl-5.36.0/bin/perl
UID: $< = 1001
EUID: $> = 1001
GID: $( = 1001 1001
EGID: $) = 1001 1001
-------------------------------
--
Summary of my perl5 (revision 5 version 36 subversion 0) configuration:
Platform:
osname=linux
osvers=5.10.0-14-686
archname=i686-linux
uname='linux dagobah 5.10.0-14-686 #1 smp debian 5.10.113-1 (2022-04-29) i686 gnulinux '
config_args='-des -Dprefix=/home/cpan/pit/bare/perl-5.36.0'
hint=recommended
useposix=true
d_sigaction=define
useithreads=undef
usemultiplicity=undef
use64bitint=undef
use64bitall=undef
uselongdouble=undef
usemymalloc=n
default_inc_excludes_dot=define
Compiler:
cc='cc'
ccflags ='-fwrapv -fno-strict-aliasing -pipe -fstack-protector-strong -I/usr/local/include -D_LARGEFILE_SOURCE -D_FILE_OFFSET_BITS=64 -D_FORTIFY_SOURCE=2'
optimize='-O2'
cppflags='-fwrapv -fno-strict-aliasing -pipe -fstack-protector-strong -I/usr/local/include'
ccversion=''
gccversion='10.2.1 20210110'
gccosandvers=''
intsize=4
longsize=4
ptrsize=4
doublesize=8
byteorder=1234
doublekind=3
d_longlong=define
longlongsize=8
d_longdbl=define
longdblsize=12
longdblkind=3
ivtype='long'
ivsize=4
nvtype='double'
nvsize=8
Off_t='off_t'
lseeksize=8
alignbytes=4
prototype=define
Linker and Libraries:
ld='cc'
ldflags =' -fstack-protector-strong -L/usr/local/lib'
libpth=/usr/local/lib /usr/lib/i386-linux-gnu /usr/lib /usr/lib64
libs=-lpthread -lnsl -lgdbm -ldl -lm -lcrypt -lutil -lc
perllibs=-lpthread -lnsl -ldl -lm -lcrypt -lutil -lc
libc=libc-2.31.so
so=so
useshrplib=false
libperl=libperl.a
gnulibc_version='2.31'
Dynamic Linking:
dlsrc=dl_dlopen.xs
dlext=so
d_dlsymun=undef
ccdlflags='-Wl,-E'
cccdlflags='-fPIC'
lddlflags='-shared -O2 -L/usr/local/lib -fstack-protector-strong'
Characteristics of this binary (from libperl):
Compile-time options:
HAS_TIMES
PERLIO_LAYERS
PERL_COPY_ON_WRITE
PERL_DONT_CREATE_GVSV
PERL_MALLOC_WRAP
PERL_OP_PARENT
PERL_PRESERVE_IVUV
USE_LARGE_FILES
USE_LOCALE
USE_LOCALE_COLLATE
USE_LOCALE_CTYPE
USE_LOCALE_NUMERIC
USE_LOCALE_TIME
USE_PERLIO
USE_PERL_ATOF
Built under linux
Compiled at May 30 2022 18:07:04
%ENV:
PERL5LIB="/home/cpan/pit/jail/DMKQCpbnYi/lib/perl5:/home/cpan/pit/bare/conf/perl-5.36.0/.cpanplus/5.36.0/build/rZ32zAKAIY/HTTP-Session2-1.10/blib/lib:/home/cpan/pit/bare/conf/perl-5.36.0/.cpanplus/5.36.0/build/rZ32zAKAIY/HTTP-Session2-1.10/blib/arch"
PERL5_CPANPLUS_IS_RUNNING="4236"
PERL5_CPANPLUS_IS_VERSION="0.9914"
PERL5_MINISMOKEBOX="0.68"
PERL5_YACSMOKE_BASE="/home/cpan/pit/bare/conf/perl-5.36.0"
PERL_EXTUTILS_AUTOINSTALL="--defaultdeps"
PERL_LOCAL_LIB_ROOT="/home/cpan/pit/jail/DMKQCpbnYi"
PERL_MB_OPT="--install_base "/home/cpan/pit/jail/DMKQCpbnYi""
PERL_MM_OPT="INSTALL_BASE=/home/cpan/pit/jail/DMKQCpbnYi"
PERL_MM_USE_DEFAULT="1"
@INC:
/home/cpan/pit/jail/DMKQCpbnYi/lib/perl5/5.36.0/i686-linux
/home/cpan/pit/jail/DMKQCpbnYi/lib/perl5/5.36.0
/home/cpan/pit/jail/DMKQCpbnYi/lib/perl5/i686-linux
/home/cpan/pit/jail/DMKQCpbnYi/lib/perl5
/home/cpan/pit/bare/conf/perl-5.36.0/.cpanplus/5.36.0/build/rZ32zAKAIY/HTTP-Session2-1.10/blib/lib
/home/cpan/pit/bare/conf/perl-5.36.0/.cpanplus/5.36.0/build/rZ32zAKAIY/HTTP-Session2-1.10/blib/arch
/home/cpan/pit/bare/perl-5.36.0/lib/site_perl/5.36.0/i686-linux
/home/cpan/pit/bare/perl-5.36.0/lib/site_perl/5.36.0
/home/cpan/pit/bare/perl-5.36.0/lib/5.36.0/i686-linux
/home/cpan/pit/bare/perl-5.36.0/lib/5.36.0