Report for Dist-Zilla-Plugin-MinimumPerl-1.006

Back
From: metabase:user:314402c4-2aae-11df-837a-5e0a49663a4f
Subject: PASS Dist-Zilla-Plugin-MinimumPerl-1.006 v5.22.3 GNU/Linux
Date: 2017-07-29T19:34:36Z

This distribution has been tested as part of the CPAN Testers
project, supporting the Perl programming language.  See
http://wiki.cpantesters.org/ for more information or email
questions to cpan-testers-discuss@perl.org


--
Dear Apocalypse,

This is a computer-generated report for Dist-Zilla-Plugin-MinimumPerl-1.006
on perl 5.22.3, created by CPAN-Reporter-1.2018.

Thank you for uploading your work to CPAN.  Congratulations!
All tests were successful.

Sections of this report:

    * Tester comments
    * Program output
    * Prerequisites
    * Environment and other context

------------------------------
TESTER COMMENTS
------------------------------

Additional comments from tester:

none provided

------------------------------
PROGRAM OUTPUT
------------------------------

Output from './Build test':

t/00-compile.t ................ ok
# 
# 
# Generated by Dist::Zilla::Plugin::ReportVersions::Tiny v1.10
# perl: 5.022003 (wanted 5.006) on linux from /opt/perl-5.22.3/bin/perl
# 
# Dist::Zilla::Role::FileFinderUser             => 6.010      (want 4.200006)
# Dist::Zilla::Role::PrereqSource               => 6.010      (want 5.006)  
# ExtUtils::MakeMaker                           => 7.3        (want any version)
# File::Spec                                    => 3.56_02    (want any version)
# File::Temp                                    => 0.2304     (want any version)
# IO::Handle                                    => 1.35       (want any version)
# IPC::Open3                                    => 1.18       (want any version)
# Module::Build::Tiny                           => 0.039      (want 0.039)  
# Moose                                         => 2.2005     (want 1.03)   
# Moose::Util::TypeConstraints                  => 2.2005     (want 1.01)   
# MooseX::Types::Perl                           => 0.101343   (want 0.101340)
# Perl::MinimumVersion                          => 1.38       (want 1.26)   
# Test::More                                    => 1.302086   (want 0.88)   
# strict                                        => 1.09       (want any version)
# warnings                                      => 1.34       (want any version)
# 
# Thanks for using my code.  I hope it works for you.
# If not, please try and include this output in the bug report.
# That will help me reproduce the issue and solve your problem.
# 
t/000-report-versions-tiny.t .. ok
t/apocalypse.t ................ skipped: Test::Apocalypse required for validating the distribution
All tests successful.
Files=3, Tests=2,  1 wallclock secs ( 0.01 usr  0.02 sys +  0.77 cusr  0.14 csys =  0.94 CPU)
Result: PASS

------------------------------
PREREQUISITES
------------------------------

Prerequisite modules loaded:

requires:

    Module                            Need     Have    
    --------------------------------- -------- --------
    Dist::Zilla::Role::FileFinderUser 4.200006 6.010   
    Dist::Zilla::Role::PrereqSource   5.006    6.010   
    Moose                             1.03     2.2005  
    Moose::Util::TypeConstraints      1.01     2.2005  
    MooseX::Types::Perl               0.101340 0.101343
    perl                              5.006    5.022003
    Perl::MinimumVersion              1.26     1.38    
    strict                            0        1.09    
    warnings                          0        1.34    

build_requires:

    Module                            Need     Have    
    --------------------------------- -------- --------
    File::Spec                        0        3.56_02 
    File::Temp                        0        0.2304  
    IO::Handle                        0        1.35    
    IPC::Open3                        0        1.18    
    perl                              5.006    5.022003
    Test::More                        0.88     1.302086

configure_requires:

    Module                            Need     Have    
    --------------------------------- -------- --------
    ExtUtils::MakeMaker               0        7.30    
    Module::Build::Tiny               0.039    0.039   
    perl                              5.006    5.022003


------------------------------
ENVIRONMENT AND OTHER CONTEXT
------------------------------

Environment variables:

    LANG = en_US.UTF-8
    PATH = /usr/local/bin:/usr/bin:/bin:/usr/local/sbin:/usr/sbin:/sbin:/home/cpansand/bin/linux-gnu:/home/cpansand/bin/sh:/home/cpansand/bin:/usr/games:/home/cpansand/devel:/home/eserte/src/srezic-misc/scripts
    PERL5LIB = /home/cpansand/.cpan/build/2017072918/Dist-Zilla-Plugin-Repository-0.20-wLLBQC/blib/arch:/home/cpansand/.cpan/build/2017072918/Dist-Zilla-Plugin-Repository-0.20-wLLBQC/blib/lib:/home/cpansand/.cpan/build/2017072918/Dist-Zilla-Plugin-PodWeaver-4.008-HGdQZh/blib/arch:/home/cpansand/.cpan/build/2017072918/Dist-Zilla-Plugin-PodWeaver-4.008-HGdQZh/blib/lib:/home/cpansand/.cpan/build/2017072918/Dist-Zilla-Plugin-Bugtracker-1.111080-NFwC4X/blib/arch:/home/cpansand/.cpan/build/2017072918/Dist-Zilla-Plugin-Bugtracker-1.111080-NFwC4X/blib/lib:/home/cpansand/.cpan/build/2017072918/Dist-Zilla-Plugin-Config-Git-0.92-u1lMM5/blib/arch:/home/cpansand/.cpan/build/2017072918/Dist-Zilla-Plugin-Config-Git-0.92-u1lMM5/blib/lib:/home/cpansand/.cpan/build/2017072918/Dist-Zilla-Config-Slicer-0.201-a7EGxZ/blib/arch:/home/cpansand/.cpan/build/2017072918/Dist-Zilla-Config-Slicer-0.201-a7EGxZ/blib/lib
    PERL5OPT = 
    PERL5_CPANPLUS_IS_RUNNING = 25707
    PERL5_CPAN_IS_RUNNING = 25707
    PERL5_CPAN_IS_RUNNING_IN_RECURSION = 25506,25707
    PERLDOC = -MPod::Perldoc::ToTextOverstrike
    PERL_BATCH = yes
    PERL_CANARY_STABILITY_NOPROMPT = 1
    PERL_CPAN_REPORTER_CONFIG = /var/tmp/cpansmoker-1023/2017072918/cpanreporter_001_config.ini
    PERL_EXTUTILS_AUTOINSTALL = --defaultdeps
    SHELL = /bin/zsh
    TERM = screen
    TMPDIR = /var/tmp/cpansmoker-1023/2017072918

Perl special variables (and OS-specific diagnostics, for MSWin32):

    $^X = /opt/perl-5.22.3/bin/perl5.22.3
    $UID/$EUID = 1023 / 1023
    $GID = 1023 1023
    $EGID = 1023 1023

Perl module toolchain versions installed:

    Module              Have      
    ------------------- ----------
    CPAN                2.11_01   
    CPAN::Meta          2.150001  
    Cwd                 3.56_02   
    ExtUtils::CBuilder  0.280221  
    ExtUtils::Command   7.30      
    ExtUtils::Install   2.06      
    ExtUtils::MakeMaker 7.30      
    ExtUtils::Manifest  1.70      
    ExtUtils::ParseXS   3.28      
    File::Spec          3.56_02   
    JSON                2.94      
    JSON::PP            2.94      
    Module::Build       0.4224    
    Module::Signature   n/a       
    Parse::CPAN::Meta   1.4414_001
    Test::Harness       3.35_01   
    Test::More          1.302086  
    YAML                1.23      
    YAML::Syck          1.30      
    version             0.9909    


--

Summary of my perl5 (revision 5 version 22 subversion 3) configuration:
   
  Platform:
    osname=linux, osvers=2.6.32-696.3.1.el6.x86_64, archname=x86_64-linux
    uname='linux centos6 2.6.32-696.3.1.el6.x86_64 #1 smp tue may 30 19:52:55 utc 2017 x86_64 x86_64 x86_64 gnulinux '
    config_args='-ds -e -Dprefix=/opt/perl-5.22.3 -Dcf_email=srezic@cpan.org'
    hint=recommended, useposix=true, d_sigaction=define
    useithreads=undef, usemultiplicity=undef
    use64bitint=define, use64bitall=define, uselongdouble=undef
    usemymalloc=n, bincompat5005=undef
  Compiler:
    cc='cc', ccflags ='-fwrapv -fno-strict-aliasing -pipe -fstack-protector -I/usr/local/include -D_LARGEFILE_SOURCE -D_FILE_OFFSET_BITS=64 -D_FORTIFY_SOURCE=2',
    optimize='-O2',
    cppflags='-fwrapv -fno-strict-aliasing -pipe -fstack-protector -I/usr/local/include'
    ccversion='', gccversion='4.4.7 20120313 (Red Hat 4.4.7-18)', gccosandvers=''
    intsize=4, longsize=8, ptrsize=8, doublesize=8, byteorder=12345678, doublekind=3
    d_longlong=define, longlongsize=8, d_longdbl=define, longdblsize=16, longdblkind=3
    ivtype='long', ivsize=8, nvtype='double', nvsize=8, Off_t='off_t', lseeksize=8
    alignbytes=8, prototype=define
  Linker and Libraries:
    ld='cc', ldflags =' -fstack-protector -L/usr/local/lib'
    libpth=/usr/local/lib /usr/lib /lib/../lib64 /usr/lib/../lib64 /lib /lib64 /usr/lib64 /usr/local/lib64
    libs=-lpthread -lnsl -lgdbm -ldb -ldl -lm -lcrypt -lutil -lc
    perllibs=-lpthread -lnsl -ldl -lm -lcrypt -lutil -lc
    libc=libc-2.12.so, so=so, useshrplib=false, libperl=libperl.a
    gnulibc_version='2.12'
  Dynamic Linking:
    dlsrc=dl_dlopen.xs, dlext=so, d_dlsymun=undef, ccdlflags='-Wl,-E'
    cccdlflags='-fPIC', lddlflags='-shared -O2 -L/usr/local/lib -fstack-protector'


Characteristics of this binary (from libperl): 
  Compile-time options: HAS_TIMES PERLIO_LAYERS PERL_DONT_CREATE_GVSV
                        PERL_HASH_FUNC_ONE_AT_A_TIME_HARD PERL_MALLOC_WRAP
                        PERL_NEW_COPY_ON_WRITE PERL_PRESERVE_IVUV
                        USE_64_BIT_ALL USE_64_BIT_INT USE_LARGE_FILES
                        USE_LOCALE USE_LOCALE_COLLATE USE_LOCALE_CTYPE
                        USE_LOCALE_NUMERIC USE_LOCALE_TIME USE_PERLIO
                        USE_PERL_ATOF
  Built under linux
  Compiled at Jun 21 2017 19:22:49
  %ENV:
    PERL5LIB="/home/cpansand/.cpan/build/2017072918/Dist-Zilla-Plugin-Repository-0.20-wLLBQC/blib/arch:/home/cpansand/.cpan/build/2017072918/Dist-Zilla-Plugin-Repository-0.20-wLLBQC/blib/lib:/home/cpansand/.cpan/build/2017072918/Dist-Zilla-Plugin-PodWeaver-4.008-HGdQZh/blib/arch:/home/cpansand/.cpan/build/2017072918/Dist-Zilla-Plugin-PodWeaver-4.008-HGdQZh/blib/lib:/home/cpansand/.cpan/build/2017072918/Dist-Zilla-Plugin-Bugtracker-1.111080-NFwC4X/blib/arch:/home/cpansand/.cpan/build/2017072918/Dist-Zilla-Plugin-Bugtracker-1.111080-NFwC4X/blib/lib:/home/cpansand/.cpan/build/2017072918/Dist-Zilla-Plugin-Config-Git-0.92-u1lMM5/blib/arch:/home/cpansand/.cpan/build/2017072918/Dist-Zilla-Plugin-Config-Git-0.92-u1lMM5/blib/lib:/home/cpansand/.cpan/build/2017072918/Dist-Zilla-Config-Slicer-0.201-a7EGxZ/blib/arch:/home/cpansand/.cpan/build/2017072918/Dist-Zilla-Config-Slicer-0.201-a7EGxZ/blib/lib"
    PERL5OPT=""
    PERL5_CPANPLUS_IS_RUNNING="25707"
    PERL5_CPAN_IS_RUNNING="25707"
    PERL5_CPAN_IS_RUNNING_IN_RECURSION="25506,25707"
    PERLDOC="-MPod::Perldoc::ToTextOverstrike"
    PERL_BATCH="yes"
    PERL_CANARY_STABILITY_NOPROMPT="1"
    PERL_CPAN_REPORTER_CONFIG="/var/tmp/cpansmoker-1023/2017072918/cpanreporter_001_config.ini"
    PERL_EXTUTILS_AUTOINSTALL="--defaultdeps"
  @INC:
    /home/cpansand/.cpan/build/2017072918/Dist-Zilla-Plugin-Repository-0.20-wLLBQC/blib/arch
    /home/cpansand/.cpan/build/2017072918/Dist-Zilla-Plugin-Repository-0.20-wLLBQC/blib/lib
    /home/cpansand/.cpan/build/2017072918/Dist-Zilla-Plugin-PodWeaver-4.008-HGdQZh/blib/arch
    /home/cpansand/.cpan/build/2017072918/Dist-Zilla-Plugin-PodWeaver-4.008-HGdQZh/blib/lib
    /home/cpansand/.cpan/build/2017072918/Dist-Zilla-Plugin-Bugtracker-1.111080-NFwC4X/blib/arch
    /home/cpansand/.cpan/build/2017072918/Dist-Zilla-Plugin-Bugtracker-1.111080-NFwC4X/blib/lib
    /home/cpansand/.cpan/build/2017072918/Dist-Zilla-Plugin-Config-Git-0.92-u1lMM5/blib/arch
    /home/cpansand/.cpan/build/2017072918/Dist-Zilla-Plugin-Config-Git-0.92-u1lMM5/blib/lib
    /home/cpansand/.cpan/build/2017072918/Dist-Zilla-Config-Slicer-0.201-a7EGxZ/blib/arch
    /home/cpansand/.cpan/build/2017072918/Dist-Zilla-Config-Slicer-0.201-a7EGxZ/blib/lib
    /opt/perl-5.22.3/lib/site_perl/5.22.3/x86_64-linux
    /opt/perl-5.22.3/lib/site_perl/5.22.3
    /opt/perl-5.22.3/lib/5.22.3/x86_64-linux
    /opt/perl-5.22.3/lib/5.22.3
    .