Pithub v0.01041 Perl 5 v5.28.3 x86_64-linux

Status
Pass
From
Slaven Rezić
Dist
Pithub v0.01041
Platform
Perl 5 v5.28.3 x86_64-linux
Date
2023-08-24 21:19:48
ID
f4683dba-42c3-11ee-a7ec-f00f6e8775ea
This distribution has been tested as part of the CPAN Testers
project, supporting the Perl programming language.  See
http://wiki.cpantesters.org/ for more information or email
questions to cpan-testers-discuss@perl.org


--
Dear Olaf Alders,

This is a computer-generated report for Pithub-0.01041
on perl 5.28.3, created by CPAN-Reporter-1.2018.

Thank you for uploading your work to CPAN.  Congratulations!
All tests were successful.

Sections of this report:

    * Tester comments
    * Program output
    * Prerequisites
    * Environment and other context

------------------------------
TESTER COMMENTS
------------------------------

Additional comments from tester:

none provided

------------------------------
PROGRAM OUTPUT
------------------------------

Output from '/usr/bin/make test':

PERL_DL_NONLAZY=1 "/opt/perl-5.28.3/bin/perl" "-MExtUtils::Command::MM" "-MTest::Harness" "-e" "undef *Test::Harness::Switches; test_harness(0, 'blib/lib', 'blib/arch')" t/*.t t/live/*.t t/live/repos/actions/*.t
# 
# Versions for all modules listed in MYMETA.json (including optional ones):
# 
# === Configure Requires ===
# 
#     Module               Want     Have
#     ------------------- ----- --------
#     ExtUtils::MakeMaker   any     7.70
#     perl                5.006 5.028003
# 
# === Build Requires ===
# 
#     Module              Want Have
#     ------------------- ---- ----
#     ExtUtils::MakeMaker  any 7.70
# 
# === Test Requires ===
# 
#     Module               Want     Have
#     ------------------- ----- --------
#     Exporter              any     5.74
#     ExtUtils::MakeMaker   any     7.70
#     File::Spec            any     3.75
#     FindBin               any     1.53
#     HTTP::Response        any     6.44
#     Import::Into          any 1.002005
#     MIME::Base64          any     3.16
#     Path::Tiny            any    0.144
#     Scalar::Util          any     1.63
#     Test::Builder         any 1.302195
#     Test::Differences     any     0.70
#     Test::Exception       any     0.43
#     Test::More            any 1.302195
#     Test::Most            any     0.38
#     Test::Needs           any 0.002010
#     lib                   any     0.64
#     perl                5.010 5.028003
# 
# === Test Recommends ===
# 
#     Module         Want     Have
#     ---------- -------- --------
#     CPAN::Meta 2.120900 2.150010
# 
# === Runtime Requires ===
# 
#     Module                 Want     Have
#     --------------------- ----- --------
#     CHI                     any     0.61
#     Carp                    any     1.50
#     HTTP::Headers           any     6.44
#     HTTP::Request           any     6.44
#     HTTP::Request::Common   any     6.44
#     JSON::MaybeXS           any 1.004005
#     LWP::UserAgent          any     6.72
#     Moo                     any 2.005005
#     Moo::Role               any 2.005005
#     URI                     any     5.20
#     perl                  5.010 5.028003
#     strict                  any     1.11
#     warnings                any     1.42
# 
t/00-report-prereqs.t ............. ok
t/basic.t ......................... ok
t/encoding.t ...................... ok
t/events.t ........................ ok
t/gists.t ......................... ok
t/git_data.t ...................... ok
t/issues.t ........................ ok
t/live/basic.t .................... ok
t/live/cache-lru.t ................ skipped: Set PITHUB_TEST_LIVE to true to run these tests
t/live/cache.t .................... skipped: Set PITHUB_TEST_LIVE to true to run these tests
t/live/events.t ................... ok
t/live/gists.t .................... ok
t/live/git_data.t ................. ok
t/live/issues.t ................... ok
t/live/orgs.t ..................... ok
t/live/pull_requests.t ............ ok
t/live/repos.t .................... ok
t/live/repos/actions/workflows.t .. ok
t/live/users.t .................... ok
t/multi.t ......................... ok
t/orgs.t .......................... ok
t/pull_requests.t ................. ok
t/repos.t ......................... ok
t/search.t ........................ ok
t/test.t .......................... ok
t/users.t ......................... ok
All tests successful.
Files=26, Tests=3029,  6 wallclock secs ( 0.23 usr  0.07 sys +  4.60 cusr  0.92 csys =  5.82 CPU)
Result: PASS

------------------------------
PREREQUISITES
------------------------------

Prerequisite modules loaded:

requires:

    Module                Need  Have    
    --------------------- ----- --------
    Carp                  0     1.50    
    CHI                   0     0.61    
    HTTP::Headers         0     6.44    
    HTTP::Request         0     6.44    
    HTTP::Request::Common 0     6.44    
    JSON::MaybeXS         0     1.004005
    LWP::UserAgent        0     6.72    
    Moo                   0     2.005005
    Moo::Role             0     2.005005
    perl                  5.010 5.028003
    strict                0     1.11    
    URI                   0     5.20    
    warnings              0     1.42    

build_requires:

    Module                Need  Have    
    --------------------- ----- --------
    Exporter              0     5.74    
    ExtUtils::MakeMaker   0     7.70    
    File::Spec            0     3.75    
    FindBin               0     1.53    
    HTTP::Response        0     6.44    
    Import::Into          0     1.002005
    lib                   0     0.64    
    MIME::Base64          0     3.16    
    Path::Tiny            0     0.144   
    Scalar::Util          0     1.63    
    Test::Builder         0     1.302195
    Test::Differences     0     0.70    
    Test::Exception       0     0.43    
    Test::More            0     1.302195
    Test::Most            0     0.38    
    Test::Needs           0     0.002010

configure_requires:

    Module                Need  Have    
    --------------------- ----- --------
    ExtUtils::MakeMaker   0     7.70    
    perl                  5.006 5.028003


------------------------------
ENVIRONMENT AND OTHER CONTEXT
------------------------------

Environment variables:

    LANG = en_US.UTF-8
    PATH = /usr/local/bin:/usr/bin:/bin:/usr/local/sbin:/usr/sbin:/sbin:/home/cpansand/bin/linux-gnu:/home/cpansand/bin/sh:/home/cpansand/bin:/usr/games:/home/cpansand/devel:/home/eserte/src/srezic-misc/scripts
    PERL5LIB = 
    PERL5OPT = 
    PERL5_CPANPLUS_IS_RUNNING = 1039448
    PERL5_CPAN_IS_RUNNING = 1039448
    PERL5_CPAN_IS_RUNNING_IN_RECURSION = 1038938,1039448
    PERLDOC = -MPod::Perldoc::ToTextOverstrike
    PERL_BATCH = yes
    PERL_CANARY_STABILITY_NOPROMPT = 1
    PERL_CPAN_REPORTER_CONFIG = /var/tmp/cpansmoker-1023/2023082418/cpanreporter_000_config.ini
    PERL_EXTUTILS_AUTOINSTALL = --defaultdeps
    PERL_USE_UNSAFE_INC = 1
    SHELL = /usr/bin/zsh
    TERM = screen
    TMPDIR = /var/tmp/cpansmoker-1023/2023082418

Perl special variables (and OS-specific diagnostics, for MSWin32):

    $^X = /opt/perl-5.28.3/bin/perl
    $UID/$EUID = 1023 / 1023
    $GID = 1023 1023
    $EGID = 1023 1023

Perl module toolchain versions installed:

    Module              Have    
    ------------------- --------
    CPAN                2.20    
    CPAN::Meta          2.150010
    Cwd                 3.75    
    ExtUtils::CBuilder  0.280236
    ExtUtils::Command   7.70    
    ExtUtils::Install   2.22    
    ExtUtils::MakeMaker 7.70    
    ExtUtils::Manifest  1.70    
    ExtUtils::ParseXS   3.39    
    File::Spec          3.75    
    JSON                4.10    
    JSON::PP            4.13    
    Module::Build       0.4234  
    Module::Signature   n/a     
    Parse::CPAN::Meta   2.150010
    Test::Harness       3.44    
    Test::More          1.302195
    YAML                1.30    
    YAML::Syck          1.34    
    version             0.9929  


--

Summary of my perl5 (revision 5 version 28 subversion 3) configuration:
   
  Platform:
    osname=linux
    osvers=5.19.9-200.fc36.x86_64
    archname=x86_64-linux
    uname='linux cloud4.bbbike.org 5.19.9-200.fc36.x86_64 #1 smp preempt_dynamic thu sep 15 09:49:52 utc 2022 x86_64 x86_64 x86_64 gnulinux '
    config_args='-ds -e -Dprefix=/opt/perl-5.28.3 -Dcf_email=srezic@cpan.org'
    hint=recommended
    useposix=true
    d_sigaction=define
    useithreads=undef
    usemultiplicity=undef
    use64bitint=define
    use64bitall=define
    uselongdouble=undef
    usemymalloc=n
    default_inc_excludes_dot=define
    bincompat5005=undef
  Compiler:
    cc='cc'
    ccflags ='-fwrapv -fno-strict-aliasing -pipe -fstack-protector-strong -I/usr/local/include -D_LARGEFILE_SOURCE -D_FILE_OFFSET_BITS=64 -D_FORTIFY_SOURCE=2'
    optimize='-O2'
    cppflags='-fwrapv -fno-strict-aliasing -pipe -fstack-protector-strong -I/usr/local/include'
    ccversion=''
    gccversion='12.2.1 20220819 (Red Hat 12.2.1-2)'
    gccosandvers=''
    intsize=4
    longsize=8
    ptrsize=8
    doublesize=8
    byteorder=12345678
    doublekind=3
    d_longlong=define
    longlongsize=8
    d_longdbl=define
    longdblsize=16
    longdblkind=3
    ivtype='long'
    ivsize=8
    nvtype='double'
    nvsize=8
    Off_t='off_t'
    lseeksize=8
    alignbytes=8
    prototype=define
  Linker and Libraries:
    ld='cc'
    ldflags =' -fstack-protector-strong -L/usr/local/lib'
    libpth=/usr/local/lib /usr/lib /lib/../lib64 /usr/lib/../lib64 /lib /lib64 /usr/lib64 /usr/local/lib64
    libs=-lpthread -ldb -ldl -lm -lcrypt -lutil -lc
    perllibs=-lpthread -ldl -lm -lcrypt -lutil -lc
    libc=/lib/../lib64/libc.so.6
    so=so
    useshrplib=false
    libperl=libperl.a
    gnulibc_version='2.35'
  Dynamic Linking:
    dlsrc=dl_dlopen.xs
    dlext=so
    d_dlsymun=undef
    ccdlflags='-Wl,-E'
    cccdlflags='-fPIC'
    lddlflags='-shared -O2 -L/usr/local/lib -fstack-protector-strong'


Characteristics of this binary (from libperl): 
  Compile-time options:
    HAS_TIMES
    PERLIO_LAYERS
    PERL_COPY_ON_WRITE
    PERL_DONT_CREATE_GVSV
    PERL_MALLOC_WRAP
    PERL_OP_PARENT
    PERL_PRESERVE_IVUV
    USE_64_BIT_ALL
    USE_64_BIT_INT
    USE_LARGE_FILES
    USE_LOCALE
    USE_LOCALE_COLLATE
    USE_LOCALE_CTYPE
    USE_LOCALE_NUMERIC
    USE_LOCALE_TIME
    USE_PERLIO
    USE_PERL_ATOF
  Locally applied patches:
    Devel::PatchPerl 2.08
  Built under linux
  Compiled at Sep 24 2022 07:25:13
  %ENV:
    PERL5LIB=""
    PERL5OPT=""
    PERL5_CPANPLUS_IS_RUNNING="1039448"
    PERL5_CPAN_IS_RUNNING="1039448"
    PERL5_CPAN_IS_RUNNING_IN_RECURSION="1038938,1039448"
    PERLDOC="-MPod::Perldoc::ToTextOverstrike"
    PERL_BATCH="yes"
    PERL_CANARY_STABILITY_NOPROMPT="1"
    PERL_CPAN_REPORTER_CONFIG="/var/tmp/cpansmoker-1023/2023082418/cpanreporter_000_config.ini"
    PERL_EXTUTILS_AUTOINSTALL="--defaultdeps"
    PERL_USE_UNSAFE_INC="1"
  @INC:
    /opt/perl-5.28.3/lib/site_perl/5.28.3/x86_64-linux
    /opt/perl-5.28.3/lib/site_perl/5.28.3
    /opt/perl-5.28.3/lib/5.28.3/x86_64-linux
    /opt/perl-5.28.3/lib/5.28.3
    .