Report for WebService-Simple-0.24

Back
From: metabase:user:30f4dfbe-2aae-11df-837a-5e0a49663a4f
Subject: PASS WebService-Simple-0.24 v5.20.1 Mac OS X
Date: 2015-01-25T11:54:45Z

This distribution has been tested as part of the CPAN Testers
project, supporting the Perl programming language.  See
http://wiki.cpantesters.org/ for more information or email
questions to cpan-testers-discuss@perl.org


--
Dear Yusuke Wada,

This is a computer-generated report for WebService-Simple-0.24
on perl 5.20.1, created by CPAN-Reporter-1.2011.

Thank you for uploading your work to CPAN.  Congratulations!
All tests were successful.

Sections of this report:

    * Tester comments
    * Program output
    * Prerequisites
    * Environment and other context

------------------------------
TESTER COMMENTS
------------------------------

Additional comments from tester:

this report is from an automated smoke testing program
and was not reviewed by a human for accuracy

------------------------------
PROGRAM OUTPUT
------------------------------

Output from './Build test':

# Testing WebService::Simple 0.24
t/00_load.t ............... ok
t/01_api_get.t ............ ok
t/01_api_post.t ........... ok
t/01_basic.t .............. skipped: Please set FLICKR_API_KEY to enable this test
t/01_escape.t ............. ok
t/02_parser.t ............. ok
t/02_parser_json.t ........ ok
t/02_parser_libxml.t ...... skipped: XML::LibXML not installed
t/02_parser_lite.t ........ skipped: XML::Parser::Lite::Tree not installed
t/02_parser_xml_feed.t .... skipped: XML::Feed not installed
t/02_parser_xml_simple.t .. ok
All tests successful.
Files=11, Tests=18,  1 wallclock secs ( 0.04 usr  0.03 sys +  0.60 cusr  0.12 csys =  0.79 CPU)
Result: PASS

------------------------------
PREREQUISITES
------------------------------

Prerequisite modules loaded:

requires:

    Module                  Need  Have    
    ----------------------- ----- --------
    Class::Accessor::Fast   0     0.34    
    Class::Data::ConfigHash 0     0.00002 
    Class::Inspector        0     1.28    
    Data::Dumper            0     2.154   
    Digest::MD5             0     2.53    
    Hash::MultiValue        0     0.15    
    JSON                    2.0   2.90    
    LWP::Protocol::https    0     6.06    
    LWP::UserAgent          0     6.06    
    UNIVERSAL::require      0     0.17    
    URI                     1.36  1.65    
    XML::Simple             0     2.20    

build_requires:

    Module                  Need  Have    
    ----------------------- ----- --------
    ExtUtils::MakeMaker     6.36  7.04    
    Test::More              0.94  1.001014

configure_requires:

    Module                  Need  Have    
    ----------------------- ----- --------
    Module::Build::Tiny     0.035 0.039   


------------------------------
ENVIRONMENT AND OTHER CONTEXT
------------------------------

Environment variables:

    AUTOMATED_TESTING = 1
    LANG = en_US.UTF-8
    LC_ALL = POSIX
    LD_LIBRARY_PATH = :/net/traces01.be-md.ncbi.nlm.nih.gov/trace_software/vdb/mac/release/x86_64/lib
    PATH = /Users/hornenj/perl5/perlbrew/bin:/Users/hornenj/perl5/perlbrew/perls/perl-5.20.1/bin:/Users/hornenj/perl5/perlbrew/bin:/Users/hornenj/perl5/perlbrew/perls/perl-5.20.1/bin:/Users/hornenj/bin:/sw/lib/perl5/ExtUtils:/sw/bin:/am/ncbiapdata/bin:/usr/bin:/bin:/usr/X11R6/bin:/netopt/ncbi_tools/bin:/usr/local/ncbi/blast/bin:/net/traces01.be-md.ncbi.nlm.nih.gov/trace_software/vdb/mac/release/x86_64/bin
    PERL5LIB = /Users/hornenj/.cpan/build/Class-Data-ConfigHash-0.00002-AubcoI/blib/arch:/Users/hornenj/.cpan/build/Class-Data-ConfigHash-0.00002-AubcoI/blib/lib:/Users/hornenj/.cpan/build/Hash-MultiValue-0.15-I18Nkt/blib/arch:/Users/hornenj/.cpan/build/Hash-MultiValue-0.15-I18Nkt/blib/lib:/Users/hornenj/.cpan/build/XML-Simple-2.20-G8JGIQ/blib/arch:/Users/hornenj/.cpan/build/XML-Simple-2.20-G8JGIQ/blib/lib:/Users/hornenj/.cpan/build/XML-SAX-Expat-0.51-TL2USN/blib/arch:/Users/hornenj/.cpan/build/XML-SAX-Expat-0.51-TL2USN/blib/lib:/Users/hornenj/.cpan/build/XML-SAX-0.99-lf7DTa/blib/arch:/Users/hornenj/.cpan/build/XML-SAX-0.99-lf7DTa/blib/lib:/Users/hornenj/.cpan/build/XML-NamespaceSupport-1.11-zEKIjg/blib/arch:/Users/hornenj/.cpan/build/XML-NamespaceSupport-1.11-zEKIjg/blib/lib:/Users/hornenj/.cpan/build/XML-SAX-Base-1.08-sx8PtI/blib/arch:/Users/hornenj/.cpan/build/XML-SAX-Base-1.08-sx8PtI/blib/lib
    PERL5OPT = 
    PERL5_CPANPLUS_IS_RUNNING = 9302
    PERL5_CPAN_IS_RUNNING = 9302
    PERL5_MINISMOKEBOX = 0.58
    PERLBREW_BASHRC_VERSION = 0.69
    PERLBREW_HOME = /Users/hornenj/.perlbrew
    PERLBREW_MANPATH = /Users/hornenj/perl5/perlbrew/perls/perl-5.20.1/man
    PERLBREW_PATH = /Users/hornenj/perl5/perlbrew/bin:/Users/hornenj/perl5/perlbrew/perls/perl-5.20.1/bin
    PERLBREW_PERL = perl-5.20.1
    PERLBREW_ROOT = /Users/hornenj/perl5/perlbrew
    PERLBREW_VERSION = 0.69
    PERL_EXTUTILS_AUTOINSTALL = --defaultdeps
    PERL_MM_USE_DEFAULT = 1
    SHELL = /bin/bash
    TERM = xterm-256color
    TMPDIR = /var/folders/pz/pd7y1qjs6s3cbk170cw50fjc000c61/T/
    VERSIONER_PERL_PREFER_32_BIT = no
    VERSIONER_PERL_VERSION = 5.16
    ac_cv_path_INTLTOOL_PERL = /usr/bin/perl

Perl special variables (and OS-specific diagnostics, for MSWin32):

    $^X = /Users/hornenj/perl5/perlbrew/perls/perl-5.20.1/bin/perl
    $UID/$EUID = 12481 / 12481
    $GID = 14 14 5344 527 241
    $EGID = 14 14 5344 527 241

Perl module toolchain versions installed:

    Module              Have    
    ------------------- --------
    CPAN                2.05    
    CPAN::Meta          2.143240
    Cwd                 3.48    
    ExtUtils::CBuilder  0.280220
    ExtUtils::Command   1.20    
    ExtUtils::Install   2.04    
    ExtUtils::MakeMaker 7.04    
    ExtUtils::Manifest  1.70    
    ExtUtils::ParseXS   3.24    
    File::Spec          3.48    
    JSON                2.90    
    JSON::PP            2.27300 
    Module::Build       0.4210  
    Module::Signature   n/a     
    Parse::CPAN::Meta   1.4414  
    Test::Harness       3.34    
    Test::More          1.001014
    YAML                1.13    
    YAML::Syck          1.29    
    version             0.9909  


--

Summary of my perl5 (revision 5 version 20 subversion 1) configuration:
   
  Platform:
    osname=darwin, osvers=12.5.0, archname=darwin-thread-multi-2level
    uname='darwin ncbimac2008.ncbi.nlm.nih.gov 12.5.0 darwin kernel version 12.5.0: sun sep 29 13:33:47 pdt 2013; root:xnu-2050.48.12~1release_x86_64 x86_64 '
    config_args='-de -Dprefix=/Users/hornenj/perl5/perlbrew/perls/perl-5.20.1 -Duseithreads -Dusemultiplicity -Accflags=-O2 -W -Wformat=2 -Wswitch -Wshadow -Wwrite-strings -Wuninitialized -Wall -pipe -mtune=native -march=native -fomit-frame-pointer -msse2 -msse -mmmx -pedantic -D_FORTIFY_SOURCE=2 -Wpointer-arith -Wstrict-prototypes -fstack-protector -Wstack-protector -Wextra -Wbad-function-cast -Wcast-align -Wcast-qual -Wdisabled-optimization -Wendif-labels -Wfloat-equal -Wformat-nonliteral -Winline -Wmissing-declarations -Wmissing-prototypes -Wnested-externs -Wpointer-arith -Wundef -Wformat-security -fassociative-math -Acc=cc -Aeval:scriptdir=/Users/hornenj/perl5/perlbrew/perls/perl-5.20.1/bin'
    hint=recommended, useposix=true, d_sigaction=define
    useithreads=define, usemultiplicity=define
    use64bitint=define, use64bitall=define, uselongdouble=undef
    usemymalloc=n, bincompat5005=undef
  Compiler:
    cc=' cc', ccflags ='-fno-common -DPERL_DARWIN -O2 -W -Wformat=2 -Wswitch -Wshadow -Wwrite-strings -Wuninitialized -Wall -pipe -mtune=native -march=native -fomit-frame-pointer -msse2 -msse -mmmx -pedantic -D_FORTIFY_SOURCE=2 -Wpointer-arith -Wstrict-prototypes -fstack-protector -Wstack-protector -Wextra -Wbad-function-cast -Wcast-align -Wcast-qual -Wdisabled-optimization -Wendif-labels -Wfloat-equal -Wformat-nonliteral -Winline -Wmissing-declarations -Wmissing-prototypes -Wnested-externs -Wpointer-arith -Wundef -Wformat-security -fassociative-math -fno-strict-aliasing -I/usr/local/include',
    optimize='-O3',
    cppflags='-fno-common -DPERL_DARWIN -O2 -W -Wformat=2 -Wswitch -Wshadow -Wwrite-strings -Wuninitialized -Wall -pipe -mtune=native -march=native -fomit-frame-pointer -msse2 -msse -mmmx -pedantic -D_FORTIFY_SOURCE=2 -Wpointer-arith -Wstrict-prototypes -fstack-protector -Wstack-protector -Wextra -Wbad-function-cast -Wcast-align -Wcast-qual -Wdisabled-optimization -Wendif-labels -Wfloat-equal -Wformat-nonliteral -Winline -Wmissing-declarations -Wmissing-prototypes -Wnested-externs -Wpointer-arith -Wundef -Wformat-security -fassociative-math -fno-strict-aliasing -I/usr/local/include'
    ccversion='', gccversion='4.2.1 Compatible Apple LLVM 4.2 (clang-425.0.24)', gccosandvers=''
    intsize=4, longsize=8, ptrsize=8, doublesize=8, byteorder=12345678
    d_longlong=define, longlongsize=8, d_longdbl=define, longdblsize=16
    ivtype='long', ivsize=8, nvtype='double', nvsize=8, Off_t='off_t', lseeksize=8
    alignbytes=8, prototype=define
  Linker and Libraries:
    ld='env MACOSX_DEPLOYMENT_TARGET=10.3 cc', ldflags =' -fstack-protector -L/usr/local/lib'
    libpth=/usr/local/lib /usr/bin/../lib/clang/4.2/lib /usr/lib
    libs=-ldbm -ldl -lm -lutil -lc
    perllibs=-ldl -lm -lutil -lc
    libc=, so=dylib, useshrplib=false, libperl=libperl.a
    gnulibc_version=''
  Dynamic Linking:
    dlsrc=dl_dlopen.xs, dlext=bundle, d_dlsymun=undef, ccdlflags=' '
    cccdlflags=' ', lddlflags=' -bundle -undefined dynamic_lookup -L/usr/local/lib -fstack-protector'


Characteristics of this binary (from libperl): 
  Compile-time options: HAS_TIMES MULTIPLICITY PERLIO_LAYERS
                        PERL_DONT_CREATE_GVSV
                        PERL_HASH_FUNC_ONE_AT_A_TIME_HARD
                        PERL_IMPLICIT_CONTEXT PERL_MALLOC_WRAP
                        PERL_NEW_COPY_ON_WRITE PERL_PRESERVE_IVUV
                        USE_64_BIT_ALL USE_64_BIT_INT USE_ITHREADS
                        USE_LARGE_FILES USE_LOCALE USE_LOCALE_COLLATE
                        USE_LOCALE_CTYPE USE_LOCALE_NUMERIC USE_PERLIO
                        USE_PERL_ATOF USE_REENTRANT_API
  Built under darwin
  Compiled at Sep 15 2014 09:27:45
  %ENV:
    PERL5LIB="/Users/hornenj/.cpan/build/Class-Data-ConfigHash-0.00002-AubcoI/blib/arch:/Users/hornenj/.cpan/build/Class-Data-ConfigHash-0.00002-AubcoI/blib/lib:/Users/hornenj/.cpan/build/Hash-MultiValue-0.15-I18Nkt/blib/arch:/Users/hornenj/.cpan/build/Hash-MultiValue-0.15-I18Nkt/blib/lib:/Users/hornenj/.cpan/build/XML-Simple-2.20-G8JGIQ/blib/arch:/Users/hornenj/.cpan/build/XML-Simple-2.20-G8JGIQ/blib/lib:/Users/hornenj/.cpan/build/XML-SAX-Expat-0.51-TL2USN/blib/arch:/Users/hornenj/.cpan/build/XML-SAX-Expat-0.51-TL2USN/blib/lib:/Users/hornenj/.cpan/build/XML-SAX-0.99-lf7DTa/blib/arch:/Users/hornenj/.cpan/build/XML-SAX-0.99-lf7DTa/blib/lib:/Users/hornenj/.cpan/build/XML-NamespaceSupport-1.11-zEKIjg/blib/arch:/Users/hornenj/.cpan/build/XML-NamespaceSupport-1.11-zEKIjg/blib/lib:/Users/hornenj/.cpan/build/XML-SAX-Base-1.08-sx8PtI/blib/arch:/Users/hornenj/.cpan/build/XML-SAX-Base-1.08-sx8PtI/blib/lib"
    PERL5OPT=""
    PERL5_CPANPLUS_IS_RUNNING="9302"
    PERL5_CPAN_IS_RUNNING="9302"
    PERL5_MINISMOKEBOX="0.58"
    PERLBREW_BASHRC_VERSION="0.69"
    PERLBREW_HOME="/Users/hornenj/.perlbrew"
    PERLBREW_MANPATH="/Users/hornenj/perl5/perlbrew/perls/perl-5.20.1/man"
    PERLBREW_PATH="/Users/hornenj/perl5/perlbrew/bin:/Users/hornenj/perl5/perlbrew/perls/perl-5.20.1/bin"
    PERLBREW_PERL="perl-5.20.1"
    PERLBREW_ROOT="/Users/hornenj/perl5/perlbrew"
    PERLBREW_VERSION="0.69"
    PERL_EXTUTILS_AUTOINSTALL="--defaultdeps"
    PERL_MM_USE_DEFAULT="1"
  @INC:
    /Users/hornenj/.cpan/build/Class-Data-ConfigHash-0.00002-AubcoI/blib/arch
    /Users/hornenj/.cpan/build/Class-Data-ConfigHash-0.00002-AubcoI/blib/lib
    /Users/hornenj/.cpan/build/Hash-MultiValue-0.15-I18Nkt/blib/arch
    /Users/hornenj/.cpan/build/Hash-MultiValue-0.15-I18Nkt/blib/lib
    /Users/hornenj/.cpan/build/XML-Simple-2.20-G8JGIQ/blib/arch
    /Users/hornenj/.cpan/build/XML-Simple-2.20-G8JGIQ/blib/lib
    /Users/hornenj/.cpan/build/XML-SAX-Expat-0.51-TL2USN/blib/arch
    /Users/hornenj/.cpan/build/XML-SAX-Expat-0.51-TL2USN/blib/lib
    /Users/hornenj/.cpan/build/XML-SAX-0.99-lf7DTa/blib/arch
    /Users/hornenj/.cpan/build/XML-SAX-0.99-lf7DTa/blib/lib
    /Users/hornenj/.cpan/build/XML-NamespaceSupport-1.11-zEKIjg/blib/arch
    /Users/hornenj/.cpan/build/XML-NamespaceSupport-1.11-zEKIjg/blib/lib
    /Users/hornenj/.cpan/build/XML-SAX-Base-1.08-sx8PtI/blib/arch
    /Users/hornenj/.cpan/build/XML-SAX-Base-1.08-sx8PtI/blib/lib
    /Users/hornenj/perl5/perlbrew/perls/perl-5.20.1/lib/site_perl/5.20.1/darwin-thread-multi-2level
    /Users/hornenj/perl5/perlbrew/perls/perl-5.20.1/lib/site_perl/5.20.1
    /Users/hornenj/perl5/perlbrew/perls/perl-5.20.1/lib/5.20.1/darwin-thread-multi-2level
    /Users/hornenj/perl5/perlbrew/perls/perl-5.20.1/lib/5.20.1
    .