DBIx-Class-DeploymentHandler v0.002234 Perl 5 v5.30.1 x86_64-linux-ld

Status
Pass
From
Andreas J. König (ANDK)
Dist
DBIx-Class-DeploymentHandler v0.002234
Platform
Perl 5 v5.30.1 x86_64-linux-ld
Date
2024-08-02 05:06:19
ID
f4799a10-508c-11ef-a301-582cd5da2a07
This distribution has been tested as part of the CPAN Testers
project, supporting the Perl programming language.  See
http://wiki.cpantesters.org/ for more information or email
questions to cpan-testers-discuss@perl.org


--
Dear Wes Malone,

This is a computer-generated report for DBIx-Class-DeploymentHandler-0.002234
on perl 5.30.1, created by CPAN-Reporter-1.2018.

Thank you for uploading your work to CPAN.  Congratulations!
All tests were successful.

Sections of this report:

    * Tester comments
    * Program output
    * Prerequisites
    * Environment and other context

------------------------------
TESTER COMMENTS
------------------------------

Additional comments from tester:

this report is from an automated smoke testing program
and was not reviewed by a human for accuracy

------------------------------
PROGRAM OUTPUT
------------------------------

Output from '/usr/bin/make test':

PERL_DL_NONLAZY=1 "/home/sand/src/perl/repoperls/installed-perls/host/k93msid/v5.30.1/fc43/bin/perl" "-MExtUtils::Command::MM" "-MTest::Harness" "-e" "undef *Test::Harness::Switches; test_harness(0, 'blib/lib', 'blib/arch')" t/*.t t/bugs/*.t t/deploy_methods/*.t t/version_handlers/*.t t/version_storages/*.t
# 
# Versions for all modules listed in MYMETA.json (including optional ones):
# 
# === Configure Requires ===
# 
#     Module              Want Have Where                                                                                        Howbig
#     ------------------- ---- ---- -------------------------------------------------------------------------------------------- ------
#     ExtUtils::MakeMaker  any 7.70 /home/sand/src/perl/repoperls/installed-perls/host/k93msid/v5.30.1/fc43/lib/site_perl/5.30.1 109260
# 
# === Build Requires ===
# 
#     Module              Want Have Where                                                                                        Howbig
#     ------------------- ---- ---- -------------------------------------------------------------------------------------------- ------
#     ExtUtils::MakeMaker  any 7.70 /home/sand/src/perl/repoperls/installed-perls/host/k93msid/v5.30.1/fc43/lib/site_perl/5.30.1 109260
# 
# === Test Requires ===
# 
#     Module          Want     Have Where                                                                                                        Howbig
#     -------------- ----- -------- ------------------------------------------------------------------------------------------------------------ ------
#     DBD::SQLite     1.35     1.74 /home/sand/src/perl/repoperls/installed-perls/host/k93msid/v5.30.1/fc43/lib/site_perl/5.30.1/x86_64-linux-ld  97482
#     File::Temp       any   0.2311 /home/sand/src/perl/repoperls/installed-perls/host/k93msid/v5.30.1/fc43/lib/site_perl/5.30.1                 118877
#     Test::Fatal    0.006    0.017 /home/sand/src/perl/repoperls/installed-perls/host/k93msid/v5.30.1/fc43/lib/site_perl/5.30.1                  15355
#     Test::More      0.88 1.302199 /home/sand/src/perl/repoperls/installed-perls/host/k93msid/v5.30.1/fc43/lib/site_perl/5.30.1                  54359
#     Test::Requires  0.06     0.11 /home/sand/src/perl/repoperls/installed-perls/host/k93msid/v5.30.1/fc43/lib/site_perl/5.30.1                   3687
#     aliased          any     0.34 /home/sand/src/perl/repoperls/installed-perls/host/k93msid/v5.30.1/fc43/lib/site_perl/5.30.1                  10219
# 
# === Test Recommends ===
# 
#     Module                      Want    Have Where                                                                                        Howbig
#     --------------------------- ---- ------- -------------------------------------------------------------------------------------------- ------
#     DBIx::Class::Schema::Loader  any 0.07049 /home/sand/src/perl/repoperls/installed-perls/host/k93msid/v5.30.1/fc43/lib/site_perl/5.30.1  19468
# 
# === Runtime Requires ===
# 
#     Module                          Want     Have Where                                                                                                        Howbig
#     --------------------------- -------- -------- ------------------------------------------------------------------------------------------------------------ ------
#     Carp                             any     1.50 /home/sand/src/perl/repoperls/installed-perls/host/k93msid/v5.30.1/fc43/lib/5.30.1                            35959
#     Carp::Clan                       any     6.08 /home/sand/src/perl/repoperls/installed-perls/host/k93msid/v5.30.1/fc43/lib/site_perl/5.30.1                  12883
#     Context::Preserve               0.01     0.03 /home/sand/src/perl/repoperls/installed-perls/host/k93msid/v5.30.1/fc43/lib/site_perl/5.30.1                   5071
#     DBIx::Class                  0.08121 0.082843 /home/sand/src/perl/repoperls/installed-perls/host/k93msid/v5.30.1/fc43/lib/site_perl/5.30.1                  11265
#     Log::Contextual             0.005005 0.009001 /home/sand/src/perl/repoperls/installed-perls/host/k93msid/v5.30.1/fc43/lib/site_perl/5.30.1                  28267
#     Module::Runtime                0.001    0.016 /home/sand/src/perl/repoperls/installed-perls/host/k93msid/v5.30.1/fc43/lib/site_perl/5.30.1                  17521
#     Moose                              1   2.2207 /home/sand/src/perl/repoperls/installed-perls/host/k93msid/v5.30.1/fc43/lib/site_perl/5.30.1/x86_64-linux-ld  39553
#     MooseX::Role::Parameterized     0.18     1.11 /home/sand/src/perl/repoperls/installed-perls/host/k93msid/v5.30.1/fc43/lib/site_perl/5.30.1                   7516
#     Path::Class                     0.26     0.37 /home/sand/src/perl/repoperls/installed-perls/host/k93msid/v5.30.1/fc43/lib/site_perl/5.30.1                   5563
#     SQL::SplitStatement          1.00020  1.00023 /home/sand/src/perl/repoperls/installed-perls/host/k93msid/v5.30.1/fc43/lib/site_perl/5.30.1                  40360
#     SQL::Translator                 1.63     1.62 /home/sand/src/perl/repoperls/installed-perls/host/k93msid/v5.30.1/fc43/lib/site_perl/5.30.1                  34483
#     Sub::Exporter::Progressive       any 0.001013 /home/sand/src/perl/repoperls/installed-perls/host/k93msid/v5.30.1/fc43/lib/site_perl/5.30.1                   4812
#     Text::Brew                      0.02     0.02 /home/sand/src/perl/repoperls/installed-perls/host/k93msid/v5.30.1/fc43/lib/site_perl/5.30.1                   7920
#     Try::Tiny                        any     0.31 /home/sand/src/perl/repoperls/installed-perls/host/k93msid/v5.30.1/fc43/lib/site_perl/5.30.1                  21143
#     YAML                            0.66     1.30 /home/sand/src/perl/repoperls/installed-perls/host/k93msid/v5.30.1/fc43/lib/site_perl/5.30.1                   3196
#     autodie                          any     2.36 /home/sand/src/perl/repoperls/installed-perls/host/k93msid/v5.30.1/fc43/lib/site_perl/5.30.1                  12436
#     namespace::autoclean             any     0.29 /home/sand/src/perl/repoperls/installed-perls/host/k93msid/v5.30.1/fc43/lib/site_perl/5.30.1                  12075
#     parent                         0.225    0.238 /home/sand/src/perl/repoperls/installed-perls/host/k93msid/v5.30.1/fc43/lib/site_perl/5.30.1                   2702
# 
# 
# *** WARNING WARNING WARNING WARNING WARNING WARNING WARNING WARNING ***
# 
# The following REQUIRED prerequisites were not satisfied:
# 
# SQL::Translator version '1.62' is not in required range '1.63'
# 
t/00-report-prereqs.t .................................... ok
t/02-instantiation-alt-result-class.t .................... ok
t/02-instantiation-no-ddl-no-wrap.t ...................... ok
t/02-instantiation-no-ddl.t .............................. ok
t/02-instantiation-wo-component.t ........................ ok
t/02-instantiation.t ..................................... ok
t/03-deprecated.t ........................................ ok
t/04-preconnect.t ........................................ ok
t/10-multiple-schemas.t .................................. ok
t/10-split-sql-chunk.t ................................... ok
t/20-version-table-rename.t .............................. ok
t/author-pod-syntax.t .................................... skipped: these tests are for testing by the author
t/bugs/01-emailed-bug-01.t ............................... ok
t/customised.t ........................................... ok
t/deploy_methods/coderef-leakage.t ....................... ok
t/deploy_methods/script-helpers.t ........................ ok
t/deploy_methods/sql_translator.t ........................ ok
t/deploy_methods/sql_translator_deprecated.t ............. ok
t/deploy_methods/sql_translator_errors.t ................. ok
t/deploy_methods/sql_translator_ignore_ddl.t ............. ok
t/deploy_methods/sql_translator_protoschema_transform.t .. ok
t/version_handlers/db_schema_versions.t .................. ok
t/version_handlers/explict_versions.t .................... ok
t/version_handlers/monotonic.t ........................... ok
t/version_storages/standard.t ............................ ok
All tests successful.
Files=25, Tests=334, 28 wallclock secs ( 0.12 usr  0.02 sys + 16.73 cusr  2.02 csys = 18.89 CPU)
Result: PASS

------------------------------
PREREQUISITES
------------------------------

Prerequisite modules loaded:

requires:

    Module                      Need     Have    
    --------------------------- -------- --------
    autodie                     0        2.36    
    Carp                        0        1.50    
    Carp::Clan                  0        6.08    
    Context::Preserve           0.01     0.03    
    DBIx::Class                 0.08121  0.082843
    Log::Contextual             0.005005 0.009001
    Module::Runtime             0.001    0.016   
    Moose                       1        2.2207  
    MooseX::Role::Parameterized 0.18     1.11    
    namespace::autoclean        0        0.29    
    parent                      0.225    0.238   
    Path::Class                 0.26     0.37    
    SQL::SplitStatement         1.00020  1.00023 
  ! SQL::Translator             1.63     1.62    
    Sub::Exporter::Progressive  0        0.001013
    Text::Brew                  0.02     0.02    
    Try::Tiny                   0        0.31    
    YAML                        0.66     1.30    

build_requires:

    Module                      Need     Have    
    --------------------------- -------- --------
    aliased                     0        0.34    
    DBD::SQLite                 1.35     1.74    
    ExtUtils::MakeMaker         0        7.70    
    File::Temp                  0        0.2311  
    Test::Fatal                 0.006    0.017   
    Test::More                  0.88     1.302199
    Test::Requires              0.06     0.11    

configure_requires:

    Module                      Need     Have    
    --------------------------- -------- --------
    ExtUtils::MakeMaker         0        7.70    


------------------------------
ENVIRONMENT AND OTHER CONTEXT
------------------------------

Environment variables:

    AUTOMATED_TESTING = 1
    LANG = en_US.UTF-8
    LANGUAGE = en_US:en
    PATH = /home/sand/bin:/usr/local/bin:/usr/bin:/bin:/usr/games:/usr/local/perl/bin:/usr/X11/bin:/sbin:/usr/sbin
    PERL5LIB = 
    PERL5OPT = 
    PERL5_CPANPLUS_IS_RUNNING = 2008580
    PERL5_CPAN_IS_RUNNING = 2008580
    PERL_CANARY_STABILITY_NOPROMPT = 1
    PERL_MM_USE_DEFAULT = 1
    PERL_USE_UNSAFE_INC = 1
    SHELL = /usr/bin/zsh
    TERM = screen

Perl special variables (and OS-specific diagnostics, for MSWin32):

    $^X = /home/sand/src/perl/repoperls/installed-perls/host/k93msid/v5.30.1/fc43/bin/perl
    $UID/$EUID = 1005 / 1005
    $GID = 1005 1005
    $EGID = 1005 1005

Perl module toolchain versions installed:

    Module              Have    
    ------------------- --------
    CPAN                2.33    
    CPAN::Meta          2.150010
    Cwd                 3.78    
    ExtUtils::CBuilder  0.280236
    ExtUtils::Command   7.70    
    ExtUtils::Install   2.20    
    ExtUtils::MakeMaker 7.70    
    ExtUtils::Manifest  1.72    
    ExtUtils::ParseXS   3.40    
    File::Spec          3.78    
    JSON                4.10    
    JSON::PP            4.12    
    Module::Build       0.4234  
    Module::Signature   0.88    
    Parse::CPAN::Meta   2.150010
    Test::Harness       3.43_04 
    Test::More          1.302199
    YAML                1.30    
    YAML::Syck          1.34    
    version             0.9932  


--

Summary of my perl5 (revision 5 version 30 subversion 1) configuration:
  Derived from: 92dc8555fd2841214d65c8e754898f4079ec46bf
  Platform:
    osname=linux
    osvers=5.16.0-5-amd64
    archname=x86_64-linux-ld
    uname='linux k93msid 5.16.0-5-amd64 #1 smp preempt debian 5.16.14-1 (2022-03-15) x86_64 gnulinux '
    config_args='-Dprefix=/home/sand/src/perl/repoperls/installed-perls/host/k93msid/v5.30.1/fc43 -Dmyhostname=k93msid -Dinstallusrbinperl=n -Uversiononly -Dusedevel -des -Ui_db -Dlibswanted=cl pthread socket inet nsl gdbm dbm malloc dl ld sun m crypt sec util c cposix posix ucb BSD gdbm_compat -Uuseithreads -Duselongdouble -DEBUGGING=both'
    hint=recommended
    useposix=true
    d_sigaction=define
    useithreads=undef
    usemultiplicity=undef
    use64bitint=define
    use64bitall=define
    uselongdouble=define
    usemymalloc=n
    default_inc_excludes_dot=define
    bincompat5005=undef
  Compiler:
    cc='cc'
    ccflags ='-fwrapv -DDEBUGGING -fno-strict-aliasing -pipe -fstack-protector-strong -I/usr/local/include -D_LARGEFILE_SOURCE -D_FILE_OFFSET_BITS=64 -D_FORTIFY_SOURCE=2'
    optimize='-O2 -g'
    cppflags='-fwrapv -DDEBUGGING -fno-strict-aliasing -pipe -fstack-protector-strong -I/usr/local/include'
    ccversion=''
    gccversion='11.2.0'
    gccosandvers=''
    intsize=4
    longsize=8
    ptrsize=8
    doublesize=8
    byteorder=12345678
    doublekind=3
    d_longlong=define
    longlongsize=8
    d_longdbl=define
    longdblsize=16
    longdblkind=3
    ivtype='long'
    ivsize=8
    nvtype='long double'
    nvsize=16
    Off_t='off_t'
    lseeksize=8
    alignbytes=16
    prototype=define
  Linker and Libraries:
    ld='cc'
    ldflags =' -fstack-protector-strong -L/usr/local/lib'
    libpth=/usr/local/lib /usr/include/x86_64-linux-gnu /usr/lib /lib/x86_64-linux-gnu /lib/../lib /usr/lib/x86_64-linux-gnu /usr/lib/../lib /lib
    libs=-lpthread -lnsl -ldl -lm -lcrypt -lutil -lc
    perllibs=-lpthread -lnsl -ldl -lm -lcrypt -lutil -lc
    libc=libc-2.33.so
    so=so
    useshrplib=false
    libperl=libperl.a
    gnulibc_version='2.33'
  Dynamic Linking:
    dlsrc=dl_dlopen.xs
    dlext=so
    d_dlsymun=undef
    ccdlflags='-Wl,-E'
    cccdlflags='-fPIC'
    lddlflags='-shared -O2 -g -L/usr/local/lib -fstack-protector-strong'


Characteristics of this binary (from libperl): 
  Compile-time options:
    DEBUGGING
    HAS_TIMES
    PERLIO_LAYERS
    PERL_COPY_ON_WRITE
    PERL_DONT_CREATE_GVSV
    PERL_MALLOC_WRAP
    PERL_OP_PARENT
    PERL_PRESERVE_IVUV
    PERL_USE_DEVEL
    USE_64_BIT_ALL
    USE_64_BIT_INT
    USE_LARGE_FILES
    USE_LOCALE
    USE_LOCALE_COLLATE
    USE_LOCALE_CTYPE
    USE_LOCALE_NUMERIC
    USE_LOCALE_TIME
    USE_LONG_DOUBLE
    USE_PERLIO
    USE_PERL_ATOF
  Locally applied patches:
    uncommitted-changes
  Built under linux
  Compiled at Mar 18 2022 05:23:43
  %ENV:
    PERL5LIB=""
    PERL5OPT=""
    PERL5_CPANPLUS_IS_RUNNING="2008580"
    PERL5_CPAN_IS_RUNNING="2008580"
    PERL_CANARY_STABILITY_NOPROMPT="1"
    PERL_MM_USE_DEFAULT="1"
    PERL_USE_UNSAFE_INC="1"
  @INC:
    /home/sand/src/perl/repoperls/installed-perls/host/k93msid/v5.30.1/fc43/lib/site_perl/5.30.1/x86_64-linux-ld
    /home/sand/src/perl/repoperls/installed-perls/host/k93msid/v5.30.1/fc43/lib/site_perl/5.30.1
    /home/sand/src/perl/repoperls/installed-perls/host/k93msid/v5.30.1/fc43/lib/5.30.1/x86_64-linux-ld
    /home/sand/src/perl/repoperls/installed-perls/host/k93msid/v5.30.1/fc43/lib/5.30.1
    .