Acme-Cow-Interpreter v0.02 Perl 5 v5.14.2 cygwin-thread-multi-64int

Status
Pass
From
Peter John Acklam (PJACKLAM)
Dist
Acme-Cow-Interpreter v0.02
Platform
Perl 5 v5.14.2 cygwin-thread-multi-64int
Date
2022-09-24 06:12:39
ID
f48286a5-6d2e-1014-841f-e004b84b448e
This distribution has been tested as part of the CPAN Testers
project, supporting the Perl programming language.  See
http://wiki.cpantesters.org/ for more information or email
questions to cpan-testers-discuss@perl.org


--
Dear Peter John Acklam,

This is a computer-generated report for Acme-Cow-Interpreter-0.02
on perl 5.14.2, created by CPAN-Reporter-1.2018.

Thank you for uploading your work to CPAN.  Congratulations!
All tests were successful.

Sections of this report:

    * Tester comments
    * Program output
    * Prerequisites
    * Environment and other context

------------------------------
TESTER COMMENTS
------------------------------

Additional comments from tester:

this report is from an automated smoke testing program
and was not reviewed by a human for accuracy

------------------------------
PROGRAM OUTPUT
------------------------------

Output from '/usr/bin/make test':

PERL_DL_NONLAZY=1 /cygdrive/c/opt/perl5/cygwin_nt-10.0-wow/3.3.3/i686/perl/5.14.2/i686-cygwin-thread-multi-64int/bin/perl5.14.2.exe "-MExtUtils::Command::MM" "-e" "test_harness(0, 'blib/lib', 'blib/arch')" t/*.t
t/00-signature.t .. skipped: Next time around, consider install Module::Signature, so you can verify the integrity of this distribution.
# Testing Acme::Cow::Interpreter 0.02, Perl 5.014002, /cygdrive/c/opt/perl5/cygwin_nt-10.0-wow/3.3.3/i686/perl/5.14.2/i686-cygwin-thread-multi-64int/bin/perl5.14.2
t/01-load.t ....... ok
t/10-methods.t .... ok
All tests successful.
Files=3, Tests=19,  9 wallclock secs ( 0.11 usr  0.44 sys +  0.96 cusr  4.81 csys =  6.32 CPU)
Result: PASS

------------------------------
PREREQUISITES
------------------------------

Prerequisite modules loaded:

build_requires:

    Module              Need Have    
    ------------------- ---- --------
    Test::More          0.47 1.302188
    Test::Output        0    1.033   

configure_requires:

    Module              Need Have    
    ------------------- ---- --------
    ExtUtils::MakeMaker 6.58 6.68    


------------------------------
ENVIRONMENT AND OTHER CONTEXT
------------------------------

Environment variables:

    AUTOMATED_TESTING = 1
    COMSPEC = C:\WINDOWS\system32\cmd.exe
    NUMBER_OF_PROCESSORS = 12
    PATH = /usr/site/gcc-11.2.0/bin:/opt/perl5/cygwin_nt-10.0-wow/3.3.3/i686/perl/5.14.2/i686-cygwin-thread-multi-64int/bin:/opt/perl5/cygwin_nt-10.0-wow/3.3.3/i686/perl/5.14.2/i686-cygwin-thread-multi-64int/local/bin:/usr/bin:/bin:/usr/local/bin
    PERL5LIB = /opt/perl5/cygwin_nt-10.0-wow/3.3.3/i686/cpan/5.14.2/i686-cygwin-thread-multi-64int/build/Test-Output-1.033-0/blib/arch:/opt/perl5/cygwin_nt-10.0-wow/3.3.3/i686/cpan/5.14.2/i686-cygwin-thread-multi-64int/build/Test-Output-1.033-0/blib/lib:/opt/perl5/cygwin_nt-10.0-wow/3.3.3/i686/perl/5.14.2/i686-cygwin-thread-multi-64int/local/lib/perl5:/opt/perl5/cygwin_nt-10.0-wow/3.3.3/i686/perl/5.14.2/i686-cygwin-thread-multi-64int/local/lib/site_perl:/opt/perl5/cygwin_nt-10.0-wow/3.3.3/i686/perl/5.14.2/i686-cygwin-thread-multi-64int/local/lib
    PERL5OPT = 
    PERL5_CPANPLUS_IS_RUNNING = 7283
    PERL5_CPAN_IS_RUNNING = 7283
    PERL_CANARY_STABILITY_NOPROMPT = 1
    PERL_CPAN_REPORTER_CONFIG = /cygdrive/c/peter/.cpanreporter/config-cygwin-OS-A01-L0123.ini
    PERL_EXTUTILS_AUTOINSTALL = 1
    PERL_MM_USE_DEFAULT = 1
    PERL_TEST_CRITIC = 1
    PERL_TEST_CRITIC = 1
    PERL_TEST_POD = 1
    PERL_TEST_POD = 1
    PERL_USE_UNSAFE_INC = 1
    POD_TESTING = 1
    POD_TESTS = 1
    PROCESSOR_IDENTIFIER = Intel64 Family 6 Model 158 Stepping 10, GenuineIntel
    SHELL = /bin/bash
    TEMP = /tmp
    TERM = xterm

Perl special variables (and OS-specific diagnostics, for MSWin32):

    $^X = /cygdrive/c/opt/perl5/cygwin_nt-10.0-wow/3.3.3/i686/perl/5.14.2/i686-cygwin-thread-multi-64int/bin/perl5.14.2
    $UID/$EUID = 1061331 / 1061331
    $GID = 1049089 1049089 578 545 4 66049 11 15 4095 66048 1104222 1150627 1098011 1051245 1113266 1156262 1089123 1139839 1090502 1141767 1081310 1090413 1061909 1058653 1081942 1122108 1125494 1137338 1137546 1088201 1143577 1138331 1151869 1090906 1093944 1122107 1051228 1057394 1141985 1068783 1154883 1152922 1138202 1056539 1057337 1089132 1100278 1051354 1104220 1059243 1089865 1138328 1087957 1105777 1155862 1150082 1135663 1152822 1049649 1152548 1125495 1152552 1139179 1069945 1059531 1090104 1090492 1068897 1081637 1095782 1075170 1144155 1139332 1146142 1111057 1137882 1069144 1154615 1081620 70145 70148 70149 1049147 1136188 1083352 266241 401408
    $EGID = 1049089 1049089 578 545 4 66049 11 15 4095 66048 1104222 1150627 1098011 1051245 1113266 1156262 1089123 1139839 1090502 1141767 1081310 1090413 1061909 1058653 1081942 1122108 1125494 1137338 1137546 1088201 1143577 1138331 1151869 1090906 1093944 1122107 1051228 1057394 1141985 1068783 1154883 1152922 1138202 1056539 1057337 1089132 1100278 1051354 1104220 1059243 1089865 1138328 1087957 1105777 1155862 1150082 1135663 1152822 1049649 1152548 1125495 1152552 1139179 1069945 1059531 1090104 1090492 1068897 1081637 1095782 1075170 1144155 1139332 1146142 1111057 1137882 1069144 1154615 1081620 70145 70148 70149 1049147 1136188 1083352 266241 401408

Perl module toolchain versions installed:

    Module              Have    
    ------------------- --------
    CPAN                2.29    
    CPAN::Meta          2.150010
    Cwd                 3.36    
    ExtUtils::CBuilder  0.280203
    ExtUtils::Command   1.17    
    ExtUtils::Install   1.56    
    ExtUtils::MakeMaker 6.68    
    ExtUtils::Manifest  1.60    
    ExtUtils::ParseXS   2.2210  
    File::Spec          3.33    
    JSON                n/a     
    JSON::PP            4.06    
    Module::Build       0.4231  
    Module::Signature   n/a     
    Parse::CPAN::Meta   2.150010
    Test::Harness       3.42    
    Test::More          1.302188
    YAML                1.30    
    YAML::Syck          n/a     
    version             0.88    


--

Summary of my perl5 (revision 5 version 14 subversion 2) configuration:
   
  Platform:
    osname=cygwin, osvers=3.3.3(0.34153), archname=cygwin-thread-multi-64int
    uname='cygwin_nt-10.0-wow os-a01-l0123 3.3.3(0.34153) 2021-12-03 16:31 i686 cygwin '
    config_args='-de -Dmksymlinks -Uinc_version_list -Uinstallusrbinperl -Dusethreads -Dusemultiplicity -Duse64bitint -Dprefix=/opt/perl5/cygwin_nt-10.0-wow/3.3.3/i686/perl/5.14.2/i686-cygwin-thread-multi-64int -Darchname=i686-cygwin-thread-multi-64int'
    hint=recommended, useposix=true, d_sigaction=define
    useithreads=define, usemultiplicity=define
    useperlio=define, d_sfio=undef, uselargefiles=define, usesocks=undef
    use64bitint=define, use64bitall=undef, uselongdouble=undef
    usemymalloc=y, bincompat5005=undef
  Compiler:
    cc='gcc', ccflags ='-DPERL_USE_SAFE_PUTENV -U__STRICT_ANSI__ -fpcc-struct-return -pipe -fstack-protector -I/usr/local/include',
    optimize='-O3',
    cppflags='-DPERL_USE_SAFE_PUTENV -U__STRICT_ANSI__ -fpcc-struct-return -pipe -fstack-protector -I/usr/local/include -D__GNUC__'
    ccversion='', gccversion='11.2.0', gccosandvers=''
    intsize=4, longsize=4, ptrsize=4, doublesize=8, byteorder=12345678
    d_longlong=define, longlongsize=8, d_longdbl=define, longdblsize=12
    ivtype='long long', ivsize=8, nvtype='double', nvsize=8, Off_t='off_t', lseeksize=8
    alignbytes=8, prototype=define
  Linker and Libraries:
    ld='g++', ldflags =' -Wl,--enable-auto-import -Wl,--export-all-symbols -Wl,--enable-auto-image-base -fstack-protector -L/usr/local/lib'
    libpth=/usr/local/lib /usr/lib /lib
    libs=-ldl
    perllibs=-ldl
    libc=/usr/lib/libc.a, so=dll, useshrplib=true, libperl=cygperl5_14_2.dll
    gnulibc_version=''
  Dynamic Linking:
    dlsrc=dl_dlopen.xs, dlext=dll, d_dlsymun=undef, ccdlflags=' '
    cccdlflags=' ', lddlflags=' --shared  -Wl,--enable-auto-import -Wl,--export-all-symbols -Wl,--enable-auto-image-base -L/usr/local/lib -fstack-protector'


Characteristics of this binary (from libperl): 
  Compile-time options: MULTIPLICITY MYMALLOC PERL_DONT_CREATE_GVSV
                        PERL_IMPLICIT_CONTEXT PERL_PRESERVE_IVUV
                        PERL_USE_SAFE_PUTENV USE_64_BIT_INT USE_ITHREADS
                        USE_LARGE_FILES USE_PERLIO USE_PERL_ATOF
                        USE_REENTRANT_API
  Built under cygwin
  Compiled at Dec  9 2021 08:51:20
  %ENV:
    PERL5LIB="/opt/perl5/cygwin_nt-10.0-wow/3.3.3/i686/cpan/5.14.2/i686-cygwin-thread-multi-64int/build/Test-Output-1.033-0/blib/arch:/opt/perl5/cygwin_nt-10.0-wow/3.3.3/i686/cpan/5.14.2/i686-cygwin-thread-multi-64int/build/Test-Output-1.033-0/blib/lib:/opt/perl5/cygwin_nt-10.0-wow/3.3.3/i686/perl/5.14.2/i686-cygwin-thread-multi-64int/local/lib/perl5:/opt/perl5/cygwin_nt-10.0-wow/3.3.3/i686/perl/5.14.2/i686-cygwin-thread-multi-64int/local/lib/site_perl:/opt/perl5/cygwin_nt-10.0-wow/3.3.3/i686/perl/5.14.2/i686-cygwin-thread-multi-64int/local/lib"
    PERL5OPT=""
    PERL5_CPANPLUS_IS_RUNNING="7283"
    PERL5_CPAN_IS_RUNNING="7283"
    PERL_CANARY_STABILITY_NOPROMPT="1"
    PERL_CPAN_REPORTER_CONFIG="/cygdrive/c/peter/.cpanreporter/config-cygwin-OS-A01-L0123.ini"
    PERL_EXTUTILS_AUTOINSTALL="1"
    PERL_MM_USE_DEFAULT="1"
    PERL_TEST_CRITIC="1"
    PERL_TEST_POD="1"
    PERL_USE_UNSAFE_INC="1"
  @INC:
    /opt/perl5/cygwin_nt-10.0-wow/3.3.3/i686/cpan/5.14.2/i686-cygwin-thread-multi-64int/build/Test-Output-1.033-0/blib/arch
    /opt/perl5/cygwin_nt-10.0-wow/3.3.3/i686/cpan/5.14.2/i686-cygwin-thread-multi-64int/build/Test-Output-1.033-0/blib/lib
    /opt/perl5/cygwin_nt-10.0-wow/3.3.3/i686/perl/5.14.2/i686-cygwin-thread-multi-64int/local/lib/perl5/5.14.2
    /opt/perl5/cygwin_nt-10.0-wow/3.3.3/i686/perl/5.14.2/i686-cygwin-thread-multi-64int/local/lib/perl5/cygwin-thread-multi-64int
    /opt/perl5/cygwin_nt-10.0-wow/3.3.3/i686/perl/5.14.2/i686-cygwin-thread-multi-64int/local/lib/perl5
    /opt/perl5/cygwin_nt-10.0-wow/3.3.3/i686/perl/5.14.2/i686-cygwin-thread-multi-64int/local/lib/site_perl/5.14.2/cygwin-thread-multi-64int
    /opt/perl5/cygwin_nt-10.0-wow/3.3.3/i686/perl/5.14.2/i686-cygwin-thread-multi-64int/local/lib/site_perl/5.14.2
    /opt/perl5/cygwin_nt-10.0-wow/3.3.3/i686/perl/5.14.2/i686-cygwin-thread-multi-64int/local/lib/site_perl
    /opt/perl5/cygwin_nt-10.0-wow/3.3.3/i686/perl/5.14.2/i686-cygwin-thread-multi-64int/local/lib/5.14.2/cygwin-thread-multi-64int
    /opt/perl5/cygwin_nt-10.0-wow/3.3.3/i686/perl/5.14.2/i686-cygwin-thread-multi-64int/local/lib/5.14.2
    /opt/perl5/cygwin_nt-10.0-wow/3.3.3/i686/perl/5.14.2/i686-cygwin-thread-multi-64int/local/lib
    /opt/perl5/cygwin_nt-10.0-wow/3.3.3/i686/perl/5.14.2/i686-cygwin-thread-multi-64int/lib/site_perl/5.14.2/cygwin-thread-multi-64int
    /opt/perl5/cygwin_nt-10.0-wow/3.3.3/i686/perl/5.14.2/i686-cygwin-thread-multi-64int/lib/site_perl/5.14.2
    /opt/perl5/cygwin_nt-10.0-wow/3.3.3/i686/perl/5.14.2/i686-cygwin-thread-multi-64int/lib/5.14.2/cygwin-thread-multi-64int
    /opt/perl5/cygwin_nt-10.0-wow/3.3.3/i686/perl/5.14.2/i686-cygwin-thread-multi-64int/lib/5.14.2
    .