MooseX-Types-Email v0.008 Perl 5 v5.26.2 x86_64-linux

Status
Pass
From
Ioan Rogers
Dist
MooseX-Types-Email v0.008
Platform
Perl 5 v5.26.2 x86_64-linux
Date
2018-12-06 16:28:25
ID
f4b2b5c8-f973-11e8-a690-a87c34b31486
This distribution has been tested as part of the CPAN Testers
project, supporting the Perl programming language.  See
http://wiki.cpantesters.org/ for more information or email
questions to cpan-testers-discuss@perl.org


--
Dear ETHER,

This is a computer-generated report for MooseX-Types-Email-0.008
on perl 5.26.2, created by App::cpanminus::reporter 0.17 (1.7044).

Thank you for uploading your work to CPAN.  Congratulations!
All tests were successful.

Sections of this report:

    * Tester comments
    * Program output
    * Prerequisites
    * Environment and other context

------------------------------
TESTER COMMENTS
------------------------------

Additional comments from tester:

none provided

------------------------------
PROGRAM OUTPUT
------------------------------

Output from '':

Building and testing MooseX-Types-Email-0.008
cp lib/MooseX/Types/Email.pm blib/lib/MooseX/Types/Email.pm
# 
# Versions for all modules listed in MYMETA.json (including optional ones):
# 
# === Configure Requires ===
# 
#     Module               Want  Have
#     ------------------- ----- -----
#     ExtUtils::MakeMaker   any  7.34
#     Module::Build::Tiny 0.034 0.039
# 
# === Test Requires ===
# 
#     Module           Want     Have
#     ---------------- ---- --------
#     File::Spec        any     3.75
#     Module::Metadata  any 1.000033
#     Test::Deep        any    1.128
#     Test::More        any 1.001014
#     strict            any     1.11
#     warnings          any     1.37
# 
# === Test Recommends ===
# 
#     Module         Want     Have
#     ---------- -------- --------
#     CPAN::Meta 2.120900 2.150010
# 
# === Runtime Requires ===
# 
#     Module               Want   Have
#     -------------------- ---- ------
#     Email::Abstract       any  3.008
#     Email::Valid          any  1.202
#     MooseX::Types         any   0.49
#     MooseX::Types::Moose  any   0.49
#     if                    any 0.0606
# 
# === Other Modules ===
# 
#     Module                  Have
#     -------------------- -------
#     Dist::CheckConflicts    0.11
#     Encode                  2.98
#     File::Temp            0.2308
#     JSON::PP             2.97001
#     Module::Runtime        0.016
#     Pod::Coverage           0.23
#     Sub::Name               0.21
#     YAML                    1.27
#     autodie                 2.29
#     namespace::clean        0.27
# 
t/00-report-prereqs.t ... ok
t/01-email-abstract.t ... ok
t/01-email.t ............ ok
t/02-email-abstracts.t .. ok
t/02-emailaddresses.t ... ok
t/zzz-check-breaks.t .... ok
t/00-load.t ............. ok
All tests successful.
Files=7, Tests=15,  1 wallclock secs ( 0.02 usr  0.01 sys +  5.21 cusr  0.36 csys =  5.60 CPU)
Result: PASS

------------------------------
PREREQUISITES
------------------------------

Prerequisite modules loaded:

    No requirements found

------------------------------
ENVIRONMENT AND OTHER CONTEXT
------------------------------

Environment variables:

    HARNESS_OPTIONS = j8
    LANG = en_GB.UTF-8
    LANGUAGE = en_GB:en
    LC_ADDRESS = en_GB.UTF-8
    LC_IDENTIFICATION = en_GB.UTF-8
    LC_MEASUREMENT = en_GB.UTF-8
    LC_MONETARY = en_GB.UTF-8
    LC_NAME = en_GB.UTF-8
    LC_NUMERIC = en_GB.UTF-8
    LC_PAPER = en_GB.UTF-8
    LC_TELEPHONE = en_GB.UTF-8
    LC_TIME = en_GB.UTF-8
    PATH = /home/ioan/.plenv/versions/mm-perl-5.26.2/bin:/home/ioan/.plenv/libexec:/home/ioan/.plenv/plugins/perl-build/bin:/snap/bin:/home/ioan/.perl6/bin:/opt/rakudo-pkg/bin:/home/ioan/perl5/bin:/home/ioan/perl5/bin:/home/ioan/.plenv/shims:~/.plenv/bin::/home/ioan/.local/bin:/usr/local/bin:/usr/bin:/bin:/usr/local/sbin:/sbin:/usr/sbin:/usr/games
    PERL5LIB = /home/ioan/perl5/lib/perl5
    PERL_CPANM_OPT = --prompt --no-man-pages --verify --mirror https://cpan.metacpan.org
    PERL_LOCAL_LIB_ROOT = /home/ioan/perl5
    PERL_MB_OPT = --install_base "/home/ioan/perl5"
    PERL_MM_OPT = INSTALL_BASE=/home/ioan/perl5
    SHELL = /bin/bash
    TERM = xterm-256color

Perl special variables (and OS-specific diagnostics, for MSWin32):

    EGID = 1335000001 4 10 24 30 46 116 126 133 136 138 1335000000 1335000001 1335000003
    EUID = 1335000001
    EXECUTABLE_NAME = /opt/perl5.26.2/bin/perl
    GID = 1335000001 4 10 24 30 46 116 126 133 136 138 1335000000 1335000001 1335000003
    UID = 1335000001

Perl module toolchain versions installed:

    Module              Have    
    ------------------- --------
    CPAN                2.16    
    CPAN::Meta          2.150010
    Cwd                 3.75    
    ExtUtils::CBuilder  0.280230
    ExtUtils::Command   7.34    
    ExtUtils::Install   2.14    
    ExtUtils::MakeMaker 7.34    
    ExtUtils::Manifest  1.70    
    ExtUtils::ParseXS   3.35    
    File::Spec          3.75    
    JSON                2.97001 
    JSON::PP            2.97001 
    Module::Build       0.4224  
    Module::Signature   0.83    
    Parse::CPAN::Meta   2.150010
    Test::Harness       3.42    
    Test::More          1.001014
    YAML                1.27    
    YAML::Syck          1.31    
    version             0.9924  


--

Summary of my perl5 (revision 5 version 26 subversion 2) configuration:
   
  Platform:
    osname=linux
    osvers=4.15.0-20-generic
    archname=x86_64-linux
    uname='linux impatience.home.rgrs.ca 4.15.0-20-generic #21-ubuntu smp tue apr 24 06:16:15 utc 2018 x86_64 x86_64 x86_64 gnulinux '
    config_args='-des -Dprefix=/opt/perl5.26.2'
    hint=recommended
    useposix=true
    d_sigaction=define
    useithreads=undef
    usemultiplicity=undef
    use64bitint=define
    use64bitall=define
    uselongdouble=undef
    usemymalloc=n
    default_inc_excludes_dot=define
    bincompat5005=undef
  Compiler:
    cc='cc'
    ccflags ='-fwrapv -fno-strict-aliasing -pipe -fstack-protector-strong -I/usr/local/include -D_LARGEFILE_SOURCE -D_FILE_OFFSET_BITS=64'
    optimize='-O2'
    cppflags='-fwrapv -fno-strict-aliasing -pipe -fstack-protector-strong -I/usr/local/include'
    ccversion=''
    gccversion='7.3.0'
    gccosandvers=''
    intsize=4
    longsize=8
    ptrsize=8
    doublesize=8
    byteorder=12345678
    doublekind=3
    d_longlong=define
    longlongsize=8
    d_longdbl=define
    longdblsize=16
    longdblkind=3
    ivtype='long'
    ivsize=8
    nvtype='double'
    nvsize=8
    Off_t='off_t'
    lseeksize=8
    alignbytes=8
    prototype=define
  Linker and Libraries:
    ld='cc'
    ldflags =' -fstack-protector-strong -L/usr/local/lib'
    libpth=/usr/local/lib /usr/lib/gcc/x86_64-linux-gnu/7/include-fixed /usr/include/x86_64-linux-gnu /usr/lib /lib/x86_64-linux-gnu /lib/../lib /usr/lib/x86_64-linux-gnu /usr/lib/../lib /lib
    libs=-lpthread -lnsl -ldl -lm -lcrypt -lutil -lc
    perllibs=-lpthread -lnsl -ldl -lm -lcrypt -lutil -lc
    libc=libc-2.27.so
    so=so
    useshrplib=false
    libperl=libperl.a
    gnulibc_version='2.27'
  Dynamic Linking:
    dlsrc=dl_dlopen.xs
    dlext=so
    d_dlsymun=undef
    ccdlflags='-Wl,-E'
    cccdlflags='-fPIC'
    lddlflags='-shared -O2 -L/usr/local/lib -fstack-protector-strong'


Characteristics of this binary (from libperl): 
  Compile-time options:
    HAS_TIMES
    PERLIO_LAYERS
    PERL_COPY_ON_WRITE
    PERL_DONT_CREATE_GVSV
    PERL_MALLOC_WRAP
    PERL_OP_PARENT
    PERL_PRESERVE_IVUV
    USE_64_BIT_ALL
    USE_64_BIT_INT
    USE_LARGE_FILES
    USE_LOCALE
    USE_LOCALE_COLLATE
    USE_LOCALE_CTYPE
    USE_LOCALE_NUMERIC
    USE_LOCALE_TIME
    USE_PERLIO
    USE_PERL_ATOF
  Built under linux
  Compiled at May 17 2018 15:56:23
  %ENV:
    PERL5LIB="/home/ioan/perl5/lib/perl5"
    PERL_CPANM_OPT="--prompt --no-man-pages --verify --mirror https://cpan.metacpan.org"
    PERL_LOCAL_LIB_ROOT="/home/ioan/perl5"
    PERL_MB_OPT="--install_base "/home/ioan/perl5""
    PERL_MM_OPT="INSTALL_BASE=/home/ioan/perl5"
  @INC:
    /home/ioan/perl5/lib/perl5/5.26.2/x86_64-linux
    /home/ioan/perl5/lib/perl5/5.26.2
    /home/ioan/perl5/lib/perl5/x86_64-linux
    /home/ioan/perl5/lib/perl5
    /opt/perl5.26.2/lib/site_perl/5.26.2/x86_64-linux
    /opt/perl5.26.2/lib/site_perl/5.26.2
    /opt/perl5.26.2/lib/5.26.2/x86_64-linux
    /opt/perl5.26.2/lib/5.26.2