Report for XML-Rabbit-0.3.0

Back
From: metabase:user:314402c4-2aae-11df-837a-5e0a49663a4f
Subject: PASS XML-Rabbit-0.3.0 v5.18.0 FreeBSD
Date: 2013-06-28T09:41:49Z

This distribution has been tested as part of the CPAN Testers
project, supporting the Perl programming language.  See
http://wiki.cpantesters.org/ for more information or email
questions to cpan-testers-discuss@perl.org


--
Dear Robin Smidsrod,

This is a computer-generated report for XML-Rabbit-0.3.0
on perl 5.18.0, created by CPAN-Reporter-1.2010.

Thank you for uploading your work to CPAN.  Congratulations!
All tests were successful.

Sections of this report:

    * Tester comments
    * Program output
    * Prerequisites
    * Environment and other context

------------------------------
TESTER COMMENTS
------------------------------

Additional comments from tester:

none provided

------------------------------
PROGRAM OUTPUT
------------------------------

Output from '/usr/bin/make test':

PERL_DL_NONLAZY=1 /usr/perl5.18.0/bin/perl5.18.0 "-MExtUtils::Command::MM" "-e" "test_harness(0, 'blib/lib', 'blib/arch')" t/*.t t/regression/*.t
Smartmatch is experimental at (eval 245) line 7.
Smartmatch is experimental at (eval 245) line 14.
Smartmatch is experimental at (eval 247) line 7.
Smartmatch is experimental at (eval 247) line 14.
Smartmatch is experimental at (eval 249) line 7.
Smartmatch is experimental at (eval 249) line 14.
Smartmatch is experimental at (eval 251) line 10.
Smartmatch is experimental at (eval 251) line 20.
# Testing XML::Rabbit 0.3.0, Perl 5.018000, /usr/perl5.18.0/bin/perl5.18.0
t/00_load.t ........................... ok
# Detected libxml2 version: 20705
t/01_libxml_version.t ................. ok
Smartmatch is experimental at (eval 243) line 7.
Smartmatch is experimental at (eval 243) line 14.
Smartmatch is experimental at (eval 245) line 7.
Smartmatch is experimental at (eval 245) line 14.
Smartmatch is experimental at (eval 247) line 7.
Smartmatch is experimental at (eval 247) line 14.
Smartmatch is experimental at (eval 249) line 10.
Smartmatch is experimental at (eval 249) line 20.
t/10_parse_xhtml_fh.t ................. ok
Smartmatch is experimental at (eval 243) line 7.
Smartmatch is experimental at (eval 243) line 14.
Smartmatch is experimental at (eval 245) line 7.
Smartmatch is experimental at (eval 245) line 14.
Smartmatch is experimental at (eval 247) line 7.
Smartmatch is experimental at (eval 247) line 14.
Smartmatch is experimental at (eval 249) line 10.
Smartmatch is experimental at (eval 249) line 20.
t/10_parse_xhtml_file.t ............... ok
Smartmatch is experimental at (eval 243) line 7.
Smartmatch is experimental at (eval 243) line 14.
Smartmatch is experimental at (eval 245) line 7.
Smartmatch is experimental at (eval 245) line 14.
Smartmatch is experimental at (eval 247) line 7.
Smartmatch is experimental at (eval 247) line 14.
Smartmatch is experimental at (eval 249) line 10.
Smartmatch is experimental at (eval 249) line 20.
t/10_parse_xhtml_string.t ............. ok
Smartmatch is experimental at (eval 243) line 7.
Smartmatch is experimental at (eval 243) line 14.
Smartmatch is experimental at (eval 245) line 7.
Smartmatch is experimental at (eval 245) line 14.
Smartmatch is experimental at (eval 247) line 7.
Smartmatch is experimental at (eval 247) line 14.
Smartmatch is experimental at (eval 249) line 10.
Smartmatch is experimental at (eval 249) line 20.
t/11_parse_imsqti.t ................... ok
Smartmatch is experimental at (eval 242) line 7.
Smartmatch is experimental at (eval 242) line 14.
Smartmatch is experimental at (eval 244) line 7.
Smartmatch is experimental at (eval 244) line 14.
Smartmatch is experimental at (eval 246) line 7.
Smartmatch is experimental at (eval 246) line 14.
Smartmatch is experimental at (eval 248) line 10.
Smartmatch is experimental at (eval 248) line 20.
t/12_xpath_value_map.t ................ ok
Smartmatch is experimental at (eval 246) line 7.
Smartmatch is experimental at (eval 246) line 14.
Smartmatch is experimental at (eval 248) line 7.
Smartmatch is experimental at (eval 248) line 14.
Smartmatch is experimental at (eval 250) line 7.
Smartmatch is experimental at (eval 250) line 14.
Smartmatch is experimental at (eval 252) line 10.
Smartmatch is experimental at (eval 252) line 20.
t/13_xpath_object_map.t ............... ok
Smartmatch is experimental at (eval 244) line 7.
Smartmatch is experimental at (eval 244) line 14.
Smartmatch is experimental at (eval 246) line 7.
Smartmatch is experimental at (eval 246) line 14.
Smartmatch is experimental at (eval 248) line 7.
Smartmatch is experimental at (eval 248) line 14.
Smartmatch is experimental at (eval 250) line 10.
Smartmatch is experimental at (eval 250) line 20.
t/14_sugar_parse_xhtml_file.t ......... ok
Smartmatch is experimental at (eval 244) line 7.
Smartmatch is experimental at (eval 244) line 14.
Smartmatch is experimental at (eval 246) line 7.
Smartmatch is experimental at (eval 246) line 14.
Smartmatch is experimental at (eval 248) line 7.
Smartmatch is experimental at (eval 248) line 14.
Smartmatch is experimental at (eval 250) line 10.
Smartmatch is experimental at (eval 250) line 20.
t/15_sugar_parse_imsqti.t ............. ok
Smartmatch is experimental at (eval 243) line 7.
Smartmatch is experimental at (eval 243) line 14.
Smartmatch is experimental at (eval 245) line 7.
Smartmatch is experimental at (eval 245) line 14.
Smartmatch is experimental at (eval 247) line 7.
Smartmatch is experimental at (eval 247) line 14.
Smartmatch is experimental at (eval 249) line 10.
Smartmatch is experimental at (eval 249) line 20.
t/16_sugar_xpath_value_map.t .......... ok
Smartmatch is experimental at (eval 243) line 7.
Smartmatch is experimental at (eval 243) line 14.
Smartmatch is experimental at (eval 245) line 7.
Smartmatch is experimental at (eval 245) line 14.
Smartmatch is experimental at (eval 247) line 7.
Smartmatch is experimental at (eval 247) line 14.
Smartmatch is experimental at (eval 249) line 10.
Smartmatch is experimental at (eval 249) line 20.
t/17_sugar_xpath_object_map.t ......... ok
Smartmatch is experimental at (eval 244) line 7.
Smartmatch is experimental at (eval 244) line 14.
Smartmatch is experimental at (eval 246) line 7.
Smartmatch is experimental at (eval 246) line 14.
Smartmatch is experimental at (eval 248) line 7.
Smartmatch is experimental at (eval 248) line 14.
Smartmatch is experimental at (eval 250) line 10.
Smartmatch is experimental at (eval 250) line 20.
t/18_dump_xml.t ....................... ok
Smartmatch is experimental at (eval 245) line 7.
Smartmatch is experimental at (eval 245) line 14.
Smartmatch is experimental at (eval 247) line 7.
Smartmatch is experimental at (eval 247) line 14.
Smartmatch is experimental at (eval 249) line 7.
Smartmatch is experimental at (eval 249) line 14.
Smartmatch is experimental at (eval 251) line 10.
Smartmatch is experimental at (eval 251) line 20.
t/19_RT_71815.t ....................... ok
Smartmatch is experimental at (eval 242) line 7.
Smartmatch is experimental at (eval 242) line 14.
Smartmatch is experimental at (eval 244) line 7.
Smartmatch is experimental at (eval 244) line 14.
Smartmatch is experimental at (eval 246) line 7.
Smartmatch is experimental at (eval 246) line 14.
Smartmatch is experimental at (eval 248) line 10.
Smartmatch is experimental at (eval 248) line 20.
t/20_RT_81519.t ....................... ok
t/author-critic.t ..................... skipped: these tests are for testing by the author
Smartmatch is experimental at (eval 243) line 7.
Smartmatch is experimental at (eval 243) line 14.
Smartmatch is experimental at (eval 245) line 7.
Smartmatch is experimental at (eval 245) line 14.
Smartmatch is experimental at (eval 247) line 7.
Smartmatch is experimental at (eval 247) line 14.
Smartmatch is experimental at (eval 249) line 10.
Smartmatch is experimental at (eval 249) line 20.
t/regression/node_attribute_traits.t .. ok
t/release-eol.t ....................... skipped: these tests are for release candidate testing
t/release-kwalitee.t .................. skipped: these tests are for release candidate testing
t/release-no-tabs.t ................... skipped: these tests are for release candidate testing
t/release-pod-coverage.t .............. skipped: these tests are for release candidate testing
t/release-pod-syntax.t ................ skipped: these tests are for release candidate testing
All tests successful.
Files=22, Tests=165, 12 wallclock secs ( 0.15 usr  0.02 sys + 10.27 cusr  1.52 csys = 11.95 CPU)
Result: PASS

------------------------------
PREREQUISITES
------------------------------

Prerequisite modules loaded:

requires:

    Module                       Need Have   
    ---------------------------- ---- -------
    Carp                         0    1.29   
    Encode                       0    2.49   
    Moose                        0.89 2.0802 
    Moose::Exporter              0    2.0802 
    Moose::Role                  0    2.0802 
    Moose::Util::TypeConstraints 0    2.0802 
    MooseX::Role::Parameterized  0    1.00   
    namespace::autoclean         0    0.13   
    Perl6::Junction              0    1.50000
    Scalar::Util                 0    1.27   
    strict                       0    1.07   
    warnings                     0    1.18   
    XML::LibXML                  1.70 2.0018 

build_requires:

    Module                       Need Have   
    ---------------------------- ---- -------
    Test::Exception              0    0.32   
    Test::More                   0    0.98   
    utf8                         0    1.10   

configure_requires:

    Module                       Need Have   
    ---------------------------- ---- -------
    ExtUtils::MakeMaker          6.30 6.66   
    XML::LibXML                  1.70 2.0018 


------------------------------
ENVIRONMENT AND OTHER CONTEXT
------------------------------

Environment variables:

    DBIC_NO_WARN_BAD_PERL = 1
    PATH = /usr/local/bin:/usr/X11R6/bin:/usr/X11/bin:/usr/perl5.8.0/bin:/usr/bin:/bin:/usr/local/sbin:/usr/sbin:/sbin:/usr/local/pilot/bin:/home/cpansand/bin/freebsd8.0:/home/cpansand/bin/sh:/home/cpansand/bin:/usr/X386/bin:/usr/games:/home/cpansand/devel:/usr/home/e/eserte/work/srezic-misc/scripts
    PERL5LIB = /usr/local/src/CPAN/build/MooseX-Exception-Base-v0.0.3-JHOu6D/blib/arch:/usr/local/src/CPAN/build/MooseX-Exception-Base-v0.0.3-JHOu6D/blib/lib:/usr/local/src/CPAN/build/MooseX-Types-XMLSchema-0.06-c5Ow91/blib/arch:/usr/local/src/CPAN/build/MooseX-Types-XMLSchema-0.06-c5Ow91/blib/lib:/usr/local/src/CPAN/build/Pod-Coverage-Moose-0.04-8IzxQT/blib/arch:/usr/local/src/CPAN/build/Pod-Coverage-Moose-0.04-8IzxQT/blib/lib:/usr/local/src/CPAN/build/Number-ZipCode-JP-0.20130628-Wwb4X4/blib/arch:/usr/local/src/CPAN/build/Number-ZipCode-JP-0.20130628-Wwb4X4/blib/lib
    PERL5OPT = 
    PERL5_CPANPLUS_IS_RUNNING = 62667
    PERL5_CPAN_IS_RUNNING = 62667
    PERL5_CPAN_IS_RUNNING_IN_RECURSION = 62645,62667
    PERL_BATCH = yes
    PERL_CPAN_REPORTER_CONFIG = /var/tmp/cpansmoker-1023/UCk5MIx62L_config.ini
    PERL_EXTUTILS_AUTOINSTALL = --defaultdeps
    PERL_HTML_DISPLAY_CLASS = HTML::Display::Mozilla
    SHELL = /usr/local/bin/zsh
    TERM = screen
    TMPDIR = /var/tmp/cpansmoker-1023

Perl special variables (and OS-specific diagnostics, for MSWin32):

    $^X = /usr/perl5.18.0/bin/perl5.18.0
    $UID/$EUID = 1023 / 1023
    $GID = 1023 1023
    $EGID = 1023 1023

Perl module toolchain versions installed:

    Module              Have    
    ------------------- --------
    CPAN                2.00    
    CPAN::Meta          2.120921
    Cwd                 3.40    
    ExtUtils::CBuilder  0.280210
    ExtUtils::Command   1.17    
    ExtUtils::Install   1.59    
    ExtUtils::MakeMaker 6.66    
    ExtUtils::Manifest  1.63    
    ExtUtils::ParseXS   3.18    
    File::Spec          3.40    
    JSON                2.59    
    JSON::PP            2.27202 
    Module::Build       0.4005  
    Module::Signature   0.70    
    Parse::CPAN::Meta   1.4404  
    Test::Harness       3.26    
    Test::More          0.98    
    YAML                0.84    
    YAML::Syck          1.27    
    version             0.9902  


--

Summary of my perl5 (revision 5 version 18 subversion 0) configuration:
   
  Platform:
    osname=freebsd, osvers=8.0-release-p4, archname=i386-freebsd
    uname='freebsd biokovo.herceg.de 8.0-release-p4 freebsd 8.0-release-p4 #0: mon jul 12 20:22:27 utc 2010 root@i386-builder.daemonology.net:usrobjusrsrcsysgeneric i386 '
    config_args='-D useshrplib=true -Dprefix=/usr/perl5.18.0 -Dusemymalloc=n -D cc=ccache cc -Dgccansipedantic -Duse64bit -de -D hintfile=myfreebsd'
    hint=recommended, useposix=true, d_sigaction=define
    useithreads=undef, usemultiplicity=undef
    useperlio=define, d_sfio=undef, uselargefiles=define, usesocks=undef
    use64bitint=undef, use64bitall=undef, uselongdouble=undef
    usemymalloc=n, bincompat5005=undef
  Compiler:
    cc='ccache cc', ccflags ='-DHAS_FPSETMASK -DHAS_FLOATINGPOINT_H -fno-strict-aliasing -pipe -fstack-protector -I/usr/local/include',
    optimize='-O2 -mtune=athlon64 -pipe',
    cppflags='-DHAS_FPSETMASK -DHAS_FLOATINGPOINT_H -fno-strict-aliasing -pipe -fstack-protector -I/usr/local/include'
    ccversion='', gccversion='4.2.1 20070719  [FreeBSD]', gccosandvers=''
    intsize=4, longsize=4, ptrsize=4, doublesize=8, byteorder=1234
    d_longlong=define, longlongsize=8, d_longdbl=define, longdblsize=12
    ivtype='long', ivsize=4, nvtype='double', nvsize=8, Off_t='off_t', lseeksize=8
    alignbytes=4, prototype=define
  Linker and Libraries:
    ld='ccache cc', ldflags ='-Wl,-E  -fstack-protector -L/usr/local/lib'
    libpth=/usr/lib /usr/local/lib
    libs=-lgdbm -lm -lcrypt -lutil -lc
    perllibs=-lm -lcrypt -lutil -lc
    libc=, so=so, useshrplib=true, libperl=libperl.so
    gnulibc_version=''
  Dynamic Linking:
    dlsrc=dl_dlopen.xs, dlext=so, d_dlsymun=undef, ccdlflags='  -Wl,-R/usr/perl5.18.0/lib/5.18.0/i386-freebsd/CORE'
    cccdlflags='-DPIC -fPIC', lddlflags='-shared  -L/usr/local/lib -fstack-protector'


Characteristics of this binary (from libperl): 
  Compile-time options: HAS_TIMES PERLIO_LAYERS PERL_DONT_CREATE_GVSV
                        PERL_HASH_FUNC_ONE_AT_A_TIME_HARD PERL_MALLOC_WRAP
                        PERL_PRESERVE_IVUV PERL_SAWAMPERSAND PERL_USE_DEVEL
                        USE_LARGE_FILES USE_LOCALE USE_LOCALE_COLLATE
                        USE_LOCALE_CTYPE USE_LOCALE_NUMERIC USE_PERLIO
                        USE_PERL_ATOF
  Built under freebsd
  Compiled at May 22 2013 23:05:22
  %ENV:
    PERL5LIB="/usr/local/src/CPAN/build/MooseX-Exception-Base-v0.0.3-JHOu6D/blib/arch:/usr/local/src/CPAN/build/MooseX-Exception-Base-v0.0.3-JHOu6D/blib/lib:/usr/local/src/CPAN/build/MooseX-Types-XMLSchema-0.06-c5Ow91/blib/arch:/usr/local/src/CPAN/build/MooseX-Types-XMLSchema-0.06-c5Ow91/blib/lib:/usr/local/src/CPAN/build/Pod-Coverage-Moose-0.04-8IzxQT/blib/arch:/usr/local/src/CPAN/build/Pod-Coverage-Moose-0.04-8IzxQT/blib/lib:/usr/local/src/CPAN/build/Number-ZipCode-JP-0.20130628-Wwb4X4/blib/arch:/usr/local/src/CPAN/build/Number-ZipCode-JP-0.20130628-Wwb4X4/blib/lib"
    PERL5OPT=""
    PERL5_CPANPLUS_IS_RUNNING="62667"
    PERL5_CPAN_IS_RUNNING="62667"
    PERL5_CPAN_IS_RUNNING_IN_RECURSION="62645,62667"
    PERL_BATCH="yes"
    PERL_CPAN_REPORTER_CONFIG="/var/tmp/cpansmoker-1023/UCk5MIx62L_config.ini"
    PERL_EXTUTILS_AUTOINSTALL="--defaultdeps"
    PERL_HTML_DISPLAY_CLASS="HTML::Display::Mozilla"
  @INC:
    /usr/local/src/CPAN/build/MooseX-Exception-Base-v0.0.3-JHOu6D/blib/arch
    /usr/local/src/CPAN/build/MooseX-Exception-Base-v0.0.3-JHOu6D/blib/lib
    /usr/local/src/CPAN/build/MooseX-Types-XMLSchema-0.06-c5Ow91/blib/arch
    /usr/local/src/CPAN/build/MooseX-Types-XMLSchema-0.06-c5Ow91/blib/lib
    /usr/local/src/CPAN/build/Pod-Coverage-Moose-0.04-8IzxQT/blib/arch
    /usr/local/src/CPAN/build/Pod-Coverage-Moose-0.04-8IzxQT/blib/lib
    /usr/local/src/CPAN/build/Number-ZipCode-JP-0.20130628-Wwb4X4/blib/arch
    /usr/local/src/CPAN/build/Number-ZipCode-JP-0.20130628-Wwb4X4/blib/lib
    /usr/perl5.18.0/lib/site_perl/5.18.0/i386-freebsd
    /usr/perl5.18.0/lib/site_perl/5.18.0
    /usr/perl5.18.0/lib/5.18.0/i386-freebsd
    /usr/perl5.18.0/lib/5.18.0
    .