Back
From: metabase:user:3198cbe2-2aae-11df-837a-5e0a49663a4f
Subject: PASS Class-Dot-2.0.0_15 v5.18.1 GNU/Linux
Date: 2013-10-25T09:43:52Z
This distribution has been tested as part of the CPAN Testers
project, supporting the Perl programming language. See
http://wiki.cpantesters.org/ for more information or email
questions to cpan-testers-discuss@perl.org
--
Dear Ask Solem,
This is a computer-generated report for Class-Dot-2.0.0_15
on perl 5.18.1, created by CPAN-Reporter-1.2010.
Thank you for uploading your work to CPAN. Congratulations!
All tests were successful.
Sections of this report:
* Tester comments
* Program output
* Prerequisites
* Environment and other context
------------------------------
TESTER COMMENTS
------------------------------
Additional comments from tester:
this report is from an automated smoke testing program
and was not reviewed by a human for accuracy
------------------------------
PROGRAM OUTPUT
------------------------------
Output from '/usr/bin/make test':
/home/graham/perls/perl-5.18.1/bin/perl "-Iinc" Makefile.PL --config= --installdeps=Class::Plugin::Util,0.9
Prototype after '@' for Class::Dot::after_property_get : @& at /home/graham/perls/perl-5.18.1/lib/site_perl/5.18.1/Class/Dot.pm line 282.
Prototype after '@' for Class::Dot::after_property_set : @& at /home/graham/perls/perl-5.18.1/lib/site_perl/5.18.1/Class/Dot.pm line 291.
***
NOTE: Class::Dot version 2.0 has new API changes.
Please see Changes for details.
***
at Makefile.PL line 98.
defined(@array) is deprecated at /home/graham/perls/perl-5.18.1/lib/site_perl/5.18.1/Class/Plugin/Util.pm line 264.
(Maybe you should just omit the defined()?)
*** Since we're running under CPANPLUS, I'll just let it take care
of the dependency's installation later.
PERL_DL_NONLAZY=1 /home/graham/perls/perl-5.18.1/bin/perl "-MExtUtils::Command::MM" "-MTest::Harness" "-e" "undef *Test::Harness::Switches; test_harness(0, 'inc', 'blib/lib', 'blib/arch')" t/*.t t/*/*.t t/*/*/*.t
defined(@array) is deprecated at /home/graham/perls/perl-5.18.1/lib/site_perl/5.18.1/Class/Plugin/Util.pm line 264.
(Maybe you should just omit the defined()?)
defined(@array) is deprecated at lib/Class/Dot/Typemap.pm line 932.
(Maybe you should just omit the defined()?)
Prototype after '@' for Class::Dot::Policy::extends : @; at lib/Class/Dot/Policy.pm line 270.
Prototype after '@' for Class::Dot::Policy::composites : @; at lib/Class/Dot/Policy.pm line 280.
Prototype after '@' for Class::Dot::Policy::composite : @; at lib/Class/Dot/Policy.pm line 288.
Prototype after '@' for Class::Dot::Policy::after_property_get : @& at lib/Class/Dot/Policy.pm line 292.
Prototype after '@' for Class::Dot::Policy::after_property_set : @& at lib/Class/Dot/Policy.pm line 303.
Prototype after '@' for Class::Dot::Policy::to : @; at lib/Class/Dot/Policy.pm line 315.
Prototype after '@' for Class::Dot::Policy::using : @; at lib/Class/Dot/Policy.pm line 316.
t/010-std_1.x_tests/cat.t ...................................................... ok
defined(@array) is deprecated at /home/graham/perls/perl-5.18.1/lib/site_perl/5.18.1/Class/Plugin/Util.pm line 264.
(Maybe you should just omit the defined()?)
defined(@array) is deprecated at lib/Class/Dot/Typemap.pm line 932.
(Maybe you should just omit the defined()?)
Prototype after '@' for Class::Dot::Policy::extends : @; at lib/Class/Dot/Policy.pm line 270.
Prototype after '@' for Class::Dot::Policy::composites : @; at lib/Class/Dot/Policy.pm line 280.
Prototype after '@' for Class::Dot::Policy::composite : @; at lib/Class/Dot/Policy.pm line 288.
Prototype after '@' for Class::Dot::Policy::after_property_get : @& at lib/Class/Dot/Policy.pm line 292.
Prototype after '@' for Class::Dot::Policy::after_property_set : @& at lib/Class/Dot/Policy.pm line 303.
Prototype after '@' for Class::Dot::Policy::to : @; at lib/Class/Dot/Policy.pm line 315.
Prototype after '@' for Class::Dot::Policy::using : @; at lib/Class/Dot/Policy.pm line 316.
t/010-std_1.x_tests/properties.t ............................................... ok
defined(@array) is deprecated at /home/graham/perls/perl-5.18.1/lib/site_perl/5.18.1/Class/Plugin/Util.pm line 264.
(Maybe you should just omit the defined()?)
defined(@array) is deprecated at lib/Class/Dot/Typemap.pm line 932.
(Maybe you should just omit the defined()?)
Prototype after '@' for Class::Dot::Policy::extends : @; at lib/Class/Dot/Policy.pm line 270.
Prototype after '@' for Class::Dot::Policy::composites : @; at lib/Class/Dot/Policy.pm line 280.
Prototype after '@' for Class::Dot::Policy::composite : @; at lib/Class/Dot/Policy.pm line 288.
Prototype after '@' for Class::Dot::Policy::after_property_get : @& at lib/Class/Dot/Policy.pm line 292.
Prototype after '@' for Class::Dot::Policy::after_property_set : @& at lib/Class/Dot/Policy.pm line 303.
Prototype after '@' for Class::Dot::Policy::to : @; at lib/Class/Dot/Policy.pm line 315.
Prototype after '@' for Class::Dot::Policy::using : @; at lib/Class/Dot/Policy.pm line 316.
t/010-std_1.x_tests/testchained.t .............................................. ok
defined(@array) is deprecated at /home/graham/perls/perl-5.18.1/lib/site_perl/5.18.1/Class/Plugin/Util.pm line 264.
(Maybe you should just omit the defined()?)
defined(@array) is deprecated at lib/Class/Dot/Typemap.pm line 932.
(Maybe you should just omit the defined()?)
Prototype after '@' for Class::Dot::Policy::extends : @; at lib/Class/Dot/Policy.pm line 270.
Prototype after '@' for Class::Dot::Policy::composites : @; at lib/Class/Dot/Policy.pm line 280.
Prototype after '@' for Class::Dot::Policy::composite : @; at lib/Class/Dot/Policy.pm line 288.
Prototype after '@' for Class::Dot::Policy::after_property_get : @& at lib/Class/Dot/Policy.pm line 292.
Prototype after '@' for Class::Dot::Policy::after_property_set : @& at lib/Class/Dot/Policy.pm line 303.
Prototype after '@' for Class::Dot::Policy::to : @; at lib/Class/Dot/Policy.pm line 315.
Prototype after '@' for Class::Dot::Policy::using : @; at lib/Class/Dot/Policy.pm line 316.
t/010-std_1.x_tests/testcomplete.t ............................................. ok
defined(@array) is deprecated at /home/graham/perls/perl-5.18.1/lib/site_perl/5.18.1/Class/Plugin/Util.pm line 264.
(Maybe you should just omit the defined()?)
defined(@array) is deprecated at /home/graham/perls/caches/perl-5.18.1/build/Class-Dot-2.0.0_15-3M4Y6Q/blib/lib/Class/Dot/Typemap.pm line 932.
(Maybe you should just omit the defined()?)
Prototype after '@' for Class::Dot::Policy::extends : @; at /home/graham/perls/caches/perl-5.18.1/build/Class-Dot-2.0.0_15-3M4Y6Q/blib/lib/Class/Dot/Policy.pm line 270.
Prototype after '@' for Class::Dot::Policy::composites : @; at /home/graham/perls/caches/perl-5.18.1/build/Class-Dot-2.0.0_15-3M4Y6Q/blib/lib/Class/Dot/Policy.pm line 280.
Prototype after '@' for Class::Dot::Policy::composite : @; at /home/graham/perls/caches/perl-5.18.1/build/Class-Dot-2.0.0_15-3M4Y6Q/blib/lib/Class/Dot/Policy.pm line 288.
Prototype after '@' for Class::Dot::Policy::after_property_get : @& at /home/graham/perls/caches/perl-5.18.1/build/Class-Dot-2.0.0_15-3M4Y6Q/blib/lib/Class/Dot/Policy.pm line 292.
Prototype after '@' for Class::Dot::Policy::after_property_set : @& at /home/graham/perls/caches/perl-5.18.1/build/Class-Dot-2.0.0_15-3M4Y6Q/blib/lib/Class/Dot/Policy.pm line 303.
Prototype after '@' for Class::Dot::Policy::to : @; at /home/graham/perls/caches/perl-5.18.1/build/Class-Dot-2.0.0_15-3M4Y6Q/blib/lib/Class/Dot/Policy.pm line 315.
Prototype after '@' for Class::Dot::Policy::using : @; at /home/graham/perls/caches/perl-5.18.1/build/Class-Dot-2.0.0_15-3M4Y6Q/blib/lib/Class/Dot/Policy.pm line 316.
t/020-std_2.x_tests/001-load_class_dot2.t ...................................... ok
defined(@array) is deprecated at /home/graham/perls/perl-5.18.1/lib/site_perl/5.18.1/Class/Plugin/Util.pm line 264.
(Maybe you should just omit the defined()?)
defined(@array) is deprecated at /home/graham/perls/caches/perl-5.18.1/build/Class-Dot-2.0.0_15-3M4Y6Q/blib/lib/Class/Dot/Typemap.pm line 932.
(Maybe you should just omit the defined()?)
Prototype after '@' for Class::Dot::Policy::extends : @; at /home/graham/perls/caches/perl-5.18.1/build/Class-Dot-2.0.0_15-3M4Y6Q/blib/lib/Class/Dot/Policy.pm line 270.
Prototype after '@' for Class::Dot::Policy::composites : @; at /home/graham/perls/caches/perl-5.18.1/build/Class-Dot-2.0.0_15-3M4Y6Q/blib/lib/Class/Dot/Policy.pm line 280.
Prototype after '@' for Class::Dot::Policy::composite : @; at /home/graham/perls/caches/perl-5.18.1/build/Class-Dot-2.0.0_15-3M4Y6Q/blib/lib/Class/Dot/Policy.pm line 288.
Prototype after '@' for Class::Dot::Policy::after_property_get : @& at /home/graham/perls/caches/perl-5.18.1/build/Class-Dot-2.0.0_15-3M4Y6Q/blib/lib/Class/Dot/Policy.pm line 292.
Prototype after '@' for Class::Dot::Policy::after_property_set : @& at /home/graham/perls/caches/perl-5.18.1/build/Class-Dot-2.0.0_15-3M4Y6Q/blib/lib/Class/Dot/Policy.pm line 303.
Prototype after '@' for Class::Dot::Policy::to : @; at /home/graham/perls/caches/perl-5.18.1/build/Class-Dot-2.0.0_15-3M4Y6Q/blib/lib/Class/Dot/Policy.pm line 315.
Prototype after '@' for Class::Dot::Policy::using : @; at /home/graham/perls/caches/perl-5.18.1/build/Class-Dot-2.0.0_15-3M4Y6Q/blib/lib/Class/Dot/Policy.pm line 316.
t/020-std_2.x_tests/002-use_line_option_assignment.t ........................... ok
defined(@array) is deprecated at /home/graham/perls/perl-5.18.1/lib/site_perl/5.18.1/Class/Plugin/Util.pm line 264.
(Maybe you should just omit the defined()?)
defined(@array) is deprecated at /home/graham/perls/caches/perl-5.18.1/build/Class-Dot-2.0.0_15-3M4Y6Q/blib/lib/Class/Dot/Typemap.pm line 932.
(Maybe you should just omit the defined()?)
Prototype after '@' for Class::Dot::Policy::extends : @; at /home/graham/perls/caches/perl-5.18.1/build/Class-Dot-2.0.0_15-3M4Y6Q/blib/lib/Class/Dot/Policy.pm line 270.
Prototype after '@' for Class::Dot::Policy::composites : @; at /home/graham/perls/caches/perl-5.18.1/build/Class-Dot-2.0.0_15-3M4Y6Q/blib/lib/Class/Dot/Policy.pm line 280.
Prototype after '@' for Class::Dot::Policy::composite : @; at /home/graham/perls/caches/perl-5.18.1/build/Class-Dot-2.0.0_15-3M4Y6Q/blib/lib/Class/Dot/Policy.pm line 288.
Prototype after '@' for Class::Dot::Policy::after_property_get : @& at /home/graham/perls/caches/perl-5.18.1/build/Class-Dot-2.0.0_15-3M4Y6Q/blib/lib/Class/Dot/Policy.pm line 292.
Prototype after '@' for Class::Dot::Policy::after_property_set : @& at /home/graham/perls/caches/perl-5.18.1/build/Class-Dot-2.0.0_15-3M4Y6Q/blib/lib/Class/Dot/Policy.pm line 303.
Prototype after '@' for Class::Dot::Policy::to : @; at /home/graham/perls/caches/perl-5.18.1/build/Class-Dot-2.0.0_15-3M4Y6Q/blib/lib/Class/Dot/Policy.pm line 315.
Prototype after '@' for Class::Dot::Policy::using : @; at /home/graham/perls/caches/perl-5.18.1/build/Class-Dot-2.0.0_15-3M4Y6Q/blib/lib/Class/Dot/Policy.pm line 316.
t/020-std_2.x_tests/003-accessor_mutator.t ..................................... ok
defined(@array) is deprecated at /home/graham/perls/perl-5.18.1/lib/site_perl/5.18.1/Class/Plugin/Util.pm line 264.
(Maybe you should just omit the defined()?)
defined(@array) is deprecated at /home/graham/perls/caches/perl-5.18.1/build/Class-Dot-2.0.0_15-3M4Y6Q/blib/lib/Class/Dot/Typemap.pm line 932.
(Maybe you should just omit the defined()?)
Prototype after '@' for Class::Dot::Policy::extends : @; at /home/graham/perls/caches/perl-5.18.1/build/Class-Dot-2.0.0_15-3M4Y6Q/blib/lib/Class/Dot/Policy.pm line 270.
Prototype after '@' for Class::Dot::Policy::composites : @; at /home/graham/perls/caches/perl-5.18.1/build/Class-Dot-2.0.0_15-3M4Y6Q/blib/lib/Class/Dot/Policy.pm line 280.
Prototype after '@' for Class::Dot::Policy::composite : @; at /home/graham/perls/caches/perl-5.18.1/build/Class-Dot-2.0.0_15-3M4Y6Q/blib/lib/Class/Dot/Policy.pm line 288.
Prototype after '@' for Class::Dot::Policy::after_property_get : @& at /home/graham/perls/caches/perl-5.18.1/build/Class-Dot-2.0.0_15-3M4Y6Q/blib/lib/Class/Dot/Policy.pm line 292.
Prototype after '@' for Class::Dot::Policy::after_property_set : @& at /home/graham/perls/caches/perl-5.18.1/build/Class-Dot-2.0.0_15-3M4Y6Q/blib/lib/Class/Dot/Policy.pm line 303.
Prototype after '@' for Class::Dot::Policy::to : @; at /home/graham/perls/caches/perl-5.18.1/build/Class-Dot-2.0.0_15-3M4Y6Q/blib/lib/Class/Dot/Policy.pm line 315.
Prototype after '@' for Class::Dot::Policy::using : @; at /home/graham/perls/caches/perl-5.18.1/build/Class-Dot-2.0.0_15-3M4Y6Q/blib/lib/Class/Dot/Policy.pm line 316.
t/020-std_2.x_tests/010-attribute_readonly.t ................................... ok
defined(@array) is deprecated at /home/graham/perls/perl-5.18.1/lib/site_perl/5.18.1/Class/Plugin/Util.pm line 264.
(Maybe you should just omit the defined()?)
defined(@array) is deprecated at /home/graham/perls/caches/perl-5.18.1/build/Class-Dot-2.0.0_15-3M4Y6Q/blib/lib/Class/Dot/Typemap.pm line 932.
(Maybe you should just omit the defined()?)
Prototype after '@' for Class::Dot::Policy::extends : @; at /home/graham/perls/caches/perl-5.18.1/build/Class-Dot-2.0.0_15-3M4Y6Q/blib/lib/Class/Dot/Policy.pm line 270.
Prototype after '@' for Class::Dot::Policy::composites : @; at /home/graham/perls/caches/perl-5.18.1/build/Class-Dot-2.0.0_15-3M4Y6Q/blib/lib/Class/Dot/Policy.pm line 280.
Prototype after '@' for Class::Dot::Policy::composite : @; at /home/graham/perls/caches/perl-5.18.1/build/Class-Dot-2.0.0_15-3M4Y6Q/blib/lib/Class/Dot/Policy.pm line 288.
Prototype after '@' for Class::Dot::Policy::after_property_get : @& at /home/graham/perls/caches/perl-5.18.1/build/Class-Dot-2.0.0_15-3M4Y6Q/blib/lib/Class/Dot/Policy.pm line 292.
Prototype after '@' for Class::Dot::Policy::after_property_set : @& at /home/graham/perls/caches/perl-5.18.1/build/Class-Dot-2.0.0_15-3M4Y6Q/blib/lib/Class/Dot/Policy.pm line 303.
Prototype after '@' for Class::Dot::Policy::to : @; at /home/graham/perls/caches/perl-5.18.1/build/Class-Dot-2.0.0_15-3M4Y6Q/blib/lib/Class/Dot/Policy.pm line 315.
Prototype after '@' for Class::Dot::Policy::using : @; at /home/graham/perls/caches/perl-5.18.1/build/Class-Dot-2.0.0_15-3M4Y6Q/blib/lib/Class/Dot/Policy.pm line 316.
t/020-std_2.x_tests/011-attribute_writeonly.t .................................. ok
defined(@array) is deprecated at /home/graham/perls/perl-5.18.1/lib/site_perl/5.18.1/Class/Plugin/Util.pm line 264.
(Maybe you should just omit the defined()?)
defined(@array) is deprecated at /home/graham/perls/caches/perl-5.18.1/build/Class-Dot-2.0.0_15-3M4Y6Q/blib/lib/Class/Dot/Typemap.pm line 932.
(Maybe you should just omit the defined()?)
Prototype after '@' for Class::Dot::Policy::extends : @; at /home/graham/perls/caches/perl-5.18.1/build/Class-Dot-2.0.0_15-3M4Y6Q/blib/lib/Class/Dot/Policy.pm line 270.
Prototype after '@' for Class::Dot::Policy::composites : @; at /home/graham/perls/caches/perl-5.18.1/build/Class-Dot-2.0.0_15-3M4Y6Q/blib/lib/Class/Dot/Policy.pm line 280.
Prototype after '@' for Class::Dot::Policy::composite : @; at /home/graham/perls/caches/perl-5.18.1/build/Class-Dot-2.0.0_15-3M4Y6Q/blib/lib/Class/Dot/Policy.pm line 288.
Prototype after '@' for Class::Dot::Policy::after_property_get : @& at /home/graham/perls/caches/perl-5.18.1/build/Class-Dot-2.0.0_15-3M4Y6Q/blib/lib/Class/Dot/Policy.pm line 292.
Prototype after '@' for Class::Dot::Policy::after_property_set : @& at /home/graham/perls/caches/perl-5.18.1/build/Class-Dot-2.0.0_15-3M4Y6Q/blib/lib/Class/Dot/Policy.pm line 303.
Prototype after '@' for Class::Dot::Policy::to : @; at /home/graham/perls/caches/perl-5.18.1/build/Class-Dot-2.0.0_15-3M4Y6Q/blib/lib/Class/Dot/Policy.pm line 315.
Prototype after '@' for Class::Dot::Policy::using : @; at /home/graham/perls/caches/perl-5.18.1/build/Class-Dot-2.0.0_15-3M4Y6Q/blib/lib/Class/Dot/Policy.pm line 316.
t/020-std_2.x_tests/012-attribute_private.t .................................... ok
defined(@array) is deprecated at /home/graham/perls/perl-5.18.1/lib/site_perl/5.18.1/Class/Plugin/Util.pm line 264.
(Maybe you should just omit the defined()?)
defined(@array) is deprecated at /home/graham/perls/caches/perl-5.18.1/build/Class-Dot-2.0.0_15-3M4Y6Q/blib/lib/Class/Dot/Typemap.pm line 932.
(Maybe you should just omit the defined()?)
Prototype after '@' for Class::Dot::Policy::extends : @; at /home/graham/perls/caches/perl-5.18.1/build/Class-Dot-2.0.0_15-3M4Y6Q/blib/lib/Class/Dot/Policy.pm line 270.
Prototype after '@' for Class::Dot::Policy::composites : @; at /home/graham/perls/caches/perl-5.18.1/build/Class-Dot-2.0.0_15-3M4Y6Q/blib/lib/Class/Dot/Policy.pm line 280.
Prototype after '@' for Class::Dot::Policy::composite : @; at /home/graham/perls/caches/perl-5.18.1/build/Class-Dot-2.0.0_15-3M4Y6Q/blib/lib/Class/Dot/Policy.pm line 288.
Prototype after '@' for Class::Dot::Policy::after_property_get : @& at /home/graham/perls/caches/perl-5.18.1/build/Class-Dot-2.0.0_15-3M4Y6Q/blib/lib/Class/Dot/Policy.pm line 292.
Prototype after '@' for Class::Dot::Policy::after_property_set : @& at /home/graham/perls/caches/perl-5.18.1/build/Class-Dot-2.0.0_15-3M4Y6Q/blib/lib/Class/Dot/Policy.pm line 303.
Prototype after '@' for Class::Dot::Policy::to : @; at /home/graham/perls/caches/perl-5.18.1/build/Class-Dot-2.0.0_15-3M4Y6Q/blib/lib/Class/Dot/Policy.pm line 315.
Prototype after '@' for Class::Dot::Policy::using : @; at /home/graham/perls/caches/perl-5.18.1/build/Class-Dot-2.0.0_15-3M4Y6Q/blib/lib/Class/Dot/Policy.pm line 316.
t/020-std_2.x_tests/020-mixin_with.t ........................................... ok
defined(@array) is deprecated at /home/graham/perls/perl-5.18.1/lib/site_perl/5.18.1/Class/Plugin/Util.pm line 264.
(Maybe you should just omit the defined()?)
defined(@array) is deprecated at /home/graham/perls/caches/perl-5.18.1/build/Class-Dot-2.0.0_15-3M4Y6Q/blib/lib/Class/Dot/Typemap.pm line 932.
(Maybe you should just omit the defined()?)
Prototype after '@' for Class::Dot::Policy::extends : @; at /home/graham/perls/caches/perl-5.18.1/build/Class-Dot-2.0.0_15-3M4Y6Q/blib/lib/Class/Dot/Policy.pm line 270.
Prototype after '@' for Class::Dot::Policy::composites : @; at /home/graham/perls/caches/perl-5.18.1/build/Class-Dot-2.0.0_15-3M4Y6Q/blib/lib/Class/Dot/Policy.pm line 280.
Prototype after '@' for Class::Dot::Policy::composite : @; at /home/graham/perls/caches/perl-5.18.1/build/Class-Dot-2.0.0_15-3M4Y6Q/blib/lib/Class/Dot/Policy.pm line 288.
Prototype after '@' for Class::Dot::Policy::after_property_get : @& at /home/graham/perls/caches/perl-5.18.1/build/Class-Dot-2.0.0_15-3M4Y6Q/blib/lib/Class/Dot/Policy.pm line 292.
Prototype after '@' for Class::Dot::Policy::after_property_set : @& at /home/graham/perls/caches/perl-5.18.1/build/Class-Dot-2.0.0_15-3M4Y6Q/blib/lib/Class/Dot/Policy.pm line 303.
Prototype after '@' for Class::Dot::Policy::to : @; at /home/graham/perls/caches/perl-5.18.1/build/Class-Dot-2.0.0_15-3M4Y6Q/blib/lib/Class/Dot/Policy.pm line 315.
Prototype after '@' for Class::Dot::Policy::using : @; at /home/graham/perls/caches/perl-5.18.1/build/Class-Dot-2.0.0_15-3M4Y6Q/blib/lib/Class/Dot/Policy.pm line 316.
t/020-std_2.x_tests/030-composition.t .......................................... ok
defined(@array) is deprecated at /home/graham/perls/perl-5.18.1/lib/site_perl/5.18.1/Class/Plugin/Util.pm line 264.
(Maybe you should just omit the defined()?)
defined(@array) is deprecated at /home/graham/perls/caches/perl-5.18.1/build/Class-Dot-2.0.0_15-3M4Y6Q/blib/lib/Class/Dot/Typemap.pm line 932.
(Maybe you should just omit the defined()?)
Prototype after '@' for Class::Dot::Policy::extends : @; at /home/graham/perls/caches/perl-5.18.1/build/Class-Dot-2.0.0_15-3M4Y6Q/blib/lib/Class/Dot/Policy.pm line 270.
Prototype after '@' for Class::Dot::Policy::composites : @; at /home/graham/perls/caches/perl-5.18.1/build/Class-Dot-2.0.0_15-3M4Y6Q/blib/lib/Class/Dot/Policy.pm line 280.
Prototype after '@' for Class::Dot::Policy::composite : @; at /home/graham/perls/caches/perl-5.18.1/build/Class-Dot-2.0.0_15-3M4Y6Q/blib/lib/Class/Dot/Policy.pm line 288.
Prototype after '@' for Class::Dot::Policy::after_property_get : @& at /home/graham/perls/caches/perl-5.18.1/build/Class-Dot-2.0.0_15-3M4Y6Q/blib/lib/Class/Dot/Policy.pm line 292.
Prototype after '@' for Class::Dot::Policy::after_property_set : @& at /home/graham/perls/caches/perl-5.18.1/build/Class-Dot-2.0.0_15-3M4Y6Q/blib/lib/Class/Dot/Policy.pm line 303.
Prototype after '@' for Class::Dot::Policy::to : @; at /home/graham/perls/caches/perl-5.18.1/build/Class-Dot-2.0.0_15-3M4Y6Q/blib/lib/Class/Dot/Policy.pm line 315.
Prototype after '@' for Class::Dot::Policy::using : @; at /home/graham/perls/caches/perl-5.18.1/build/Class-Dot-2.0.0_15-3M4Y6Q/blib/lib/Class/Dot/Policy.pm line 316.
t/020-std_2.x_tests/060-dot_meta.t ............................................. ok
defined(@array) is deprecated at /home/graham/perls/perl-5.18.1/lib/site_perl/5.18.1/Class/Plugin/Util.pm line 264.
(Maybe you should just omit the defined()?)
defined(@array) is deprecated at /home/graham/perls/caches/perl-5.18.1/build/Class-Dot-2.0.0_15-3M4Y6Q/blib/lib/Class/Dot/Typemap.pm line 932.
(Maybe you should just omit the defined()?)
Prototype after '@' for Class::Dot::Policy::extends : @; at /home/graham/perls/caches/perl-5.18.1/build/Class-Dot-2.0.0_15-3M4Y6Q/blib/lib/Class/Dot/Policy.pm line 270.
Prototype after '@' for Class::Dot::Policy::composites : @; at /home/graham/perls/caches/perl-5.18.1/build/Class-Dot-2.0.0_15-3M4Y6Q/blib/lib/Class/Dot/Policy.pm line 280.
Prototype after '@' for Class::Dot::Policy::composite : @; at /home/graham/perls/caches/perl-5.18.1/build/Class-Dot-2.0.0_15-3M4Y6Q/blib/lib/Class/Dot/Policy.pm line 288.
Prototype after '@' for Class::Dot::Policy::after_property_get : @& at /home/graham/perls/caches/perl-5.18.1/build/Class-Dot-2.0.0_15-3M4Y6Q/blib/lib/Class/Dot/Policy.pm line 292.
Prototype after '@' for Class::Dot::Policy::after_property_set : @& at /home/graham/perls/caches/perl-5.18.1/build/Class-Dot-2.0.0_15-3M4Y6Q/blib/lib/Class/Dot/Policy.pm line 303.
Prototype after '@' for Class::Dot::Policy::to : @; at /home/graham/perls/caches/perl-5.18.1/build/Class-Dot-2.0.0_15-3M4Y6Q/blib/lib/Class/Dot/Policy.pm line 315.
Prototype after '@' for Class::Dot::Policy::using : @; at /home/graham/perls/caches/perl-5.18.1/build/Class-Dot-2.0.0_15-3M4Y6Q/blib/lib/Class/Dot/Policy.pm line 316.
t/020-std_2.x_tests/070-Maybe.t ................................................ ok
defined(@array) is deprecated at /home/graham/perls/perl-5.18.1/lib/site_perl/5.18.1/Class/Plugin/Util.pm line 264.
(Maybe you should just omit the defined()?)
defined(@array) is deprecated at /home/graham/perls/caches/perl-5.18.1/build/Class-Dot-2.0.0_15-3M4Y6Q/blib/lib/Class/Dot/Typemap.pm line 932.
(Maybe you should just omit the defined()?)
t/040-adopted_from_Moose/040-type_constraints/003_util_std_type_constraints.t .. ok
defined(@array) is deprecated at /home/graham/perls/perl-5.18.1/lib/site_perl/5.18.1/Class/Plugin/Util.pm line 264.
(Maybe you should just omit the defined()?)
defined(@array) is deprecated at /home/graham/perls/caches/perl-5.18.1/build/Class-Dot-2.0.0_15-3M4Y6Q/blib/lib/Class/Dot/Typemap.pm line 932.
(Maybe you should just omit the defined()?)
t/040-adopted_from_Moose/040-type_constraints/004_util_find_type_constraint.t .. ok
All tests successful.
Files=16, Tests=736, 2 wallclock secs ( 0.17 usr 0.04 sys + 1.69 cusr 0.17 csys = 2.07 CPU)
Result: PASS
------------------------------
PREREQUISITES
------------------------------
Prerequisite modules loaded:
requires:
Module Need Have
------------------- ---- -------
! Class::Plugin::Util 0.9 0.009
Params::Util 0.14 1.07
Scalar::Util 1.14 1.35
Test::Exception 0.21 0.32
Test::Simple 0.42 0.99
version 0 0.9904
build_requires:
Module Need Have
------------------- ---- -------
ExtUtils::MakeMaker 0 6.81_03
------------------------------
ENVIRONMENT AND OTHER CONTEXT
------------------------------
Environment variables:
AUTOMATED_TESTING = 1
LANG = en_GB.UTF-8
PATH = /home/graham/perls/perl-5.18.1/bin:/usr/local/sbin:/usr/local/bin:/usr/bin:/usr/bin/vendor_perl:/usr/bin/core_perl
PERL5LIB =
PERL5OPT =
PERL5_CPANPLUS_IS_RUNNING = 12153
PERL5_CPAN_IS_RUNNING = 12153
PERL5_CPAN_IS_RUNNING_IN_RECURSION = 374,12153
PERL_CR_SMOKER_CURRENT = Class-Dot-2.0.0_15
PERL_EXTUTILS_AUTOINSTALL = --defaultdeps
PERL_MM_USE_DEFAULT = 1
SHELL = /bin/bash
TERM = xterm
Perl special variables (and OS-specific diagnostics, for MSWin32):
$^X = /home/graham/perls/perl-5.18.1/bin/perl
$UID/$EUID = 1000 / 1000
$GID = 100 10 95 98 100
$EGID = 100 10 95 98 100
Perl module toolchain versions installed:
Module Have
------------------- --------
CPAN 2.00
CPAN::Meta 2.132830
Cwd 3.40
ExtUtils::CBuilder 0.280212
ExtUtils::Command 1.18
ExtUtils::Install 1.59
ExtUtils::MakeMaker 6.81_03
ExtUtils::Manifest 1.63
ExtUtils::ParseXS 3.22
File::Spec 3.40
JSON 2.61
JSON::PP 2.27203
Module::Build 0.4003
Module::Signature 0.73
Parse::CPAN::Meta 1.4409
Test::Harness 3.29
Test::More 0.99
YAML 0.84
YAML::Syck 1.27
version 0.9904
--
Summary of my perl5 (revision 5 version 18 subversion 1) configuration:
Platform:
osname=linux, osvers=3.11.4-1-arch, archname=x86_64-linux
uname='linux grosics 3.11.4-1-arch #1 smp preempt sat oct 5 21:22:51 cest 2013 x86_64 gnulinux '
config_args=''
hint=recommended, useposix=true, d_sigaction=define
useithreads=undef, usemultiplicity=undef
useperlio=define, d_sfio=undef, uselargefiles=define, usesocks=undef
use64bitint=define, use64bitall=define, uselongdouble=undef
usemymalloc=n, bincompat5005=undef
Compiler:
cc='cc', ccflags ='-fno-strict-aliasing -pipe -fstack-protector -I/usr/local/include -D_LARGEFILE_SOURCE -D_FILE_OFFSET_BITS=64',
optimize='-O2',
cppflags='-fno-strict-aliasing -pipe -fstack-protector -I/usr/local/include'
ccversion='', gccversion='4.8.1 20130725 (prerelease)', gccosandvers=''
intsize=4, longsize=8, ptrsize=8, doublesize=8, byteorder=12345678
d_longlong=define, longlongsize=8, d_longdbl=define, longdblsize=16
ivtype='long', ivsize=8, nvtype='double', nvsize=8, Off_t='off_t', lseeksize=8
alignbytes=8, prototype=define
Linker and Libraries:
ld='cc', ldflags =' -fstack-protector -L/usr/local/lib'
libpth=/usr/local/lib /lib/../lib /usr/lib/../lib /lib /usr/lib /lib64 /usr/lib64
libs=-lnsl -lgdbm -ldb -ldl -lm -lcrypt -lutil -lc -lgdbm_compat
perllibs=-lnsl -ldl -lm -lcrypt -lutil -lc
libc=/lib/libc-2.18.so, so=so, useshrplib=false, libperl=libperl.a
gnulibc_version='2.18'
Dynamic Linking:
dlsrc=dl_dlopen.xs, dlext=so, d_dlsymun=undef, ccdlflags='-Wl,-E'
cccdlflags='-fPIC', lddlflags='-shared -O2 -L/usr/local/lib -fstack-protector'
Characteristics of this binary (from libperl):
Compile-time options: HAS_TIMES PERLIO_LAYERS PERL_DONT_CREATE_GVSV
PERL_HASH_FUNC_ONE_AT_A_TIME_HARD PERL_MALLOC_WRAP
PERL_PRESERVE_IVUV PERL_SAWAMPERSAND USE_64_BIT_ALL
USE_64_BIT_INT USE_LARGE_FILES USE_LOCALE
USE_LOCALE_COLLATE USE_LOCALE_CTYPE
USE_LOCALE_NUMERIC USE_PERLIO USE_PERL_ATOF
Built under linux
Compiled at Oct 11 2013 10:49:28
%ENV:
PERL5LIB=""
PERL5OPT=""
PERL5_CPANPLUS_IS_RUNNING="12153"
PERL5_CPAN_IS_RUNNING="12153"
PERL5_CPAN_IS_RUNNING_IN_RECURSION="374,12153"
PERL_CR_SMOKER_CURRENT="Class-Dot-2.0.0_15"
PERL_EXTUTILS_AUTOINSTALL="--defaultdeps"
PERL_MM_USE_DEFAULT="1"
@INC:
/home/graham/perls/perl-5.18.1/lib/site_perl/5.18.1/x86_64-linux
/home/graham/perls/perl-5.18.1/lib/site_perl/5.18.1
/home/graham/perls/perl-5.18.1/lib/5.18.1/x86_64-linux
/home/graham/perls/perl-5.18.1/lib/5.18.1
.