Devel-Chitin v0.22 Perl 5 v5.22.1 amd64-freebsd

Status
Pass
From
Slaven Rezić
Dist
Devel-Chitin v0.22
Platform
Perl 5 v5.22.1 amd64-freebsd
Date
2022-12-10 22:14:04
ID
f5073f70-78d7-11ed-9cc3-13e16d8775ea
This distribution has been tested as part of the CPAN Testers
project, supporting the Perl programming language.  See
http://wiki.cpantesters.org/ for more information or email
questions to cpan-testers-discuss@perl.org


--
Dear Anthony Brummett,

This is a computer-generated report for Devel-Chitin-0.22
on perl 5.22.1, created by CPAN-Reporter-1.2018.

Thank you for uploading your work to CPAN.  Congratulations!
All tests were successful.

Sections of this report:

    * Tester comments
    * Program output
    * Prerequisites
    * Environment and other context

------------------------------
TESTER COMMENTS
------------------------------

Additional comments from tester:

none provided

------------------------------
PROGRAM OUTPUT
------------------------------

Output from '/usr/bin/make test':

PERL_DL_NONLAZY=1 "/usr/perl5.22.1p/bin/perl" "-MExtUtils::Command::MM" "-MTest::Harness" "-e" "undef *Test::Harness::Switches; test_harness(0, 'blib/lib', 'blib/arch')" t/*.t
t/00-use.t ......................... ok
t/01-attach-detach.t ............... ok
t/02-step-lvalue.t ................. ok
t/02-step.t ........................ ok
t/02-stepout-catch-return.t ........ ok
t/02-stepout-lvalue.t .............. ok
t/02-stepout.t ..................... ok
t/02-stepover-exception.t .......... ok
t/02-stepover-goto-label.t ......... ok
t/02-stepover-goto-sub.t ........... ok
t/02-stepover-lvalue-exception.t ... ok
t/02-stepover-lvalue-goto-label.t .. ok
t/02-stepover-lvalue.t ............. ok
t/02-stepover.t .................... ok
t/03-continue-end.t ................ ok
t/03-continue-to.t ................. ok
t/04-breakpoint-once.t ............. ok
t/04-breakpoint.t .................. ok
t/04-change-breakpoint-code.t ...... ok
t/04-conditional-breakpoint.t ...... ok
t/04-delete-breakpoint.t ........... ok
t/05-location-callsite.t ........... ok
t/05-location.t .................... ok
t/06-action.t ...................... ok
t/07-stack.t ....................... ok
t/08-trace.t ....................... ok
t/09-disable-debugger.t ............ ok
t/10-loaded_files.t ................ ok
t/11-postponed.t ................... ok
t/12-eval.t ........................ ok
t/13-fork.t ........................ ok
untrapped at t/14-step-in-uncaught-exception.t line 9.
t/14-step-in-uncaught-exception.t .. ok
untrapped at t/14-uncaught-exception.t line 11.
t/14-uncaught-exception.t .......... ok
t/15-subroutine-location.t ......... ok
t/16-user-requested-exit.t ......... ok
t/17-db-event-loop.t ............... ok
t/18-getvar-at-level.t ............. ok
t/19-watch-expr.t .................. ok
t/20-optree-construction.t ......... ok
each on reference is experimental at (eval 373) line 4.
each on reference is experimental at (eval 373) line 7.
keys on reference is experimental at (eval 374) line 4.
keys on reference is experimental at (eval 374) line 7.
pop on reference is experimental at (eval 375) line 5.
push on reference is experimental at (eval 376) line 5.
shift on reference is experimental at (eval 377) line 5.
splice on reference is experimental at (eval 378) line 6.
unshift on reference is experimental at (eval 380) line 5.
values on reference is experimental at (eval 381) line 4.
values on reference is experimental at (eval 381) line 7.
t/20-optree-deparse.t .............. ok
t/21-deparse-trace-anon-sub.t ...... ok
t/21-deparse-trace-fib.t ........... ok
t/21-deparse-trace-statements.t .... ok
t/22-sub-name-bug.t ................ ok
All tests successful.
Files=44, Tests=344,  7 wallclock secs ( 0.11 usr  0.09 sys +  3.57 cusr  2.70 csys =  6.48 CPU)
Result: PASS

------------------------------
PREREQUISITES
------------------------------

Prerequisite modules loaded:

requires:

    Module                Need     Have    
    --------------------- -------- --------
    B                     0        1.58    
    base                  0        2.22    
    Carp                  0        1.50    
    constant              0        1.33    
    Devel::Callsite       0        1.0.1   
    Digest::MD5           0        2.58    
    Exporter              0        5.74    
    Fcntl                 0        1.13    
    IO::File              0        1.48    
    PadWalker             0        2.5     
    perl                  5.008009 5.022001
    POSIX                 0        1.53_01 
    Scalar::Util          0        1.63    
    Socket                0        2.032   
    strict                0        1.09    
    warnings              0        1.34    

build_requires:

    Module                Need     Have    
    --------------------- -------- --------
    ExtUtils::MakeMaker   0        7.64    
    File::Basename        0        2.85    
    lib                   0        0.63    
    List::Util            1.45     1.63    
    Sub::Name             0        0.26    
    Test2::API            1.302136 1.302191
    Test2::IPC            0        1.302191
    Test2::Require::Fork  0        0.000145
    Test2::Tools::Basic   0        0.000145
    Test2::Tools::Subtest 0        0.000145
    Test2::V0             0        0.000145
    Test::Builder         0        1.302191
    Test::More            0        1.302191

configure_requires:

    Module                Need     Have    
    --------------------- -------- --------
    ExtUtils::MakeMaker   0        7.64    


------------------------------
ENVIRONMENT AND OTHER CONTEXT
------------------------------

Environment variables:

    LC_ALL = de_DE.ISO8859-1
    PATH = /usr/local/bin:/usr/bin:/bin:/usr/local/sbin:/usr/sbin:/sbin:/home/cpansand/bin/freebsd10.3:/home/cpansand/bin/sh:/home/cpansand/bin:/usr/games:/home/cpansand/devel:/home/eserte/src/srezic-misc/scripts
    PERL5LIB = 
    PERL5OPT = 
    PERL5_CPANPLUS_IS_RUNNING = 2587
    PERL5_CPAN_IS_RUNNING = 2587
    PERL5_CPAN_IS_RUNNING_IN_RECURSION = 67747,2587
    PERLDOC = -MPod::Perldoc::ToTextOverstrike
    PERL_BATCH = yes
    PERL_CANARY_STABILITY_NOPROMPT = 1
    PERL_CPAN_REPORTER_CONFIG = /var/tmp/cpansmoker-1023/2022121020/cpanreporter_001_config.ini
    PERL_EXTUTILS_AUTOINSTALL = --defaultdeps
    PERL_USE_UNSAFE_INC = 1
    SHELL = /usr/local/bin/zsh
    TERM = screen
    TMPDIR = /var/tmp/cpansmoker-1023/2022121020

Perl special variables (and OS-specific diagnostics, for MSWin32):

    $^X = /usr/perl5.22.1p/bin/perl
    $UID/$EUID = 1023 / 1023
    $GID = 1023 1023
    $EGID = 1023 1023

Perl module toolchain versions installed:

    Module              Have    
    ------------------- --------
    CPAN                2.34    
    CPAN::Meta          2.150010
    Cwd                 3.75    
    ExtUtils::CBuilder  0.280235
    ExtUtils::Command   7.64    
    ExtUtils::Install   2.20    
    ExtUtils::MakeMaker 7.64    
    ExtUtils::Manifest  1.70    
    ExtUtils::ParseXS   3.35    
    File::Spec          3.75    
    JSON                4.10    
    JSON::PP            4.12    
    Module::Build       0.4229  
    Module::Signature   0.87    
    Parse::CPAN::Meta   2.150010
    Test::Harness       3.44    
    Test::More          1.302191
    YAML                1.30    
    YAML::Syck          1.34    
    version             0.9929  


--

Summary of my perl5 (revision 5 version 22 subversion 1) configuration:
   
  Platform:
    osname=freebsd, osvers=10.1-release, archname=amd64-freebsd
    uname='freebsd cvrsnica-freebsd-101.herceg.de 10.1-release freebsd 10.1-release #0 r274401: tue nov 11 21:02:49 utc 2014 root@releng1.nyi.freebsd.org:usrobjusrsrcsysgeneric amd64 '
    config_args='-ds -e -Dprefix=/usr/perl5.22.1p -Dcf_email=srezic@cpan.org'
    hint=recommended, useposix=true, d_sigaction=define
    useithreads=undef, usemultiplicity=undef
    use64bitint=define, use64bitall=define, uselongdouble=undef
    usemymalloc=n, bincompat5005=undef
  Compiler:
    cc='cc', ccflags ='-DHAS_FPSETMASK -DHAS_FLOATINGPOINT_H -fno-strict-aliasing -pipe -fstack-protector -I/usr/local/include -D_FORTIFY_SOURCE=2',
    optimize='-O',
    cppflags='-DHAS_FPSETMASK -DHAS_FLOATINGPOINT_H -fno-strict-aliasing -pipe -fstack-protector -I/usr/local/include'
    ccversion='', gccversion='4.2.1 Compatible FreeBSD Clang 3.4.1 (tags/RELEASE_34/dot1-final 208032)', gccosandvers=''
    intsize=4, longsize=8, ptrsize=8, doublesize=8, byteorder=12345678, doublekind=3
    d_longlong=define, longlongsize=8, d_longdbl=define, longdblsize=16, longdblkind=3
    ivtype='long', ivsize=8, nvtype='double', nvsize=8, Off_t='off_t', lseeksize=8
    alignbytes=8, prototype=define
  Linker and Libraries:
    ld='cc', ldflags ='-pthread -Wl,-E  -fstack-protector -L/usr/local/lib'
    libpth=/usr/lib /usr/local/lib /usr/include/clang/3.4.1 /usr/lib
    libs=-lpthread -lgdbm -lm -lcrypt -lutil -lc
    perllibs=-lpthread -lm -lcrypt -lutil -lc
    libc=, so=so, useshrplib=false, libperl=libperl.a
    gnulibc_version=''
  Dynamic Linking:
    dlsrc=dl_dlopen.xs, dlext=so, d_dlsymun=undef, ccdlflags=' '
    cccdlflags='-DPIC -fPIC', lddlflags='-shared  -L/usr/local/lib -fstack-protector'


Characteristics of this binary (from libperl): 
  Compile-time options: HAS_TIMES PERLIO_LAYERS PERL_DONT_CREATE_GVSV
                        PERL_HASH_FUNC_ONE_AT_A_TIME_HARD PERL_MALLOC_WRAP
                        PERL_NEW_COPY_ON_WRITE PERL_PRESERVE_IVUV
                        USE_64_BIT_ALL USE_64_BIT_INT USE_LARGE_FILES
                        USE_LOCALE USE_LOCALE_COLLATE USE_LOCALE_CTYPE
                        USE_LOCALE_NUMERIC USE_LOCALE_TIME USE_PERLIO
                        USE_PERL_ATOF
  Built under freebsd
  Compiled at Dec 15 2015 07:47:22
  %ENV:
    PERL5LIB=""
    PERL5OPT=""
    PERL5_CPANPLUS_IS_RUNNING="2587"
    PERL5_CPAN_IS_RUNNING="2587"
    PERL5_CPAN_IS_RUNNING_IN_RECURSION="67747,2587"
    PERLDOC="-MPod::Perldoc::ToTextOverstrike"
    PERL_BATCH="yes"
    PERL_CANARY_STABILITY_NOPROMPT="1"
    PERL_CPAN_REPORTER_CONFIG="/var/tmp/cpansmoker-1023/2022121020/cpanreporter_001_config.ini"
    PERL_EXTUTILS_AUTOINSTALL="--defaultdeps"
    PERL_USE_UNSAFE_INC="1"
  @INC:
    /usr/perl5.22.1p/lib/site_perl/5.22.1/amd64-freebsd
    /usr/perl5.22.1p/lib/site_perl/5.22.1
    /usr/perl5.22.1p/lib/5.22.1/amd64-freebsd
    /usr/perl5.22.1p/lib/5.22.1
    .