File-ByLine v1.181990 Perl 5 v5.24.2 aarch64-linux-thread-multi

Status
Pass
From
Nigel Horne
Dist
File-ByLine v1.181990
Platform
Perl 5 v5.24.2 aarch64-linux-thread-multi
Date
2018-07-24 20:27:16
ID
f50d9b36-8f7f-11e8-a59c-2f8b454c6bdc
This distribution has been tested as part of the CPAN Testers
project, supporting the Perl programming language.  See
http://wiki.cpantesters.org/ for more information or email
questions to cpan-testers-discuss@perl.org


--
Dear Joelle Maslak,

This is a computer-generated report for File-ByLine-1.181990
on perl 5.24.2, created by CPAN-Reporter-1.2018.

Thank you for uploading your work to CPAN.  Congratulations!
All tests were successful.

Sections of this report:

    * Tester comments
    * Program output
    * Prerequisites
    * Environment and other context

------------------------------
TESTER COMMENTS
------------------------------

Additional comments from tester:

this report is from an automated smoke testing program
and was not reviewed by a human for accuracy

------------------------------
PROGRAM OUTPUT
------------------------------

Output from '/usr/bin/make test':

PERL_DL_NONLAZY=1 "/home/njh/perl5/perlbrew/perls/perl-5.24.2/bin/perl5.24.2" "-MExtUtils::Command::MM" "-MTest::Harness" "-e" "undef *Test::Harness::Switches; test_harness(0, 'blib/lib', 'blib/arch')" t/*.t
t/00-load.t ...................... ok
t/02-Parallel.t .................. skipped: Module 'Parallel::WorkUnit' is not installed
# 
# Versions for all modules listed in MYMETA.json (including optional ones):
# 
# === Configure Requires ===
# 
#     Module              Want Have
#     ------------------- ---- ----
#     ExtUtils::MakeMaker  any 7.30
# 
# === Build Requires ===
# 
#     Module              Want Have
#     ------------------- ---- ----
#     Test::UseAllModules 0.17 0.17
# 
# === Test Requires ===
# 
#     Module                 Want     Have
#     ---------------------- ---- --------
#     ExtUtils::MakeMaker     any     7.30
#     File::Spec              any  3.63_01
#     File::Temp              any   0.2304
#     Test2::Require::Module  any 0.000115
#     Test2::V0               any 0.000115
#     Test::More              any 1.302136
#     Test::UseAllModules    0.17     0.17
#     overload                any     1.26
# 
# === Test Recommends ===
# 
#     Module         Want     Have
#     ---------- -------- --------
#     CPAN::Meta 2.120900 2.150005
# 
# === Runtime Requires ===
# 
#     Module       Want Have
#     ------------ ---- ----
#     Carp          any 1.40
#     Exporter      any 5.72
#     Fcntl         any 1.13
#     Scalar::Util  any 1.48
#     autodie       any 2.29
#     strict        any 1.11
#     warnings      any 1.36
# 
# === Runtime Recommends ===
# 
#     Module                 Want    Have
#     ------------------ -------- -------
#     Parallel::WorkUnit 2.181850 missing
# 
t/00-report-prereqs.t ............ ok
t/01-Basic.t ..................... ok
t/author-critic.t ................ skipped: these tests are for testing by the author
t/author-eol.t ................... skipped: these tests are for testing by the author
t/author-no-tabs.t ............... skipped: these tests are for testing by the author
t/03-construction.t .............. ok
t/author-pod-syntax.t ............ skipped: these tests are for testing by the author
t/author-test-version.t .......... skipped: these tests are for testing by the author
t/release-changes_has_content.t .. skipped: these tests are for release candidate testing
t/release-kwalitee.t ............. skipped: these tests are for release candidate testing
t/release-trailing-space.t ....... skipped: these tests are for release candidate testing
t/release-unused-vars.t .......... skipped: these tests are for release candidate testing
t/04-attributes.t ................ ok
t/20-github-0005.t ............... ok
All tests successful.
Files=16, Tests=50,  2 wallclock secs ( 0.33 usr  0.06 sys +  4.49 cusr  0.73 csys =  5.61 CPU)
Result: PASS

------------------------------
PREREQUISITES
------------------------------

Prerequisite modules loaded:

requires:

    Module                 Need     Have    
    ---------------------- -------- --------
    autodie                0        2.29    
    Carp                   0        1.40    
    Exporter               0        5.72    
    Fcntl                  0        1.13    
    perl                   5.010000 5.024002
    Scalar::Util           0        1.48    
    strict                 0        1.11    
    warnings               0        1.36    

build_requires:

    Module                 Need     Have    
    ---------------------- -------- --------
    ExtUtils::MakeMaker    0        7.30    
    File::Spec             0        3.63_01 
    File::Temp             0        0.2304  
    overload               0        1.26    
    Test2::Require::Module 0        0.000115
    Test2::V0              0        0.000115
    Test::More             0        1.302136
    Test::UseAllModules    0.17     0.17    

configure_requires:

    Module                 Need     Have    
    ---------------------- -------- --------
    ExtUtils::MakeMaker    0        7.30    


------------------------------
ENVIRONMENT AND OTHER CONTEXT
------------------------------

Environment variables:

    AUTOMATED_TESTING = 1
    HARNESS_OPTIONS = j4
    LANG = en_US.UTF-8
    LANGUAGE = en_US.UTF-8
    LC_ALL = en_US.UTF-8
    PATH = /home/njh/perl5/perlbrew/bin:/home/njh/perl5/perlbrew/perls/perl-5.24.2/bin:/home/njh/src/njh/smoker/bin:/usr/bin:/bin
    PERL5LIB = /home/njh/.cpan/build/Thread-Queue-3.13-0/blib/arch:/home/njh/.cpan/build/Thread-Queue-3.13-0/blib/lib:/home/njh/.cpan/build/Devel-Callsite-1.0.1-0/blib/arch:/home/njh/.cpan/build/Devel-Callsite-1.0.1-0/blib/lib:/home/njh/.cpan/build/Git-Wrapper-0.048_090-0/blib/arch:/home/njh/.cpan/build/Git-Wrapper-0.048_090-0/blib/lib:/home/njh/.cpan/build/IPC-Run3-0.048-0/blib/arch:/home/njh/.cpan/build/IPC-Run3-0.048-0/blib/lib:/home/njh/.cpan/build/Devel-CheckBin-0.04-0/blib/arch:/home/njh/.cpan/build/Devel-CheckBin-0.04-0/blib/lib:/home/njh/.cpan/build/URI-Fast-0.38_03-0/blib/arch:/home/njh/.cpan/build/URI-Fast-0.38_03-0/blib/lib:/home/njh/.cpan/build/Unicode-LineBreak-2018.003-0/blib/arch:/home/njh/.cpan/build/Unicode-LineBreak-2018.003-0/blib/lib:/home/njh/.cpan/build/MIME-Charset-1.012.2-0/blib/arch:/home/njh/.cpan/build/MIME-Charset-1.012.2-0/blib/lib:/home/njh/.cpan/build/URI-Encode-XS-0.11-0/blib/arch:/home/njh/.cpan/build/URI-Encode-XS-0.11-0/blib/lib:/home/njh/.cpan/build/Test2-Suite-0.000115-0/blib/arch:/home/njh/.cpan/build/Test2-Suite-0.000115-0/blib/lib
    PERL5OPT = 
    PERL5_CPANPLUS_IS_RUNNING = 17030
    PERL5_CPAN_IS_RUNNING = 17030
    PERLBREW_HOME = /home/njh/.perlbrew
    PERLBREW_MANPATH = /home/njh/perl5/perlbrew/perls/perl-5.24.2/man
    PERLBREW_PATH = /home/njh/perl5/perlbrew/bin:/home/njh/perl5/perlbrew/perls/perl-5.24.2/bin
    PERLBREW_PERL = perl-5.24.2
    PERLBREW_ROOT = /home/njh/perl5/perlbrew
    PERLBREW_SHELLRC_VERSION = 0.83
    PERLBREW_VERSION = 0.83
    SHELL = /bin/sh
    TMPDIR = /tmp/testwrapper.17018

Perl special variables (and OS-specific diagnostics, for MSWin32):

    $^X = /home/njh/perl5/perlbrew/perls/perl-5.24.2/bin/perl5.24.2
    $UID/$EUID = 1000 / 1000
    $GID = 1000 1000
    $EGID = 1000 1000

Perl module toolchain versions installed:

    Module              Have      
    ------------------- ----------
    CPAN                2.16      
    CPAN::Meta          2.150005  
    Cwd                 3.63_01   
    ExtUtils::CBuilder  0.280225  
    ExtUtils::Command   7.30      
    ExtUtils::Install   2.06      
    ExtUtils::MakeMaker 7.30      
    ExtUtils::Manifest  1.70      
    ExtUtils::ParseXS   3.31      
    File::Spec          3.63_01   
    JSON                2.97001   
    JSON::PP            2.27300_01
    Module::Build       0.4224    
    Module::Signature   n/a       
    Parse::CPAN::Meta   1.4417_001
    Test::Harness       3.36_01   
    Test::More          1.302136  
    YAML                1.26      
    YAML::Syck          1.30      
    version             0.9916    


--

Summary of my perl5 (revision 5 version 24 subversion 2) configuration:
   
  Platform:
    osname=linux, osvers=4.9.23-std-1, archname=aarch64-linux-thread-multi
    uname='linux scaleway 4.9.23-std-1 #1 smp mon apr 24 13:18:14 utc 2017 aarch64 gnulinux '
    config_args='-de -Dprefix=/home/njh/perl5/perlbrew/perls/perl-5.24.2 -Duseithreads -Dusemultiplicity -Dusedevel -Accflags=-O2 -W -Wformat=2 -Wswitch -Wshadow -Wwrite-strings -Wuninitialized -Wall -pipe -fomit-frame-pointer -D_FORTIFY_SOURCE=2 -Wpointer-arith -Wstrict-prototypes -fstack-protector -Wstack-protector -Wextra -Wbad-function-cast -Wcast-align -Wcast-qual -Wdisabled-optimization -Wendif-labels -Wfloat-equal -Wformat-nonliteral -Winline -Wmissing-declarations -Wmissing-prototypes -Wnested-externs -Wpointer-arith -Wundef -Wformat-security -march=armv8-a+crc -Aeval:scriptdir=/home/njh/perl5/perlbrew/perls/perl-5.24.2/bin'
    hint=recommended, useposix=true, d_sigaction=define
    useithreads=define, usemultiplicity=define
    use64bitint=define, use64bitall=define, uselongdouble=undef
    usemymalloc=n, bincompat5005=undef
  Compiler:
    cc='cc', ccflags ='-D_REENTRANT -D_GNU_SOURCE -O2 -W -Wformat=2 -Wswitch -Wshadow -Wwrite-strings -Wuninitialized -Wall -pipe -fomit-frame-pointer -D_FORTIFY_SOURCE=2 -Wpointer-arith -Wstrict-prototypes -fstack-protector -Wstack-protector -Wextra -Wbad-function-cast -Wcast-align -Wcast-qual -Wdisabled-optimization -Wendif-labels -Wfloat-equal -Wformat-nonliteral -Winline -Wmissing-declarations -Wmissing-prototypes -Wnested-externs -Wpointer-arith -Wundef -Wformat-security -march=armv8-a+crc -fwrapv -fno-strict-aliasing -fstack-protector-strong -I/usr/local/include -D_LARGEFILE_SOURCE -D_FILE_OFFSET_BITS=64',
    optimize='-O2',
    cppflags='-D_REENTRANT -D_GNU_SOURCE -O2 -W -Wformat=2 -Wswitch -Wshadow -Wwrite-strings -Wuninitialized -Wall -pipe -fomit-frame-pointer -D_FORTIFY_SOURCE=2 -Wpointer-arith -Wstrict-prototypes -fstack-protector -Wstack-protector -Wextra -Wbad-function-cast -Wcast-align -Wcast-qual -Wdisabled-optimization -Wendif-labels -Wfloat-equal -Wformat-nonliteral -Winline -Wmissing-declarations -Wmissing-prototypes -Wnested-externs -Wpointer-arith -Wundef -Wformat-security -march=armv8-a+crc -fwrapv -fno-strict-aliasing -fstack-protector-strong -I/usr/local/include'
    ccversion='', gccversion='6.3.0 20170516', gccosandvers=''
    intsize=4, longsize=8, ptrsize=8, doublesize=8, byteorder=12345678, doublekind=3
    d_longlong=define, longlongsize=8, d_longdbl=define, longdblsize=16, longdblkind=1
    ivtype='long', ivsize=8, nvtype='double', nvsize=8, Off_t='off_t', lseeksize=8
    alignbytes=8, prototype=define
  Linker and Libraries:
    ld='cc', ldflags =' -fstack-protector-strong -L/usr/local/lib'
    libpth=/usr/local/lib /usr/lib/gcc/aarch64-linux-gnu/6/include-fixed /usr/include/aarch64-linux-gnu /usr/lib /lib/aarch64-linux-gnu /lib/../lib /usr/lib/aarch64-linux-gnu /usr/lib/../lib /lib
    libs=-lpthread -lnsl -lgdbm -ldb -ldl -lm -lcrypt -lutil -lc -lgdbm_compat
    perllibs=-lpthread -lnsl -ldl -lm -lcrypt -lutil -lc
    libc=libc-2.24.so, so=so, useshrplib=false, libperl=libperl.a
    gnulibc_version='2.24'
  Dynamic Linking:
    dlsrc=dl_dlopen.xs, dlext=so, d_dlsymun=undef, ccdlflags='-Wl,-E'
    cccdlflags='-fPIC', lddlflags='-shared -O2 -L/usr/local/lib -fstack-protector-strong'


Characteristics of this binary (from libperl): 
  Compile-time options: HAS_TIMES MULTIPLICITY PERLIO_LAYERS
                        PERL_COPY_ON_WRITE PERL_DONT_CREATE_GVSV
                        PERL_HASH_FUNC_ONE_AT_A_TIME_HARD
                        PERL_IMPLICIT_CONTEXT PERL_MALLOC_WRAP
                        PERL_PRESERVE_IVUV PERL_USE_DEVEL USE_64_BIT_ALL
                        USE_64_BIT_INT USE_ITHREADS USE_LARGE_FILES
                        USE_LOCALE USE_LOCALE_COLLATE USE_LOCALE_CTYPE
                        USE_LOCALE_NUMERIC USE_LOCALE_TIME USE_PERLIO
                        USE_PERL_ATOF USE_REENTRANT_API
  Locally applied patches:
	Devel::PatchPerl 1.48
  Built under linux
  Compiled at Jul 19 2017 11:03:08
  %ENV:
    PERL5LIB="/home/njh/.cpan/build/Thread-Queue-3.13-0/blib/arch:/home/njh/.cpan/build/Thread-Queue-3.13-0/blib/lib:/home/njh/.cpan/build/Devel-Callsite-1.0.1-0/blib/arch:/home/njh/.cpan/build/Devel-Callsite-1.0.1-0/blib/lib:/home/njh/.cpan/build/Git-Wrapper-0.048_090-0/blib/arch:/home/njh/.cpan/build/Git-Wrapper-0.048_090-0/blib/lib:/home/njh/.cpan/build/IPC-Run3-0.048-0/blib/arch:/home/njh/.cpan/build/IPC-Run3-0.048-0/blib/lib:/home/njh/.cpan/build/Devel-CheckBin-0.04-0/blib/arch:/home/njh/.cpan/build/Devel-CheckBin-0.04-0/blib/lib:/home/njh/.cpan/build/URI-Fast-0.38_03-0/blib/arch:/home/njh/.cpan/build/URI-Fast-0.38_03-0/blib/lib:/home/njh/.cpan/build/Unicode-LineBreak-2018.003-0/blib/arch:/home/njh/.cpan/build/Unicode-LineBreak-2018.003-0/blib/lib:/home/njh/.cpan/build/MIME-Charset-1.012.2-0/blib/arch:/home/njh/.cpan/build/MIME-Charset-1.012.2-0/blib/lib:/home/njh/.cpan/build/URI-Encode-XS-0.11-0/blib/arch:/home/njh/.cpan/build/URI-Encode-XS-0.11-0/blib/lib:/home/njh/.cpan/build/Test2-Suite-0.000115-0/blib/arch:/home/njh/.cpan/build/Test2-Suite-0.000115-0/blib/lib"
    PERL5OPT=""
    PERL5_CPANPLUS_IS_RUNNING="17030"
    PERL5_CPAN_IS_RUNNING="17030"
    PERLBREW_HOME="/home/njh/.perlbrew"
    PERLBREW_MANPATH="/home/njh/perl5/perlbrew/perls/perl-5.24.2/man"
    PERLBREW_PATH="/home/njh/perl5/perlbrew/bin:/home/njh/perl5/perlbrew/perls/perl-5.24.2/bin"
    PERLBREW_PERL="perl-5.24.2"
    PERLBREW_ROOT="/home/njh/perl5/perlbrew"
    PERLBREW_SHELLRC_VERSION="0.83"
    PERLBREW_VERSION="0.83"
  @INC:
    /home/njh/.cpan/build/Thread-Queue-3.13-0/blib/arch
    /home/njh/.cpan/build/Thread-Queue-3.13-0/blib/lib
    /home/njh/.cpan/build/Devel-Callsite-1.0.1-0/blib/arch
    /home/njh/.cpan/build/Devel-Callsite-1.0.1-0/blib/lib
    /home/njh/.cpan/build/Git-Wrapper-0.048_090-0/blib/arch
    /home/njh/.cpan/build/Git-Wrapper-0.048_090-0/blib/lib
    /home/njh/.cpan/build/IPC-Run3-0.048-0/blib/arch
    /home/njh/.cpan/build/IPC-Run3-0.048-0/blib/lib
    /home/njh/.cpan/build/Devel-CheckBin-0.04-0/blib/arch
    /home/njh/.cpan/build/Devel-CheckBin-0.04-0/blib/lib
    /home/njh/.cpan/build/URI-Fast-0.38_03-0/blib/arch
    /home/njh/.cpan/build/URI-Fast-0.38_03-0/blib/lib
    /home/njh/.cpan/build/Unicode-LineBreak-2018.003-0/blib/arch
    /home/njh/.cpan/build/Unicode-LineBreak-2018.003-0/blib/lib
    /home/njh/.cpan/build/MIME-Charset-1.012.2-0/blib/arch
    /home/njh/.cpan/build/MIME-Charset-1.012.2-0/blib/lib
    /home/njh/.cpan/build/URI-Encode-XS-0.11-0/blib/arch
    /home/njh/.cpan/build/URI-Encode-XS-0.11-0/blib/lib
    /home/njh/.cpan/build/Test2-Suite-0.000115-0/blib/arch
    /home/njh/.cpan/build/Test2-Suite-0.000115-0/blib/lib
    /home/njh/perl5/perlbrew/perls/perl-5.24.2/lib/site_perl/5.24.2/aarch64-linux-thread-multi
    /home/njh/perl5/perlbrew/perls/perl-5.24.2/lib/site_perl/5.24.2
    /home/njh/perl5/perlbrew/perls/perl-5.24.2/lib/5.24.2/aarch64-linux-thread-multi
    /home/njh/perl5/perlbrew/perls/perl-5.24.2/lib/5.24.2
    .