YAHC v0.035 Perl 5 v5.24.0 x86_64-linux
- Status
- Pass
- From
- Slaven Rezić (SREZIC)
- Dist
-
YAHC v0.035
- Platform
- Perl 5 v5.24.0 x86_64-linux
- Date
- 2017-11-13 22:42:41
- ID
- f5331844-c8c3-11e7-947c-e34f47c913c9
This distribution has been tested as part of the CPAN Testers
project, supporting the Perl programming language. See
http://wiki.cpantesters.org/ for more information or email
questions to cpan-testers-discuss@perl.org
--
Dear Ivan Kruglov,
This is a computer-generated report for YAHC-0.035
on perl 5.24.0, created by CPAN-Reporter-1.2018.
Thank you for uploading your work to CPAN. Congratulations!
All tests were successful.
Sections of this report:
* Tester comments
* Program output
* Prerequisites
* Environment and other context
------------------------------
TESTER COMMENTS
------------------------------
Additional comments from tester:
none provided
------------------------------
PROGRAM OUTPUT
------------------------------
Output from '/usr/bin/make test':
PERL_DL_NONLAZY=1 "/opt/perl-5.24.0/bin/perl5.24.0" "-MExtUtils::Command::MM" "-MTest::Harness" "-e" "undef *Test::Harness::Switches; test_harness(0, 'inc', 'blib/lib', 'blib/arch')" t/*.t
# Perl/v5.24.0
# YAHC/0.035
t/000_compile.t .................... ok
t/005_circular_references_check.t .. ok
t/010_build_http_message.t ......... ok
t/015_parse_http_headers.t ......... ok
t/016_chunked.t .................... ok
t/017_content_length.t ............. ok
t/023_state_connected.t ............ ok
t/024_state_write.t ................ ok
t/025_state_read.t ................. ok
t/100_account_for_signal.t ......... ok
t/110_attempt.t .................... ok
t/120_selected_target.t ............ ok
t/130_yahc_functions.t ............. ok
t/140_yahc_loop.t .................. ok
t/200_live_google.t ................ skipped: Enable live testing by setting env: TEST_LIVE=1
t/210_live_timeout_connected.t ..... skipped: Enable live testing by setting env: TEST_LIVE=1
t/220_live_unixis.t ................ skipped: Enable live testing by setting env: TEST_LIVE=1
t/230_live_requests.t .............. skipped: Enable live testing by setting env: TEST_LIVE=1
t/240_live_socket_cache.t .......... skipped: Enable live testing by setting env: TEST_LIVE=1
t/300_robust.t ..................... skipped: Enable robust testing by setting env: TEST_ROBUST=1
All tests successful.
Files=20, Tests=96, 3 wallclock secs ( 0.04 usr 0.06 sys + 1.29 cusr 0.31 csys = 1.70 CPU)
Result: PASS
------------------------------
PREREQUISITES
------------------------------
Prerequisite modules loaded:
requires:
Module Need Have
----------------------- ---- --------
EV 0 4.22
Fcntl 0 1.13
IO::Socket::SSL 0 2.052
POSIX 0 1.65
Scalar::Util 0 1.49
Socket 0 2.020_03
Time::HiRes 0 1.9746
build_requires:
Module Need Have
----------------------- ---- --------
Data::Dumper 0 2.161
ExtUtils::MakeMaker 6.36 7.30
FindBin 0 1.51
HTTP::Tiny 0 0.070
IO::Socket::INET 0 1.35
JSON 0 2.94
List::Util 0 1.49
Net::Ping 2.41 2.61
Plack 0 1.0044
Plack::Handler::Starman 0 0
Test::Exception 0 0.43
Test::Memory::Cycle 0 1.06
Test::More 0.88 1.302106
Time::HiRes 0 1.9746
configure_requires:
Module Need Have
----------------------- ---- --------
ExtUtils::MakeMaker 6.36 7.30
------------------------------
ENVIRONMENT AND OTHER CONTEXT
------------------------------
Environment variables:
LANG = C
PATH = /usr/local/bin:/usr/bin:/bin:/usr/local/sbin:/usr/sbin:/sbin:/home/cpansand/bin/linux-gnu:/home/cpansand/bin/sh:/home/cpansand/bin:/usr/games:/home/cpansand/devel:/home/eserte/src/srezic-misc/scripts
PERL5LIB = /home/cpansand/.cpan/build/2017111315/Module-Release-2.123_04-3/blib/arch:/home/cpansand/.cpan/build/2017111315/Module-Release-2.123_04-3/blib/lib:/home/cpansand/.cpan/build/2017111315/IO-Null-1.01-3/blib/arch:/home/cpansand/.cpan/build/2017111315/IO-Null-1.01-3/blib/lib:/home/cpansand/.cpan/build/2017111315/ConfigReader-Simple-1.291-3/blib/arch:/home/cpansand/.cpan/build/2017111315/ConfigReader-Simple-1.291-3/blib/lib:/home/cpansand/.cpan/build/2017111315/CACertOrg-CA-20110724.004-3/blib/arch:/home/cpansand/.cpan/build/2017111315/CACertOrg-CA-20110724.004-3/blib/lib
PERL5OPT =
PERL5_CPANPLUS_IS_RUNNING = 7871
PERL5_CPAN_IS_RUNNING = 7871
PERL5_CPAN_IS_RUNNING_IN_RECURSION = 7775,7871
PERLDOC = -MPod::Perldoc::ToTextOverstrike
PERL_BATCH = yes
PERL_CANARY_STABILITY_NOPROMPT = 1
PERL_CPAN_REPORTER_CONFIG = /var/tmp/cpansmoker-1023/2017111315/cpanreporter_000_config.ini
PERL_EXTUTILS_AUTOINSTALL = --defaultdeps
PERL_USE_UNSAFE_INC = 1
SHELL = /usr/bin/zsh
TERM = screen
TMPDIR = /var/tmp/cpansmoker-1023/2017111315
Perl special variables (and OS-specific diagnostics, for MSWin32):
$^X = /opt/perl-5.24.0/bin/perl5.24.0
$UID/$EUID = 1023 / 1023
$GID = 1023 1023
$EGID = 1023 1023
Perl module toolchain versions installed:
Module Have
------------------- --------
CPAN 2.16
CPAN::Meta 2.150010
Cwd 3.63
ExtUtils::CBuilder 0.280226
ExtUtils::Command 7.30
ExtUtils::Install 2.06
ExtUtils::MakeMaker 7.30
ExtUtils::Manifest 1.70
ExtUtils::ParseXS 3.31
File::Spec 3.63
JSON 2.94
JSON::PP 2.94
Module::Build 0.4224
Module::Signature 0.81
Parse::CPAN::Meta 2.150010
Test::Harness 3.39
Test::More 1.302106
YAML 1.24
YAML::Syck 1.30
version 0.9916
--
Summary of my perl5 (revision 5 version 24 subversion 0) configuration:
Platform:
osname=linux, osvers=4.9.0-3-amd64, archname=x86_64-linux
uname='linux debian9 4.9.0-3-amd64 #1 smp debian 4.9.30-2+deb9u1 (2017-06-18) x86_64 gnulinux '
config_args='-ds -e -Dprefix=/opt/perl-5.24.0 -Dcf_email=srezic@cpan.org'
hint=recommended, useposix=true, d_sigaction=define
useithreads=undef, usemultiplicity=undef
use64bitint=define, use64bitall=define, uselongdouble=undef
usemymalloc=n, bincompat5005=undef
Compiler:
cc='cc', ccflags ='-fwrapv -fno-strict-aliasing -pipe -fstack-protector-strong -I/usr/local/include -D_LARGEFILE_SOURCE -D_FILE_OFFSET_BITS=64',
optimize='-O2',
cppflags='-fwrapv -fno-strict-aliasing -pipe -fstack-protector-strong -I/usr/local/include'
ccversion='', gccversion='6.3.0 20170516', gccosandvers=''
intsize=4, longsize=8, ptrsize=8, doublesize=8, byteorder=12345678, doublekind=3
d_longlong=define, longlongsize=8, d_longdbl=define, longdblsize=16, longdblkind=3
ivtype='long', ivsize=8, nvtype='double', nvsize=8, Off_t='off_t', lseeksize=8
alignbytes=8, prototype=define
Linker and Libraries:
ld='cc', ldflags =' -fstack-protector-strong -L/usr/local/lib'
libpth=/usr/local/lib /usr/lib/gcc/x86_64-linux-gnu/6/include-fixed /usr/include/x86_64-linux-gnu /usr/lib /lib/x86_64-linux-gnu /lib/../lib /usr/lib/x86_64-linux-gnu /usr/lib/../lib /lib
libs=-lpthread -lnsl -lgdbm -ldb -ldl -lm -lcrypt -lutil -lc -lgdbm_compat
perllibs=-lpthread -lnsl -ldl -lm -lcrypt -lutil -lc
libc=libc-2.24.so, so=so, useshrplib=false, libperl=libperl.a
gnulibc_version='2.24'
Dynamic Linking:
dlsrc=dl_dlopen.xs, dlext=so, d_dlsymun=undef, ccdlflags='-Wl,-E'
cccdlflags='-fPIC', lddlflags='-shared -O2 -L/usr/local/lib -fstack-protector-strong'
Characteristics of this binary (from libperl):
Compile-time options: HAS_TIMES PERLIO_LAYERS PERL_COPY_ON_WRITE
PERL_DONT_CREATE_GVSV
PERL_HASH_FUNC_ONE_AT_A_TIME_HARD PERL_MALLOC_WRAP
PERL_PRESERVE_IVUV USE_64_BIT_ALL USE_64_BIT_INT
USE_LARGE_FILES USE_LOCALE USE_LOCALE_COLLATE
USE_LOCALE_CTYPE USE_LOCALE_NUMERIC USE_LOCALE_TIME
USE_PERLIO USE_PERL_ATOF
Built under linux
Compiled at Jun 20 2017 18:06:36
%ENV:
PERL5LIB="/home/cpansand/.cpan/build/2017111315/Module-Release-2.123_04-3/blib/arch:/home/cpansand/.cpan/build/2017111315/Module-Release-2.123_04-3/blib/lib:/home/cpansand/.cpan/build/2017111315/IO-Null-1.01-3/blib/arch:/home/cpansand/.cpan/build/2017111315/IO-Null-1.01-3/blib/lib:/home/cpansand/.cpan/build/2017111315/ConfigReader-Simple-1.291-3/blib/arch:/home/cpansand/.cpan/build/2017111315/ConfigReader-Simple-1.291-3/blib/lib:/home/cpansand/.cpan/build/2017111315/CACertOrg-CA-20110724.004-3/blib/arch:/home/cpansand/.cpan/build/2017111315/CACertOrg-CA-20110724.004-3/blib/lib"
PERL5OPT=""
PERL5_CPANPLUS_IS_RUNNING="7871"
PERL5_CPAN_IS_RUNNING="7871"
PERL5_CPAN_IS_RUNNING_IN_RECURSION="7775,7871"
PERLDOC="-MPod::Perldoc::ToTextOverstrike"
PERL_BATCH="yes"
PERL_CANARY_STABILITY_NOPROMPT="1"
PERL_CPAN_REPORTER_CONFIG="/var/tmp/cpansmoker-1023/2017111315/cpanreporter_000_config.ini"
PERL_EXTUTILS_AUTOINSTALL="--defaultdeps"
PERL_USE_UNSAFE_INC="1"
@INC:
/home/cpansand/.cpan/build/2017111315/Module-Release-2.123_04-3/blib/arch
/home/cpansand/.cpan/build/2017111315/Module-Release-2.123_04-3/blib/lib
/home/cpansand/.cpan/build/2017111315/IO-Null-1.01-3/blib/arch
/home/cpansand/.cpan/build/2017111315/IO-Null-1.01-3/blib/lib
/home/cpansand/.cpan/build/2017111315/ConfigReader-Simple-1.291-3/blib/arch
/home/cpansand/.cpan/build/2017111315/ConfigReader-Simple-1.291-3/blib/lib
/home/cpansand/.cpan/build/2017111315/CACertOrg-CA-20110724.004-3/blib/arch
/home/cpansand/.cpan/build/2017111315/CACertOrg-CA-20110724.004-3/blib/lib
/opt/perl-5.24.0/lib/site_perl/5.24.0/x86_64-linux
/opt/perl-5.24.0/lib/site_perl/5.24.0
/opt/perl-5.24.0/lib/5.24.0/x86_64-linux
/opt/perl-5.24.0/lib/5.24.0
.