Back
From: metabase:user:320bfe00-2aae-11df-837a-5e0a49663a4f
Subject: PASS MooseX-Role-BuildInstanceOf-0.08 v5.22.2 RC1 GNU/Linux
Date: 2016-04-11T14:23:27Z
This distribution has been tested as part of the CPAN Testers
project, supporting the Perl programming language. See
http://wiki.cpantesters.org/ for more information or email
questions to cpan-testers-discuss@perl.org
--
Dear John Napiorkowski,
This is a computer-generated report for MooseX-Role-BuildInstanceOf-0.08
on perl 5.22.2, created by CPAN-Reporter-1.2017.
Thank you for uploading your work to CPAN. Congratulations!
All tests were successful.
Sections of this report:
* Tester comments
* Program output
* Prerequisites
* Environment and other context
------------------------------
TESTER COMMENTS
------------------------------
Additional comments from tester:
this report is from an automated smoke testing program
and was not reviewed by a human for accuracy
------------------------------
PROGRAM OUTPUT
------------------------------
Output from '/usr/bin/make test':
PERL_DL_NONLAZY=1 "/tmp/basesmoker-reloperl-Ppis/bin/perl" "-MExtUtils::Command::MM" "-MTest::Harness" "-e" "undef *Test::Harness::Switches; test_harness(0, 'blib/lib', 'blib/arch')" t/*.t
t/01-load.t ............... ok
Class::MOP::load_class is deprecated at /home/sand/src/perl/repoperls/installed-perls/perl/v5.22.2-RC1/79cc/lib/site_perl/5.22.2/x86_64-linux/Class/MOP.pm line 69.
Class::MOP::load_class("Album::Storage::File") called at /tmp/loop_over_bdir-11026-wOsZ0f/MooseX-Role-BuildInstanceOf-0.08-0/blib/lib/MooseX/Role/BuildInstanceOf.pm line 15
MooseX::Role::BuildInstanceOf::__ANON__("Album::Storage::File") called at /home/sand/src/perl/repoperls/installed-perls/perl/v5.22.2-RC1/79cc/lib/site_perl/5.22.2/x86_64-linux/Moose/Meta/TypeCoercion.pm line 65
Moose::Meta::TypeCoercion::__ANON__("Album::Storage::File") called at /home/sand/src/perl/repoperls/installed-perls/perl/v5.22.2-RC1/79cc/lib/site_perl/5.22.2/x86_64-linux/Moose/Meta/TypeCoercion.pm line 100
Moose::Meta::TypeCoercion::coerce(Moose::Meta::TypeCoercion=HASH(0x2fd2090), "Album::Storage::File") called at /home/sand/src/perl/repoperls/installed-perls/perl/v5.22.2-RC1/79cc/lib/site_perl/5.22.2/x86_64-linux/Moose/Meta/TypeConstraint.pm line 145
Moose::Meta::TypeConstraint::coerce(Moose::Meta::TypeConstraint=HASH(0x2dbd660), "Album::Storage::File") called at /home/sand/src/perl/repoperls/installed-perls/perl/v5.22.2-RC1/79cc/lib/site_perl/5.22.2/x86_64-linux/Moose/Meta/Attribute.pm line 1252
Moose::Meta::Attribute::_coerce_and_verify(Moose::Meta::Attribute=HASH(0x3033830), "Album::Storage::File", Album=HASH(0x1ee23d0)) called at /home/sand/src/perl/repoperls/installed-perls/perl/v5.22.2-RC1/79cc/lib/site_perl/5.22.2/x86_64-linux/Moose/Meta/Attribute.pm line 512
Moose::Meta::Attribute::initialize_instance_slot(Moose::Meta::Attribute=HASH(0x3033830), Moose::Meta::Instance=HASH(0x30c0720), Album=HASH(0x1ee23d0), HASH(0x1ef5690)) called at /home/sand/src/perl/repoperls/installed-perls/perl/v5.22.2-RC1/79cc/lib/site_perl/5.22.2/x86_64-linux/Class/MOP/Class.pm line 526
Class::MOP::Class::_construct_instance(Moose::Meta::Class=HASH(0x2daf9a0), HASH(0x1ef5690)) called at /home/sand/src/perl/repoperls/installed-perls/perl/v5.22.2-RC1/79cc/lib/site_perl/5.22.2/x86_64-linux/Class/MOP/Class.pm line 496
Class::MOP::Class::new_object(Moose::Meta::Class=HASH(0x2daf9a0), HASH(0x1ef5690)) called at /home/sand/src/perl/repoperls/installed-perls/perl/v5.22.2-RC1/79cc/lib/site_perl/5.22.2/x86_64-linux/Moose/Meta/Class.pm line 274
Moose::Meta::Class::new_object(Moose::Meta::Class=HASH(0x2daf9a0), HASH(0x1ef5690)) called at /home/sand/src/perl/repoperls/installed-perls/perl/v5.22.2-RC1/79cc/lib/site_perl/5.22.2/x86_64-linux/Moose/Object.pm line 24
Moose::Object::new("Album", "storage_args", ARRAY(0x1ee2160), "storage_class", "Album::Storage::File") called at t/02-basic.t line 9
Class::MOP::load_class is deprecated at /home/sand/src/perl/repoperls/installed-perls/perl/v5.22.2-RC1/79cc/lib/site_perl/5.22.2/x86_64-linux/Class/MOP.pm line 69.
Class::MOP::load_class("Album::Image") called at t/lib/Album/ResourceTypes.pm line 18
Album::ResourceTypes::__ANON__(ARRAY(0x20ddda0)) called at /home/sand/src/perl/repoperls/installed-perls/perl/v5.22.2-RC1/79cc/lib/site_perl/5.22.2/x86_64-linux/Moose/Meta/TypeCoercion.pm line 65
Moose::Meta::TypeCoercion::__ANON__(ARRAY(0x20ddda0)) called at /home/sand/src/perl/repoperls/installed-perls/perl/v5.22.2-RC1/79cc/lib/site_perl/5.22.2/x86_64-linux/Moose/Meta/TypeCoercion.pm line 100
Moose::Meta::TypeCoercion::coerce(Moose::Meta::TypeCoercion=HASH(0x3753800), ARRAY(0x20ddda0)) called at /home/sand/src/perl/repoperls/installed-perls/perl/v5.22.2-RC1/79cc/lib/site_perl/5.22.2/x86_64-linux/Moose/Meta/TypeConstraint.pm line 145
Moose::Meta::TypeConstraint::coerce(Moose::Meta::TypeConstraint::Parameterizable=HASH(0x3755680), ARRAY(0x20ddda0)) called at /home/sand/src/perl/repoperls/installed-perls/perl/v5.22.2-RC1/79cc/lib/site_perl/5.22.2/x86_64-linux/Moose/Meta/Attribute.pm line 1252
Moose::Meta::Attribute::_coerce_and_verify(Moose::Meta::Attribute=HASH(0x3761b08), ARRAY(0x20ddda0), Album::ResourceTypes=HASH(0x20ddd10)) called at /home/sand/src/perl/repoperls/installed-perls/perl/v5.22.2-RC1/79cc/lib/site_perl/5.22.2/x86_64-linux/Moose/Meta/Attribute.pm line 512
Moose::Meta::Attribute::initialize_instance_slot(Moose::Meta::Attribute=HASH(0x3761b08), Moose::Meta::Instance=HASH(0x37682e0), Album::ResourceTypes=HASH(0x20ddd10), HASH(0x34b3070)) called at /home/sand/src/perl/repoperls/installed-perls/perl/v5.22.2-RC1/79cc/lib/site_perl/5.22.2/x86_64-linux/Class/MOP/Class.pm line 526
Class::MOP::Class::_construct_instance(Moose::Meta::Class=HASH(0x36b84d0), HASH(0x34b3070)) called at /home/sand/src/perl/repoperls/installed-perls/perl/v5.22.2-RC1/79cc/lib/site_perl/5.22.2/x86_64-linux/Class/MOP/Class.pm line 496
Class::MOP::Class::new_object(Moose::Meta::Class=HASH(0x36b84d0), HASH(0x34b3070)) called at /home/sand/src/perl/repoperls/installed-perls/perl/v5.22.2-RC1/79cc/lib/site_perl/5.22.2/x86_64-linux/Moose/Meta/Class.pm line 274
Moose::Meta::Class::new_object(Moose::Meta::Class=HASH(0x36b84d0), HASH(0x34b3070)) called at /home/sand/src/perl/repoperls/installed-perls/perl/v5.22.2-RC1/79cc/lib/site_perl/5.22.2/x86_64-linux/Moose/Object.pm line 24
Moose::Object::new("Album::ResourceTypes", "resources", ARRAY(0x20ddda0)) called at /home/sand/src/perl/repoperls/installed-perls/perl/v5.22.2-RC1/79cc/lib/site_perl/5.22.2/x86_64-linux/Moose/Meta/Method/Delegation.pm line 110
Album::create_resource_types(Album=HASH(0x1ee23d0), "resources", ARRAY(0x20ddda0)) called at /tmp/loop_over_bdir-11026-wOsZ0f/MooseX-Role-BuildInstanceOf-0.08-0/blib/lib/MooseX/Role/BuildInstanceOf.pm line 196
Moose::Meta::Role::__ANON__::SERIAL::5::_build_resource_types(Album=HASH(0x1ee23d0)) called at reader Album::resource_types (defined at /tmp/loop_over_bdir-11026-wOsZ0f/MooseX-Role-BuildInstanceOf-0.08-0/blib/lib/MooseX/Role/BuildInstanceOf.pm line 176) line 8
Album::resource_types(Album=HASH(0x1ee23d0)) called at t/02-basic.t line 17
t/02-basic.t .............. ok
Class::MOP::load_class is deprecated at /home/sand/src/perl/repoperls/installed-perls/perl/v5.22.2-RC1/79cc/lib/site_perl/5.22.2/x86_64-linux/Class/MOP.pm line 69.
Class::MOP::load_class("Foo::Bar") called at /tmp/loop_over_bdir-11026-wOsZ0f/MooseX-Role-BuildInstanceOf-0.08-0/blib/lib/MooseX/Role/BuildInstanceOf.pm line 15
MooseX::Role::BuildInstanceOf::__ANON__("Foo::Bar") called at /home/sand/src/perl/repoperls/installed-perls/perl/v5.22.2-RC1/79cc/lib/site_perl/5.22.2/x86_64-linux/Moose/Meta/TypeCoercion.pm line 65
Moose::Meta::TypeCoercion::__ANON__("Foo::Bar") called at reader Foo::bar_class (defined at /tmp/loop_over_bdir-11026-wOsZ0f/MooseX-Role-BuildInstanceOf-0.08-0/blib/lib/MooseX/Role/BuildInstanceOf.pm line 93) line 15
Foo::bar_class(Foo=HASH(0xd76638)) called at /home/sand/src/perl/repoperls/installed-perls/perl/v5.22.2-RC1/79cc/lib/site_perl/5.22.2/x86_64-linux/Moose/Meta/Method/Delegation.pm line 93
Foo::create_bar(Foo=HASH(0xd76638), "thingy", "toaster", "that", "stuff", "parent", Foo=HASH(0xd76638)) called at /tmp/loop_over_bdir-11026-wOsZ0f/MooseX-Role-BuildInstanceOf-0.08-0/blib/lib/MooseX/Role/BuildInstanceOf.pm line 196
Moose::Meta::Role::__ANON__::SERIAL::3::_build_bar(Foo=HASH(0xd76638)) called at reader Foo::bar (defined at /tmp/loop_over_bdir-11026-wOsZ0f/MooseX-Role-BuildInstanceOf-0.08-0/blib/lib/MooseX/Role/BuildInstanceOf.pm line 176) line 8
Foo::bar(Foo=HASH(0xd76638)) called at t/inherit-arguments.t line 15
t/inherit-arguments.t ..... ok
t/release-eol.t ........... skipped: these tests are for release candidate testing
t/release-no-tabs.t ....... skipped: these tests are for release candidate testing
t/release-pod-coverage.t .. skipped: these tests are for release candidate testing
t/release-pod-syntax.t .... skipped: these tests are for release candidate testing
All tests successful.
Files=7, Tests=13, 2 wallclock secs ( 0.03 usr 0.05 sys + 1.11 cusr 0.14 csys = 1.33 CPU)
Result: PASS
------------------------------
PREREQUISITES
------------------------------
Prerequisite modules loaded:
requires:
Module Need Have
---------------------------- ---- --------
Moose::Util::TypeConstraints 0 2.1605
MooseX::Role::Parameterized 0.13 1.08
build_requires:
Module Need Have
---------------------------- ---- --------
Class::MOP 0 2.1605
List::MoreUtils 0 0.413
List::Util 0 1.45
Moose 0 2.1605
Moose::Role 0 2.1605
MooseX::Iterator 0 0.11
MooseX::Types::Path::Class 0 0.08
Perl6::Junction 0 1.60000
Scalar::Util 0 1.45
strict 0 1.09
Test::More 0 1.001014
warnings 0 1.34
configure_requires:
Module Need Have
---------------------------- ---- --------
ExtUtils::MakeMaker 6.30 7.10
------------------------------
ENVIRONMENT AND OTHER CONTEXT
------------------------------
Environment variables:
AUTOMATED_TESTING = 1
LANG = en_US.UTF-8
LANGUAGE = en_US:en
PATH = /usr/lib/ccache:/home/sand/bin:/usr/local/bin:/usr/bin:/bin:/usr/games:/usr/local/perl/bin:/usr/X11/bin:/sbin:/usr/sbin
PERL5LIB = /tmp/loop_over_bdir-11026-wOsZ0f/FusionInventory-Agent-2.3.17-0/blib/arch:/tmp/loop_over_bdir-11026-wOsZ0f/FusionInventory-Agent-2.3.17-0/blib/lib:/tmp/loop_over_bdir-11026-wOsZ0f/Alien-ActiveMQ-0.00005-0/blib/arch:/tmp/loop_over_bdir-11026-wOsZ0f/Alien-ActiveMQ-0.00005-0/blib/lib
PERL5OPT =
PERL5_CPANPLUS_IS_RUNNING = 2986
PERL5_CPAN_IS_RUNNING = 2986
PERL_CANARY_STABILITY_NOPROMPT = 1
PERL_MM_USE_DEFAULT = 1
SHELL = /usr/bin/zsh
TERM = screen
Perl special variables (and OS-specific diagnostics, for MSWin32):
$^X = /tmp/basesmoker-reloperl-Ppis/bin/perl
$UID/$EUID = 1005 / 1005
$GID = 1005 1005
$EGID = 1005 1005
Perl module toolchain versions installed:
Module Have
------------------- --------
CPAN 2.12
CPAN::Meta 2.150005
Cwd 3.62
ExtUtils::CBuilder 0.280224
ExtUtils::Command 7.10
ExtUtils::Install 2.04
ExtUtils::MakeMaker 7.10
ExtUtils::Manifest 1.70
ExtUtils::ParseXS 3.28
File::Spec 3.62
JSON 2.90
JSON::PP 2.27300
Module::Build 0.4216
Module::Signature 0.79
Parse::CPAN::Meta 1.4417
Test::Harness 3.36
Test::More 1.001014
YAML 1.15
YAML::Syck 1.29
version 0.9916
--
Summary of my perl5 (revision 5 version 22 subversion 2) configuration:
Commit id: 1b027307a936ccbc52a7291729dae1c16f10576a
Platform:
osname=linux, osvers=4.3.0-1-amd64, archname=x86_64-linux
uname='linux k83 4.3.0-1-amd64 #1 smp debian 4.3.3-7 (2016-01-19) x86_64 gnulinux '
config_args='-Dprefix=/home/sand/src/perl/repoperls/installed-perls/perl/v5.22.2-RC1/79cc -Dmyhostname=k83 -Dinstallusrbinperl=n -Uversiononly -Dusedevel -des -Ui_db -Dlibswanted=cl pthread socket inet nsl gdbm dbm malloc dl ld sun m crypt sec util c cposix posix ucb BSD gdbm_compat -Uuseithreads -Uuselongdouble -DDEBUGGING=-g'
hint=recommended, useposix=true, d_sigaction=define
useithreads=undef, usemultiplicity=undef
use64bitint=define, use64bitall=define, uselongdouble=undef
usemymalloc=n, bincompat5005=undef
Compiler:
cc='cc', ccflags ='-fwrapv -fno-strict-aliasing -pipe -fstack-protector-strong -I/usr/local/include -D_LARGEFILE_SOURCE -D_FILE_OFFSET_BITS=64 -D_FORTIFY_SOURCE=2',
optimize='-O2 -g',
cppflags='-fwrapv -fno-strict-aliasing -pipe -fstack-protector-strong -I/usr/local/include'
ccversion='', gccversion='5.3.1 20160121', gccosandvers=''
intsize=4, longsize=8, ptrsize=8, doublesize=8, byteorder=12345678, doublekind=3
d_longlong=define, longlongsize=8, d_longdbl=define, longdblsize=16, longdblkind=3
ivtype='long', ivsize=8, nvtype='double', nvsize=8, Off_t='off_t', lseeksize=8
alignbytes=8, prototype=define
Linker and Libraries:
ld='cc', ldflags =' -fstack-protector-strong -L/usr/local/lib'
libpth=/usr/local/lib /usr/lib/gcc/x86_64-linux-gnu/5/include-fixed /usr/include/x86_64-linux-gnu /usr/lib /lib/x86_64-linux-gnu /lib/../lib /usr/lib/x86_64-linux-gnu /usr/lib/../lib /lib
libs=-lpthread -lnsl -lgdbm -ldl -lm -lcrypt -lutil -lc -lgdbm_compat
perllibs=-lpthread -lnsl -ldl -lm -lcrypt -lutil -lc
libc=libc-2.21.so, so=so, useshrplib=false, libperl=libperl.a
gnulibc_version='2.21'
Dynamic Linking:
dlsrc=dl_dlopen.xs, dlext=so, d_dlsymun=undef, ccdlflags='-Wl,-E'
cccdlflags='-fPIC', lddlflags='-shared -O2 -g -L/usr/local/lib -fstack-protector-strong'
Characteristics of this binary (from libperl):
Compile-time options: HAS_TIMES PERLIO_LAYERS PERL_DONT_CREATE_GVSV
PERL_HASH_FUNC_ONE_AT_A_TIME_HARD PERL_MALLOC_WRAP
PERL_NEW_COPY_ON_WRITE PERL_PRESERVE_IVUV
PERL_USE_DEVEL USE_64_BIT_ALL USE_64_BIT_INT
USE_LARGE_FILES USE_LOCALE USE_LOCALE_COLLATE
USE_LOCALE_CTYPE USE_LOCALE_NUMERIC USE_LOCALE_TIME
USE_PERLIO USE_PERL_ATOF
Locally applied patches:
RC1
Built under linux
Compiled at Apr 10 2016 20:21:20
%ENV:
PERL5LIB="/tmp/loop_over_bdir-11026-wOsZ0f/FusionInventory-Agent-2.3.17-0/blib/arch:/tmp/loop_over_bdir-11026-wOsZ0f/FusionInventory-Agent-2.3.17-0/blib/lib:/tmp/loop_over_bdir-11026-wOsZ0f/Alien-ActiveMQ-0.00005-0/blib/arch:/tmp/loop_over_bdir-11026-wOsZ0f/Alien-ActiveMQ-0.00005-0/blib/lib"
PERL5OPT=""
PERL5_CPANPLUS_IS_RUNNING="2986"
PERL5_CPAN_IS_RUNNING="2986"
PERL_CANARY_STABILITY_NOPROMPT="1"
PERL_MM_USE_DEFAULT="1"
@INC:
/tmp/loop_over_bdir-11026-wOsZ0f/FusionInventory-Agent-2.3.17-0/blib/arch
/tmp/loop_over_bdir-11026-wOsZ0f/FusionInventory-Agent-2.3.17-0/blib/lib
/tmp/loop_over_bdir-11026-wOsZ0f/Alien-ActiveMQ-0.00005-0/blib/arch
/tmp/loop_over_bdir-11026-wOsZ0f/Alien-ActiveMQ-0.00005-0/blib/lib
/home/sand/src/perl/repoperls/installed-perls/perl/v5.22.2-RC1/79cc/lib/site_perl/5.22.2/x86_64-linux
/home/sand/src/perl/repoperls/installed-perls/perl/v5.22.2-RC1/79cc/lib/site_perl/5.22.2
/home/sand/src/perl/repoperls/installed-perls/perl/v5.22.2-RC1/79cc/lib/5.22.2/x86_64-linux
/home/sand/src/perl/repoperls/installed-perls/perl/v5.22.2-RC1/79cc/lib/5.22.2
.