Data-Handle v1.000001 Perl 5 v5.26.2 x86_64-linux-ld

Status
Pass
From
Andreas J. König (ANDK)
Dist
Data-Handle v1.000001
Platform
Perl 5 v5.26.2 x86_64-linux-ld
Date
2019-08-07 17:51:18
ID
f5512d06-b93b-11e9-a6c3-de22b1e94104
This distribution has been tested as part of the CPAN Testers
project, supporting the Perl programming language.  See
http://wiki.cpantesters.org/ for more information or email
questions to cpan-testers-discuss@perl.org


--
Dear Kent Fredric,

This is a computer-generated report for Data-Handle-1.000001
on perl 5.26.2, created by CPAN-Reporter-1.2018.

Thank you for uploading your work to CPAN.  Congratulations!
All tests were successful.

Sections of this report:

    * Tester comments
    * Program output
    * Prerequisites
    * Environment and other context

------------------------------
TESTER COMMENTS
------------------------------

Additional comments from tester:

this report is from an automated smoke testing program
and was not reviewed by a human for accuracy

------------------------------
PROGRAM OUTPUT
------------------------------

Output from '/usr/bin/make test':

PERL_DL_NONLAZY=1 "/home/sand/src/perl/repoperls/installed-perls/host/k93msid/v5.26.2/af11/bin/perl" "-MExtUtils::Command::MM" "-MTest::Harness" "-e" "undef *Test::Harness::Switches; test_harness(0, 'blib/lib', 'blib/arch')" t/*.t t/00-compile/*.t t/alternative_techniques/*.t
t/00-compile/lib_Data_Handle_Exception_pm.t .... ok
t/00-compile/lib_Data_Handle_IO_pm.t ........... ok
t/00-compile/lib_Data_Handle_pm.t .............. ok
# 
# Versions for all modules listed in MYMETA.json (including optional ones):
# 
# === Configure Requires ===
# 
#     Module              Want    Have
#     ------------------- ---- -------
#     ExtUtils::MakeMaker  any 7.37_02
# 
# === Configure Recommends ===
# 
#     Module              Want    Have
#     ------------------- ---- -------
#     ExtUtils::MakeMaker 7.00 7.37_02
# 
# === Build Requires ===
# 
#     Module              Want    Have
#     ------------------- ---- -------
#     ExtUtils::MakeMaker  any 7.37_02
# 
# === Test Requires ===
# 
#     Module              Want     Have
#     ------------------- ---- --------
#     Data::Dumper         any    2.173
#     ExtUtils::MakeMaker  any  7.37_02
#     File::Spec           any     3.75
#     IO::Handle           any     1.39
#     Test::Fatal          any    0.014
#     Test::More           any 1.302164
#     lib                  any     0.64
# 
# === Test Recommends ===
# 
#     Module                  Want     Have
#     ------------------- -------- --------
#     CPAN::Meta          2.120900 2.150010
#     ExtUtils::MakeMaker     7.00  7.37_02
#     Test::More              0.99 1.302164
# 
# === Runtime Requires ===
# 
#     Module          Want  Have
#     --------------- ---- -----
#     Carp            1.22  1.42
#     IO::File         any  1.39
#     Package::Stash  0.15  0.37
#     Scalar::Util     any  1.50
#     Symbol           any  1.08
#     Term::ANSIColor  any  4.06
#     Try::Tiny        any  0.30
#     overload         any  1.28
#     parent           any 0.236
#     strict           any  1.11
#     warnings         any  1.37
# 
t/00-report-prereqs.t .......................... ok
# 
# 
# ** This is an example Exception, isn't it pretty?
# 
# Data_Not_There has no DATA symbol
# 
# Exception 'Data::Handle::Exception::NoSymbol' thrown at /tmp/loop_over_bdir-17614-wlQe0k/Data-Handle-1.000001-0/blib/lib/Data/Handle.pm line 118
#  2.  Data::Handle::new("Data::Handle", "Data_Not_There") called at t/01_lowlevel.t line 26
#  3.  main::__ANON__() called at /home/sand/src/perl/repoperls/installed-perls/host/k93msid/v5.26.2/af11/lib/site_perl/5.26.2/Test/Fatal.pm line 129
#  4.  Test::Fatal::try {...} () called at /home/sand/src/perl/repoperls/installed-perls/host/k93msid/v5.26.2/af11/lib/site_perl/5.26.2/Try/Tiny.pm line 100
#  5.  eval {...} called at /home/sand/src/perl/repoperls/installed-perls/host/k93msid/v5.26.2/af11/lib/site_perl/5.26.2/Try/Tiny.pm line 93
#  6.  Try::Tiny::try(CODE(0x55f43fd02a60), Try::Tiny::Catch=REF(0x55f43fd02fd0)) called at /home/sand/src/perl/repoperls/installed-perls/host/k93msid/v5.26.2/af11/lib/site_perl/5.26.2/Test/Fatal.pm line 136
#  7.  Test::Fatal::exception(CODE(0x55f43f03f550)) called at t/01_lowlevel.t line 29
# 
t/01_lowlevel.t ................................ ok
t/02_example.t ................................. ok
t/03_mess_with_seek.t .......................... ok
t/04_things_that_fail.t ........................ ok
t/alternative_techniques/03_fdup_test.t ........ skipped: Example alternative technique that doesn't work
t/alternative_techniques/03_fdup_test_cowns.t .. skipped: Example alternative technique that doesn't work
t/alternative_techniques/04_fopen.t ............ skipped: Example alternative technique that doesn't work
t/alternative_techniques/05_new_from_fd.t ...... skipped: Example alternative technique that doesn't work
All tests successful.
Files=12, Tests=162,  3 wallclock secs ( 0.03 usr  0.07 sys +  0.89 cusr  0.27 csys =  1.26 CPU)
Result: PASS

------------------------------
PREREQUISITES
------------------------------

Prerequisite modules loaded:

requires:

    Module              Need  Have    
    ------------------- ----- --------
    Carp                1.22  1.42    
    IO::File            0     1.39    
    overload            0     1.28    
    Package::Stash      0.15  0.37    
    parent              0     0.236   
    perl                5.008 5.026002
    Scalar::Util        0     1.50    
    strict              0     1.11    
    Symbol              0     1.08    
    Term::ANSIColor     0     4.06    
    Try::Tiny           0     0.30    
    warnings            0     1.37    

build_requires:

    Module              Need  Have    
    ------------------- ----- --------
    Data::Dumper        0     2.173   
    ExtUtils::MakeMaker 0     7.37_02 
    File::Spec          0     3.75    
    IO::Handle          0     1.39    
    lib                 0     0.64    
    Test::Fatal         0     0.014   
    Test::More          0     1.302164

configure_requires:

    Module              Need  Have    
    ------------------- ----- --------
    ExtUtils::MakeMaker 0     7.37_02 
    perl                5.008 5.026002


------------------------------
ENVIRONMENT AND OTHER CONTEXT
------------------------------

Environment variables:

    AUTOMATED_TESTING = 1
    LANG = en_US.UTF-8
    PATH = /home/sand/bin:/usr/local/bin:/usr/bin:/bin:/usr/games:/usr/local/perl/bin:/usr/X11/bin:/sbin:/usr/sbin
    PERL5LIB = 
    PERL5OPT = 
    PERL5_CPANPLUS_IS_RUNNING = 17619
    PERL5_CPAN_IS_RUNNING = 17619
    PERL_CANARY_STABILITY_NOPROMPT = 1
    PERL_MM_USE_DEFAULT = 1
    PERL_USE_UNSAFE_INC = 1
    SHELL = /usr/bin/zsh
    TERM = screen

Perl special variables (and OS-specific diagnostics, for MSWin32):

    $^X = /home/sand/src/perl/repoperls/installed-perls/host/k93msid/v5.26.2/af11/bin/perl
    $UID/$EUID = 1005 / 1005
    $GID = 1005 1005
    $EGID = 1005 1005

Perl module toolchain versions installed:

    Module              Have    
    ------------------- --------
    CPAN                2.27    
    CPAN::Meta          2.150010
    Cwd                 3.75    
    ExtUtils::CBuilder  0.280231
    ExtUtils::Command   7.37_02 
    ExtUtils::Install   2.06    
    ExtUtils::MakeMaker 7.37_02 
    ExtUtils::Manifest  1.70    
    ExtUtils::ParseXS   3.35    
    File::Spec          3.75    
    JSON                4.00    
    JSON::PP            4.01    
    Module::Build       0.42_30 
    Module::Signature   0.83    
    Parse::CPAN::Meta   2.150010
    Test::Harness       3.42    
    Test::More          1.302164
    YAML                1.29    
    YAML::Syck          1.31    
    version             0.9924  


--

Summary of my perl5 (revision 5 version 26 subversion 2) configuration:
  Commit id: c5b1997939178730653db9e80f90cd53d722fe8d
  Platform:
    osname=linux
    osvers=4.18.0-2-amd64
    archname=x86_64-linux-ld
    uname='linux k93msid 4.18.0-2-amd64 #1 smp debian 4.18.10-2 (2018-10-07) x86_64 gnulinux '
    config_args='-Dprefix=/home/sand/src/perl/repoperls/installed-perls/host/k93msid/v5.26.2/af11 -Dmyhostname=k93msid -Dinstallusrbinperl=n -Uversiononly -Dusedevel -des -Ui_db -Dlibswanted=cl pthread socket inet nsl gdbm dbm malloc dl ld sun m crypt sec util c cposix posix ucb BSD gdbm_compat -Uuseithreads -Duselongdouble -DEBUGGING=-g'
    hint=recommended
    useposix=true
    d_sigaction=define
    useithreads=undef
    usemultiplicity=undef
    use64bitint=define
    use64bitall=define
    uselongdouble=define
    usemymalloc=n
    default_inc_excludes_dot=define
    bincompat5005=undef
  Compiler:
    cc='cc'
    ccflags ='-fwrapv -fno-strict-aliasing -pipe -fstack-protector-strong -I/usr/local/include -D_LARGEFILE_SOURCE -D_FILE_OFFSET_BITS=64'
    optimize='-O2 -g'
    cppflags='-fwrapv -fno-strict-aliasing -pipe -fstack-protector-strong -I/usr/local/include'
    ccversion=''
    gccversion='8.2.0'
    gccosandvers=''
    intsize=4
    longsize=8
    ptrsize=8
    doublesize=8
    byteorder=12345678
    doublekind=3
    d_longlong=define
    longlongsize=8
    d_longdbl=define
    longdblsize=16
    longdblkind=3
    ivtype='long'
    ivsize=8
    nvtype='long double'
    nvsize=16
    Off_t='off_t'
    lseeksize=8
    alignbytes=16
    prototype=define
  Linker and Libraries:
    ld='cc'
    ldflags =' -fstack-protector-strong -L/usr/local/lib'
    libpth=/usr/local/lib /usr/lib/gcc/x86_64-linux-gnu/8/include-fixed /usr/include/x86_64-linux-gnu /usr/lib /lib/x86_64-linux-gnu /lib/../lib /usr/lib/x86_64-linux-gnu /usr/lib/../lib /lib
    libs=-lpthread -lnsl -ldl -lm -lcrypt -lutil -lc
    perllibs=-lpthread -lnsl -ldl -lm -lcrypt -lutil -lc
    libc=libc-2.27.so
    so=so
    useshrplib=false
    libperl=libperl.a
    gnulibc_version='2.27'
  Dynamic Linking:
    dlsrc=dl_dlopen.xs
    dlext=so
    d_dlsymun=undef
    ccdlflags='-Wl,-E'
    cccdlflags='-fPIC'
    lddlflags='-shared -O2 -g -L/usr/local/lib -fstack-protector-strong'


Characteristics of this binary (from libperl): 
  Compile-time options:
    HAS_TIMES
    PERLIO_LAYERS
    PERL_COPY_ON_WRITE
    PERL_DONT_CREATE_GVSV
    PERL_MALLOC_WRAP
    PERL_OP_PARENT
    PERL_PRESERVE_IVUV
    PERL_USE_DEVEL
    USE_64_BIT_ALL
    USE_64_BIT_INT
    USE_LARGE_FILES
    USE_LOCALE
    USE_LOCALE_COLLATE
    USE_LOCALE_CTYPE
    USE_LOCALE_NUMERIC
    USE_LOCALE_TIME
    USE_LONG_DOUBLE
    USE_PERLIO
    USE_PERL_ATOF
  Built under linux
  Compiled at Oct 28 2018 09:45:22
  %ENV:
    PERL5LIB=""
    PERL5OPT=""
    PERL5_CPANPLUS_IS_RUNNING="17619"
    PERL5_CPAN_IS_RUNNING="17619"
    PERL_CANARY_STABILITY_NOPROMPT="1"
    PERL_MM_USE_DEFAULT="1"
    PERL_USE_UNSAFE_INC="1"
  @INC:
    /home/sand/src/perl/repoperls/installed-perls/host/k93msid/v5.26.2/af11/lib/site_perl/5.26.2/x86_64-linux-ld
    /home/sand/src/perl/repoperls/installed-perls/host/k93msid/v5.26.2/af11/lib/site_perl/5.26.2
    /home/sand/src/perl/repoperls/installed-perls/host/k93msid/v5.26.2/af11/lib/5.26.2/x86_64-linux-ld
    /home/sand/src/perl/repoperls/installed-perls/host/k93msid/v5.26.2/af11/lib/5.26.2
    .