Report for PadWalker-1.98

Back
From: metabase:user:553c21ce-8d47-11df-9de5-e28c4c42590d
Subject: PASS PadWalker-1.98 v5.18.2 GNU/Linux
Date: 2014-01-14T23:02:36Z

This distribution has been tested as part of the CPAN Testers
project, supporting the Perl programming language.  See
http://wiki.cpantesters.org/ for more information or email
questions to cpan-testers-discuss@perl.org


--
Dear ROBIN,

This is a computer-generated report for PadWalker-1.98
on perl 5.18.2, created by App::cpanminus::reporter 0.10 (1.7001).

Thank you for uploading your work to CPAN.  Congratulations!
All tests were successful.

Sections of this report:

    * Tester comments
    * Program output
    * Prerequisites
    * Environment and other context

------------------------------
TESTER COMMENTS
------------------------------

Additional comments from tester:

none provided

------------------------------
PROGRAM OUTPUT
------------------------------

Output from '':

Building and testing PadWalker-1.98
/home/ioan/perl5/perlbrew/perls/perl-5.18.2/bin/perl /home/ioan/perl5/perlbrew/perls/perl-5.18.2/lib/5.18.2/ExtUtils/xsubpp  -typemap /home/ioan/perl5/perlbrew/perls/perl-5.18.2/lib/5.18.2/ExtUtils/typemap  PadWalker.xs > PadWalker.xsc && mv PadWalker.xsc PadWalker.c
Running Mkbootstrap for PadWalker ()
chmod 644 PadWalker.bs
cp PadWalker.bs blib/arch/auto/PadWalker/PadWalker.bs
chmod 644 blib/arch/auto/PadWalker/PadWalker.bs
cp PadWalker.pm blib/lib/PadWalker.pm
clang -c   -fno-strict-aliasing -pipe -fstack-protector -I/usr/local/include -D_LARGEFILE_SOURCE -D_FILE_OFFSET_BITS=64 -O2   -DVERSION=\"1.98\" -DXS_VERSION=\"1.98\" -fPIC "-I/home/ioan/perl5/perlbrew/perls/perl-5.18.2/lib/5.18.2/x86_64-linux/CORE"   PadWalker.c
rm -f blib/arch/auto/PadWalker/PadWalker.so
clang  -shared -O2 -L/usr/local/lib -fstack-protector PadWalker.o  -o blib/arch/auto/PadWalker/PadWalker.so 	\
	     	\
	  
chmod 755 blib/arch/auto/PadWalker/PadWalker.so
PERL_DL_NONLAZY=1 /home/ioan/perl5/perlbrew/perls/perl-5.18.2/bin/perl "-MExtUtils::Command::MM" "-e" "test_harness(0, 'blib/lib', 'blib/arch')" t/*.t
t/dm.t ........ ok
t/closure.t ... ok
t/our.t ....... ok
t/recurse.t ... ok
t/foo.t ....... ok
t/sub.t ....... ok
t/test.t ...... ok
t/tt.t ........ ok
t/var_name.t .. ok
All tests successful.
Files=9, Tests=81,  0 wallclock secs ( 0.05 usr  0.00 sys +  0.07 cusr  0.01 csys =  0.13 CPU)
Result: PASS

------------------------------
PREREQUISITES
------------------------------

Prerequisite modules loaded:

    No requirements found

------------------------------
ENVIRONMENT AND OTHER CONTEXT
------------------------------

Environment variables:

    LANG = en_GB.UTF-8
    LC_MEASUREMENT = en_GB.utf8
    LC_MONETARY = en_GB.utf8
    LC_NUMERIC = en_GB.utf8
    LC_PAPER = en_GB.utf8
    LC_TIME = en_GB.utf8
    PATH = /home/ioan/perl5/perlbrew/bin:/home/ioan/bin:/usr/local/bin:/usr/bin:/bin:/usr/local/games:/usr/games:/sbin:/usr/sbin
    PERLBREW_FISH_VERSION = 0.67
    PERLBREW_ROOT = /home/ioan/perl5/perlbrew
    PERL_CPANM_OPT = --prompt --no-man-pages --verify --mirror http://cpan.arcticnetwork.ca --mirror http://mirrors.gossamer-threads.com/CPAN/
    SHELL = /usr/bin/fish
    TERM = xterm

Perl special variables (and OS-specific diagnostics, for MSWin32):

    EGID = 1001 27 110 120 121 996 997 998 999 1001
    EUID = 1001
    EXECUTABLE_NAME = /home/ioan/perl5/perlbrew/perls/perl-5.18.2/bin/perl
    GID = 1001 27 110 120 121 996 997 998 999 1001
    UID = 1001

Perl module toolchain versions installed:

    Module              Have    
    ------------------- --------
    CPAN                2.00    
    CPAN::Meta          2.133380
    Cwd                 3.40    
    ExtUtils::CBuilder  0.280210
    ExtUtils::Command   1.17    
    ExtUtils::Install   1.59    
    ExtUtils::MakeMaker 6.66    
    ExtUtils::Manifest  1.63    
    ExtUtils::ParseXS   3.18    
    File::Spec          3.40    
    JSON                2.90    
    JSON::PP            2.27202 
    Module::Build       0.4204  
    Module::Signature   0.73    
    Parse::CPAN::Meta   1.4404  
    Test::Harness       3.30    
    Test::More          1.001002
    YAML                0.88    
    YAML::Syck          n/a     
    version             0.9902  


--

Summary of my perl5 (revision 5 version 18 subversion 2) configuration:
   
  Platform:
    osname=linux, osvers=3.12-1-amd64, archname=x86_64-linux
    uname='linux zeratul 3.12-1-amd64 #1 smp debian 3.12.6-2 (2013-12-29) x86_64 gnulinux '
    config_args='-de -Dprefix=/home/ioan/perl5/perlbrew/perls/perl-5.18.2 -Dman1dir=none -Dman3dir=none -Dcc=clang -Aeval:scriptdir=/home/ioan/perl5/perlbrew/perls/perl-5.18.2/bin'
    hint=recommended, useposix=true, d_sigaction=define
    useithreads=undef, usemultiplicity=undef
    useperlio=define, d_sfio=undef, uselargefiles=define, usesocks=undef
    use64bitint=define, use64bitall=define, uselongdouble=undef
    usemymalloc=n, bincompat5005=undef
  Compiler:
    cc='clang', ccflags ='-fno-strict-aliasing -pipe -fstack-protector -I/usr/local/include -D_LARGEFILE_SOURCE -D_FILE_OFFSET_BITS=64',
    optimize='-O2',
    cppflags='-fno-strict-aliasing -pipe -fstack-protector -I/usr/local/include'
    ccversion='', gccversion='4.2.1 Compatible Debian Clang 3.5 (trunk)', gccosandvers=''
    intsize=4, longsize=8, ptrsize=8, doublesize=8, byteorder=12345678
    d_longlong=define, longlongsize=8, d_longdbl=define, longdblsize=16
    ivtype='long', ivsize=8, nvtype='double', nvsize=8, Off_t='off_t', lseeksize=8
    alignbytes=8, prototype=define
  Linker and Libraries:
    ld='clang', ldflags =' -fstack-protector -L/usr/local/lib'
    libpth=/usr/local/lib /lib/x86_64-linux-gnu /lib/../lib /usr/lib/x86_64-linux-gnu /usr/lib/../lib /lib /usr/lib
    libs=-lnsl -ldl -lm -lcrypt -lutil -lc
    perllibs=-lnsl -ldl -lm -lcrypt -lutil -lc
    libc=, so=so, useshrplib=false, libperl=libperl.a
    gnulibc_version='2.17'
  Dynamic Linking:
    dlsrc=dl_dlopen.xs, dlext=so, d_dlsymun=undef, ccdlflags='-Wl,-E'
    cccdlflags='-fPIC', lddlflags='-shared -O2 -L/usr/local/lib -fstack-protector'


Characteristics of this binary (from libperl): 
  Compile-time options: HAS_TIMES PERLIO_LAYERS PERL_DONT_CREATE_GVSV
                        PERL_HASH_FUNC_ONE_AT_A_TIME_HARD PERL_MALLOC_WRAP
                        PERL_PRESERVE_IVUV PERL_SAWAMPERSAND USE_64_BIT_ALL
                        USE_64_BIT_INT USE_LARGE_FILES USE_LOCALE
                        USE_LOCALE_COLLATE USE_LOCALE_CTYPE
                        USE_LOCALE_NUMERIC USE_PERLIO USE_PERL_ATOF
  Built under linux
  Compiled at Jan 13 2014 15:58:40
  %ENV:
    PERLBREW_FISH_VERSION="0.67"
    PERLBREW_ROOT="/home/ioan/perl5/perlbrew"
    PERL_CPANM_OPT="--prompt --no-man-pages --verify --mirror http://cpan.arcticnetwork.ca --mirror http://mirrors.gossamer-threads.com/CPAN/"
  @INC:
    /home/ioan/perl5/perlbrew/perls/perl-5.18.2/lib/site_perl/5.18.2/x86_64-linux
    /home/ioan/perl5/perlbrew/perls/perl-5.18.2/lib/site_perl/5.18.2
    /home/ioan/perl5/perlbrew/perls/perl-5.18.2/lib/5.18.2/x86_64-linux
    /home/ioan/perl5/perlbrew/perls/perl-5.18.2/lib/5.18.2
    .