Report for Bio-Das-ProServer-2.20

Back
From: metabase:user:30977d10-2aae-11df-837a-5e0a49663a4f
Subject: PASS Bio-Das-ProServer-2.20 v5.8.9 GNU/Linux
Date: 2011-08-05T12:53:47Z

This distribution has been tested as part of the CPAN Testers
project, supporting the Perl programming language.  See
http://wiki.cpantesters.org/ for more information or email
questions to cpan-testers-discuss@perl.org


--
Dear Roger Pettett,

This is a computer-generated report for Bio-Das-ProServer-2.20
on perl 5.8.9, created by CPAN-Reporter-1.1902.

Thank you for uploading your work to CPAN.  Congratulations!
All tests were successful.

Sections of this report:

    * Tester comments
    * Program output
    * Prerequisites
    * Environment and other context

------------------------------
TESTER COMMENTS
------------------------------

Additional comments from tester:

this report is from an automated smoke testing program
and was not reviewed by a human for accuracy

------------------------------
PROGRAM OUTPUT
------------------------------

Output from './Build test':

t/00-pod.t ................ ok
t/05-config.t ............. ok
t/10-sourceadaptor.t ...... ok
t/11-transport-dbi.t ...... ok
t/11-transport-file.t ..... ok
t/11-transport-generic.t .. ok
t/11-transport-oracle.t ... skipped: Oracle transport requires DBI and DBD::Oracle modules
t/11-transport-sif.t ...... ok
t/15-escaping.t ........... ok
t/16-targets.t ............ ok
t/21-features-parents.t ... ok
t/21-features-versions.t .. ok
t/21-features.t ........... ok
t/25-alignment-columns.t .. ok
t/25-alignment.t .......... ok
t/26-interaction.t ........ ok
t/27-volmap.t ............. ok
t/32-auth-ip.t ............ ok
t/33-auth-http.t .......... ok
t/critic.t ................ skipped: Author test.  Set the TEST_AUTHOR environment variable to a true value to run.
t/distribution.t .......... skipped: Author test.  Set the TEST_AUTHOR environment variable to a true value to run.
All tests successful.
Files=21, Tests=161,  2 wallclock secs ( 0.08 usr  0.02 sys +  1.24 cusr  0.20 csys =  1.54 CPU)
Result: PASS

------------------------------
PREREQUISITES
------------------------------

Prerequisite modules loaded:

requires:

    Module                    Need   Have  
    ------------------------- ------ ------
    CGI                       3.29   3.55  
    Compress::Zlib            2.005  2.037 
    Config::IniFiles          2.32   2.68  
    File::Spec                3.25   3.33  
    Getopt::Long              2.34   2.3802
    HTML::Entities            1.27   3.68  
    HTTP::Date                1.47   6.00  
    HTTP::Request             1.40   6.00  
    HTTP::Response            1.53   6.01  
    POE                       0.9999 1.312 
    POE::Filter::HTTPD        1.2188 1.312 
    POE::Wheel::ReadWrite     1.2199 1.312 
    POE::Wheel::SocketFactory 1.2194 1.312 
    POSIX                     1.08   1.15  
    Readonly                  1.03   1.03  
    Socket                    1.77   1.81  
    Sys::Hostname             1.11   1.11  

build_requires:

    Module                    Need   Have  
    ------------------------- ------ ------
    Test::More                0      0.98  

configure_requires:

    Module                    Need   Have  
    ------------------------- ------ ------
    Module::Build             0.36   0.3800


------------------------------
ENVIRONMENT AND OTHER CONTEXT
------------------------------

Environment variables:

    AUTOMATED_TESTING = 1
    LANG = en_US.UTF-8
    LANGUAGE = en
    LC_COLLATE = C
    LC_MONETARY = C
    LC_NUMERIC = C
    LC_TIME = C
    PATH = /usr/local/sbin:/usr/local/bin:/usr/sbin:/usr/bin:/sbin:/bin
    PERL5LIB = 
    PERL5OPT = 
    PERL5_CPANPLUS_IS_RUNNING = 27365
    PERL5_CPAN_IS_RUNNING = 27365
    PERL5_CPAN_IS_RUNNING_IN_RECURSION = 2491,27365
    PERL_CR_SMOKER_CURRENT = Bio-Das-ProServer-2.20
    PERL_EXTUTILS_AUTOINSTALL = --defaultdeps
    PERL_MM_USE_DEFAULT = 1
    SHELL = /bin/bash
    TERM = xterm

Perl special variables (and OS-specific diagnostics, for MSWin32):

    $^X = /home/trushel/perl/perl589/bin/perl
    $UID/$EUID = 138375 / 138375
    $GID = 5762 4 20 21 24 25 26 30 44 46 104 105 119 122 431 5762
    $EGID = 5762 4 20 21 24 25 26 30 44 46 104 105 119 122 431 5762

Perl module toolchain versions installed:

    Module              Have    
    ------------------- --------
    CPAN                1.97_51 
    Cwd                 3.33    
    ExtUtils::CBuilder  0.280202
    ExtUtils::Command   1.16    
    ExtUtils::Install   1.54    
    ExtUtils::MakeMaker 6.58    
    ExtUtils::Manifest  1.58    
    ExtUtils::ParseXS   2.2206  
    File::Spec          3.33    
    Module::Build       0.3800  
    Module::Signature   n/a     
    Test::Harness       3.23    
    Test::More          0.98    
    YAML                0.73    
    YAML::Syck          1.17    
    version             0.93    


--

Summary of my perl5 (revision 5 version 8 subversion 9) configuration:
  Platform:
    osname=linux, osvers=2.6.32-33-generic, archname=x86_64-linux
    uname='linux trushel-glaptop 2.6.32-33-generic #70-ubuntu smp thu jul 7 21:13:52 utc 2011 x86_64 gnulinux '
    config_args=''
    hint=recommended, useposix=true, d_sigaction=define
    usethreads=undef use5005threads=undef useithreads=undef usemultiplicity=undef
    useperlio=define d_sfio=undef uselargefiles=define usesocks=undef
    use64bitint=define use64bitall=define uselongdouble=undef
    usemymalloc=n, bincompat5005=undef
  Compiler:
    cc='cc', ccflags ='-fno-strict-aliasing -pipe -I/usr/local/include -D_LARGEFILE_SOURCE -D_FILE_OFFSET_BITS=64',
    optimize='-O2',
    cppflags='-fno-strict-aliasing -pipe -I/usr/local/include'
    ccversion='', gccversion='4.4.3', gccosandvers=''
    intsize=4, longsize=8, ptrsize=8, doublesize=8, byteorder=12345678
    d_longlong=define, longlongsize=8, d_longdbl=define, longdblsize=16
    ivtype='long', ivsize=8, nvtype='double', nvsize=8, Off_t='off_t', lseeksize=8
    alignbytes=8, prototype=define
  Linker and Libraries:
    ld='cc', ldflags =' -L/usr/local/lib'
    libpth=/usr/local/lib /lib /usr/lib /lib64 /usr/lib64
    libs=-lnsl -ldb -ldl -lm -lcrypt -lutil -lc
    perllibs=-lnsl -ldl -lm -lcrypt -lutil -lc
    libc=/lib/libc-2.11.1.so, so=so, useshrplib=false, libperl=libperl.a
    gnulibc_version='2.11.1'
  Dynamic Linking:
    dlsrc=dl_dlopen.xs, dlext=so, d_dlsymun=undef, ccdlflags='-Wl,-E'
    cccdlflags='-fPIC', lddlflags='-shared -O2 -L/usr/local/lib'


Characteristics of this binary (from libperl): 
  Compile-time options: PERL_MALLOC_WRAP USE_64_BIT_ALL USE_64_BIT_INT
                        USE_FAST_STDIO USE_LARGE_FILES USE_PERLIO
  Built under linux
  Compiled at Aug  1 2011 06:12:45
  %ENV:
    PERL5LIB=""
    PERL5OPT=""
    PERL5_CPANPLUS_IS_RUNNING="27365"
    PERL5_CPAN_IS_RUNNING="27365"
    PERL5_CPAN_IS_RUNNING_IN_RECURSION="2491,27365"
    PERL_CR_SMOKER_CURRENT="Bio-Das-ProServer-2.20"
    PERL_EXTUTILS_AUTOINSTALL="--defaultdeps"
    PERL_MM_USE_DEFAULT="1"
  @INC:
    /home/trushel/perl/perl589/lib/5.8.9/x86_64-linux
    /home/trushel/perl/perl589/lib/5.8.9
    /home/trushel/perl/perl589/lib/site_perl/5.8.9/x86_64-linux
    /home/trushel/perl/perl589/lib/site_perl/5.8.9
    .