Report for WWW-Curl-Simple-0.100191

Back
From: metabase:user:30f4dfbe-2aae-11df-837a-5e0a49663a4f
Subject: PASS WWW-Curl-Simple-0.100191 v5.8.7 Mac OS X
Date: 2016-05-15T07:52:23Z

This distribution has been tested as part of the CPAN Testers
project, supporting the Perl programming language.  See
http://wiki.cpantesters.org/ for more information or email
questions to cpan-testers-discuss@perl.org


--
Dear Andreas Marienborg,

This is a computer-generated report for WWW-Curl-Simple-0.100191
on perl 5.8.7, created by CPAN-Reporter-1.2017.

Thank you for uploading your work to CPAN.  Congratulations!
All tests were successful.

Sections of this report:

    * Tester comments
    * Program output
    * Prerequisites
    * Environment and other context

------------------------------
TESTER COMMENTS
------------------------------

Additional comments from tester:

this report is from an automated smoke testing program
and was not reviewed by a human for accuracy

------------------------------
PROGRAM OUTPUT
------------------------------

Output from '/sw/bin/make test':

PERL_DL_NONLAZY=1 "/Users/hornenj/perl5/perlbrew/perls/perl-5.8.7/bin/perl" "-MExtUtils::Command::MM" "-MTest::Harness" "-e" "undef *Test::Harness::Switches; test_harness(0, 'blib/lib', 'blib/arch')" t/*.t
t/00-compile.t ................... ok
# Testing WWW::Curl::Simple 0.100191, Perl 5.008007, /Users/hornenj/perl5/perlbrew/perls/perl-5.8.7/bin/perl
t/00.load.t ...................... ok
# 
# 
# Generated by Dist::Zilla::Plugin::ReportVersions::Tiny v1.10
# perl: 5.008007 (wanted any version) on darwin from /Users/hornenj/perl5/perlbrew/perls/perl-5.8.7/bin/perl
# 
# Carp                                          => 1.38       (want any version)
# ExtUtils::MakeMaker                           => 7.1        (want 6.30)   
# File::Spec                                    => 3.62       (want any version)
# HTTP::Request                                 => 6.11       (want any version)
# HTTP::Response                                => 6.11       (want any version)
# IO::Handle                                    => 1.28       (want any version)
# IPC::Open3                                    => 1.0106     (want any version)
# Moose                                         => 2.1605     (want any version)
# Scalar::Util                                  => 1.41       (want any version)
# Test::Exception                               => 0.43       (want any version)
# Test::More                                    => 1.001014   (want 0.96)   
# Time::HiRes                                   => 1.9732     (want 1.9705) 
# WWW::Curl::Easy                               => 4.17       (want any version)
# WWW::Curl::Multi                              => <undef>    (want any version)
# base                                          => 2.23       (want any version)
# namespace::clean                              => 0.26       (want any version)
# strict                                        => 1.03       (want any version)
# warnings                                      => 1.03       (want any version)
# 
# Thanks for using my code.  I hope it works for you.
# If not, please try and include this output in the bug report.
# That will help me reproduce the issue and solve your problem.
# 
t/000-report-versions-tiny.t ..... ok
t/10.simple.t .................... skipped: Net::Server::Single is required for this test
t/20.timeout.t ................... skipped: Net::Server::Single is required for this test
t/author-10.usage.multi.t ........ skipped: these tests are for testing by the author
t/author-10.usage.single.t ....... skipped: these tests are for testing by the author
t/author-20.non-fatal.t .......... skipped: these tests are for testing by the author
t/author-20.timeout-old.t ........ skipped: these tests are for testing by the author
t/author-30.max-redirects.t ...... skipped: these tests are for testing by the author
t/author-31.check-ssl-certs.t .... skipped: these tests are for testing by the author
t/author-99.pua-compat.t ......... skipped: these tests are for testing by the author
t/release-changes_has_content.t .. skipped: these tests are for release candidate testing
t/release-cpan-changes.t ......... skipped: these tests are for release candidate testing
t/release-pod-coverage.t ......... skipped: these tests are for release candidate testing
t/release-pod-syntax.t ........... skipped: these tests are for release candidate testing
t/release-synopsis.t ............. skipped: these tests are for release candidate testing
All tests successful.
Files=17, Tests=4,  3 wallclock secs ( 0.05 usr  0.03 sys +  2.27 cusr  0.25 csys =  2.60 CPU)
Result: PASS

------------------------------
PREREQUISITES
------------------------------

Prerequisite modules loaded:

requires:

    Module              Need   Have    
    ------------------- ------ --------
    Carp                0      1.38    
    HTTP::Request       0      6.11    
    HTTP::Response      0      6.11    
    Moose               0      2.1605  
    namespace::clean    0      0.26    
    Scalar::Util        0      1.41    
    Time::HiRes         1.9705 1.9732  
    WWW::Curl::Easy     0      4.17    
    WWW::Curl::Multi    0      0       

build_requires:

    Module              Need   Have    
    ------------------- ------ --------
    base                0      2.23    
    File::Spec          0      3.62    
    IO::Handle          0      1.28    
    IPC::Open3          0      1.0106  
    strict              0      1.03    
    Test::Exception     0      0.43    
    Test::More          0.96   1.001014
    warnings            0      1.03    

configure_requires:

    Module              Need   Have    
    ------------------- ------ --------
    ExtUtils::MakeMaker 6.30   7.10    


------------------------------
ENVIRONMENT AND OTHER CONTEXT
------------------------------

Environment variables:

    AUTOMATED_TESTING = 1
    LANG = en_US.UTF-8
    LC_ALL = POSIX
    NO_NETWORK_TESTING = 1
    PATH = /Users/hornenj/perl5/perlbrew/bin:/Users/hornenj/perl5/perlbrew/perls/perl-5.8.7/bin:/Users/hornenj/perl5/perlbrew/bin:/Users/hornenj/bin:/sw/lib/perl5/ExtUtils:/sw/bin:/am/ncbiapdata/bin:/usr/bin:/bin:/usr/X11R6/bin:/netopt/ncbi_tools/bin:/usr/local/ncbi/blast/bin:/net/traces01.be-md.ncbi.nlm.nih.gov/trace_software/vdb/mac/release/x86_64/bin
    PERL5LIB = /Users/hornenj/.cpan/build/WWW-Curl-4.17-4jvuUy/blib/arch:/Users/hornenj/.cpan/build/WWW-Curl-4.17-4jvuUy/blib/lib:/Users/hornenj/.cpan/build/MooseX-Method-Signatures-0.49-lj0Lq2/blib/arch:/Users/hornenj/.cpan/build/MooseX-Method-Signatures-0.49-lj0Lq2/blib/lib:/Users/hornenj/.cpan/build/MooseX-Meta-TypeConstraint-ForceCoercion-0.01-P5WXUs/blib/arch:/Users/hornenj/.cpan/build/MooseX-Meta-TypeConstraint-ForceCoercion-0.01-P5WXUs/blib/lib:/Users/hornenj/.cpan/build/MooseX-LazyRequire-0.11-9Us6iY/blib/arch:/Users/hornenj/.cpan/build/MooseX-LazyRequire-0.11-9Us6iY/blib/lib:/Users/hornenj/.cpan/build/Context-Preserve-0.01-CUFvdm/blib/arch:/Users/hornenj/.cpan/build/Context-Preserve-0.01-CUFvdm/blib/lib:/Users/hornenj/.cpan/build/DateTime-Format-HTTP-0.42-ij95fw/blib/arch:/Users/hornenj/.cpan/build/DateTime-Format-HTTP-0.42-ij95fw/blib/lib
    PERL5OPT = 
    PERL5_CPANPLUS_IS_RUNNING = 85858
    PERL5_CPAN_IS_RUNNING = 85858
    PERL5_MINISMOKEBOX = 0.58
    PERLBREW_BASHRC_VERSION = 0.75
    PERLBREW_HOME = /Users/hornenj/.perlbrew
    PERLBREW_LIB = 
    PERLBREW_MANPATH = /Users/hornenj/perl5/perlbrew/perls/perl-5.8.7/man
    PERLBREW_PATH = /Users/hornenj/perl5/perlbrew/bin:/Users/hornenj/perl5/perlbrew/perls/perl-5.8.7/bin
    PERLBREW_PERL = perl-5.8.7
    PERLBREW_ROOT = /Users/hornenj/perl5/perlbrew
    PERLBREW_VERSION = 0.75
    PERL_EXTUTILS_AUTOINSTALL = --defaultdeps
    PERL_LOCAL_LIB_ROOT = 
    PERL_MM_USE_DEFAULT = 1
    SHELL = /bin/bash
    TERM = xterm-256color
    TMPDIR = /var/folders/pz/pd7y1qjs6s3cbk170cw50fjc000c61/T/
    ac_cv_path_INTLTOOL_PERL = /usr/bin/perl

Perl special variables (and OS-specific diagnostics, for MSWin32):

    $^X = /Users/hornenj/perl5/perlbrew/perls/perl-5.8.7/bin/perl
    $UID/$EUID = 12481 / 12481
    $GID = 14 241 527 37191 5344 14
    $EGID = 14 241 527 37191 5344 14

Perl module toolchain versions installed:

    Module              Have    
    ------------------- --------
    CPAN                2.10    
    CPAN::Meta          2.150005
    Cwd                 3.62    
    ExtUtils::CBuilder  0.280224
    ExtUtils::Command   7.10    
    ExtUtils::Install   2.04    
    ExtUtils::MakeMaker 7.10    
    ExtUtils::Manifest  1.70    
    ExtUtils::ParseXS   3.30    
    File::Spec          3.62    
    JSON                2.90    
    JSON::PP            2.27300 
    Module::Build       0.4216  
    Module::Signature   0.79    
    Parse::CPAN::Meta   1.4417  
    Test::Harness       3.36    
    Test::More          1.001014
    YAML                n/a     
    YAML::Syck          1.29    
    version             0.9916  


--

Summary of my perl5 (revision 5 version 8 subversion 7) configuration:
  Platform:
    osname=darwin, osvers=12.5.0, archname=darwin-thread-multi-2level
    uname='darwin ncbimac2008.ncbi.nlm.nih.gov 12.5.0 darwin kernel version 12.5.0: sun sep 29 13:33:47 pdt 2013; root:xnu-2050.48.12~1release_x86_64 x86_64 '
    config_args='-de -Dprefix=/Users/hornenj/perl5/perlbrew/perls/perl-5.8.7 -Duseithreads -Dusemultiplicity -Accflags=-O2 -W -Wformat=2 -Wswitch -Wshadow -Wwrite-strings -Wuninitialized -Wall -pipe -mtune=native -march=native -fomit-frame-pointer -msse2 -msse -mmmx -pedantic -D_FORTIFY_SOURCE=2 -Wpointer-arith -Wstrict-prototypes -fstack-protector -Wstack-protector -Wextra -Wbad-function-cast -Wcast-align -Wcast-qual -Wdisabled-optimization -Wendif-labels -Wfloat-equal -Wformat-nonliteral -Winline -Wmissing-declarations -Wmissing-prototypes -Wnested-externs -Wpointer-arith -Wundef -Wformat-security -fassociative-math -Acc=cc -Aeval:scriptdir=/Users/hornenj/perl5/perlbrew/perls/perl-5.8.7/bin'
    hint=recommended, useposix=true, d_sigaction=define
    usethreads=define use5005threads=undef useithreads=define usemultiplicity=define
    useperlio=define d_sfio=undef uselargefiles=define usesocks=undef
    use64bitint=define use64bitall=define uselongdouble=undef
    usemymalloc=n, bincompat5005=undef
  Compiler:
    cc=' cc', ccflags ='-fno-common -DPERL_DARWIN -O2 -W -Wformat=2 -Wswitch -Wshadow -Wwrite-strings -Wuninitialized -Wall -pipe -mtune=native -march=native -fomit-frame-pointer -msse2 -msse -mmmx -pedantic -D_FORTIFY_SOURCE=2 -Wpointer-arith -Wstrict-prototypes -fstack-protector -Wstack-protector -Wextra -Wbad-function-cast -Wcast-align -Wcast-qual -Wdisabled-optimization -Wendif-labels -Wfloat-equal -Wformat-nonliteral -Winline -Wmissing-declarations -Wmissing-prototypes -Wnested-externs -Wpointer-arith -Wundef -Wformat-security -fassociative-math -fno-strict-aliasing -I/usr/local/include',
    optimize='-O3',
    cppflags='-fno-common -DPERL_DARWIN -O2 -W -Wformat=2 -Wswitch -Wshadow -Wwrite-strings -Wuninitialized -Wall -pipe -mtune=native -march=native -fomit-frame-pointer -msse2 -msse -mmmx -pedantic -D_FORTIFY_SOURCE=2 -Wpointer-arith -Wstrict-prototypes -fstack-protector -Wstack-protector -Wextra -Wbad-function-cast -Wcast-align -Wcast-qual -Wdisabled-optimization -Wendif-labels -Wfloat-equal -Wformat-nonliteral -Winline -Wmissing-declarations -Wmissing-prototypes -Wnested-externs -Wpointer-arith -Wundef -Wformat-security -fassociative-math -fno-strict-aliasing -I/usr/local/include'
    ccversion='', gccversion='4.2.1 Compatible Apple LLVM 4.2 (clang-425.0.24)', gccosandvers=''
    intsize=4, longsize=8, ptrsize=8, doublesize=8, byteorder=12345678
    d_longlong=define, longlongsize=8, d_longdbl=define, longdblsize=16
    ivtype='long', ivsize=8, nvtype='double', nvsize=8, Off_t='off_t', lseeksize=8
    alignbytes=8, prototype=define
  Linker and Libraries:
    ld='env MACOSX_DEPLOYMENT_TARGET=10.3 cc', ldflags =' -L/usr/local/lib'
    libpth=/usr/local/lib /usr/lib
    libs=-ldbm -ldl -lm -lutil -lc
    perllibs=-ldl -lm -lutil -lc
    libc=, so=dylib, useshrplib=false, libperl=libperl.a
    gnulibc_version=''
  Dynamic Linking:
    dlsrc=dl_dlopen.xs, dlext=bundle, d_dlsymun=undef, ccdlflags=' '
    cccdlflags=' ', lddlflags=' -bundle -undefined dynamic_lookup -L/usr/local/lib'


Characteristics of this binary (from libperl): 
  Compile-time options: MULTIPLICITY USE_ITHREADS USE_64_BIT_INT
                        USE_64_BIT_ALL USE_LARGE_FILES
                        PERL_IMPLICIT_CONTEXT
  Built under darwin
  Compiled at Sep 17 2014 08:58:08
  %ENV:
    PERL5LIB="/Users/hornenj/.cpan/build/WWW-Curl-4.17-4jvuUy/blib/arch:/Users/hornenj/.cpan/build/WWW-Curl-4.17-4jvuUy/blib/lib:/Users/hornenj/.cpan/build/MooseX-Method-Signatures-0.49-lj0Lq2/blib/arch:/Users/hornenj/.cpan/build/MooseX-Method-Signatures-0.49-lj0Lq2/blib/lib:/Users/hornenj/.cpan/build/MooseX-Meta-TypeConstraint-ForceCoercion-0.01-P5WXUs/blib/arch:/Users/hornenj/.cpan/build/MooseX-Meta-TypeConstraint-ForceCoercion-0.01-P5WXUs/blib/lib:/Users/hornenj/.cpan/build/MooseX-LazyRequire-0.11-9Us6iY/blib/arch:/Users/hornenj/.cpan/build/MooseX-LazyRequire-0.11-9Us6iY/blib/lib:/Users/hornenj/.cpan/build/Context-Preserve-0.01-CUFvdm/blib/arch:/Users/hornenj/.cpan/build/Context-Preserve-0.01-CUFvdm/blib/lib:/Users/hornenj/.cpan/build/DateTime-Format-HTTP-0.42-ij95fw/blib/arch:/Users/hornenj/.cpan/build/DateTime-Format-HTTP-0.42-ij95fw/blib/lib"
    PERL5OPT=""
    PERL5_CPANPLUS_IS_RUNNING="85858"
    PERL5_CPAN_IS_RUNNING="85858"
    PERL5_MINISMOKEBOX="0.58"
    PERLBREW_BASHRC_VERSION="0.75"
    PERLBREW_HOME="/Users/hornenj/.perlbrew"
    PERLBREW_LIB=""
    PERLBREW_MANPATH="/Users/hornenj/perl5/perlbrew/perls/perl-5.8.7/man"
    PERLBREW_PATH="/Users/hornenj/perl5/perlbrew/bin:/Users/hornenj/perl5/perlbrew/perls/perl-5.8.7/bin"
    PERLBREW_PERL="perl-5.8.7"
    PERLBREW_ROOT="/Users/hornenj/perl5/perlbrew"
    PERLBREW_VERSION="0.75"
    PERL_EXTUTILS_AUTOINSTALL="--defaultdeps"
    PERL_LOCAL_LIB_ROOT=""
    PERL_MM_USE_DEFAULT="1"
  @INC:
    /Users/hornenj/.cpan/build/WWW-Curl-4.17-4jvuUy/blib/arch
    /Users/hornenj/.cpan/build/WWW-Curl-4.17-4jvuUy/blib/lib
    /Users/hornenj/.cpan/build/MooseX-Method-Signatures-0.49-lj0Lq2/blib/arch
    /Users/hornenj/.cpan/build/MooseX-Method-Signatures-0.49-lj0Lq2/blib/lib
    /Users/hornenj/.cpan/build/MooseX-Meta-TypeConstraint-ForceCoercion-0.01-P5WXUs/blib/arch
    /Users/hornenj/.cpan/build/MooseX-Meta-TypeConstraint-ForceCoercion-0.01-P5WXUs/blib/lib
    /Users/hornenj/.cpan/build/MooseX-LazyRequire-0.11-9Us6iY/blib/arch
    /Users/hornenj/.cpan/build/MooseX-LazyRequire-0.11-9Us6iY/blib/lib
    /Users/hornenj/.cpan/build/Context-Preserve-0.01-CUFvdm/blib/arch
    /Users/hornenj/.cpan/build/Context-Preserve-0.01-CUFvdm/blib/lib
    /Users/hornenj/.cpan/build/DateTime-Format-HTTP-0.42-ij95fw/blib/arch
    /Users/hornenj/.cpan/build/DateTime-Format-HTTP-0.42-ij95fw/blib/lib
    /Users/hornenj/perl5/perlbrew/perls/perl-5.8.7/lib/5.8.7/darwin-thread-multi-2level
    /Users/hornenj/perl5/perlbrew/perls/perl-5.8.7/lib/5.8.7
    /Users/hornenj/perl5/perlbrew/perls/perl-5.8.7/lib/site_perl/5.8.7/darwin-thread-multi-2level
    /Users/hornenj/perl5/perlbrew/perls/perl-5.8.7/lib/site_perl/5.8.7
    /Users/hornenj/perl5/perlbrew/perls/perl-5.8.7/lib/site_perl
    .