Report for Tapper-Remote-3.000010

Back
From: metabase:user:3143a46e-bb30-11e0-8dd5-45d7e6fb0a34
Subject: PASS Tapper-Remote-3.000010 v5.12.3 GNU/Linux
Date: 2011-08-17T02:16:47Z

This distribution has been tested as part of the CPAN Testers
project, supporting the Perl programming language.  See
http://wiki.cpantesters.org/ for more information or email
questions to cpan-testers-discuss@perl.org


--
Dear AMD OSRC (AMD Operating System Research Center),

This is a computer-generated report for Tapper-Remote-3.000010
on perl 5.12.3, created by CPAN-Reporter-1.2001.

Thank you for uploading your work to CPAN.  Congratulations!
All tests were successful.

Sections of this report:

    * Tester comments
    * Program output
    * Prerequisites
    * Environment and other context

------------------------------
TESTER COMMENTS
------------------------------

Additional comments from tester:

this report is from an automated smoke testing program
and was not reviewed by a human for accuracy

------------------------------
PROGRAM OUTPUT
------------------------------

Output from 'make test':

PERL_DL_NONLAZY=1 /usr/bin/perl "-MExtUtils::Command::MM" "-e" "test_harness(0, 'inc', 'blib/lib', 'blib/arch')" t/00-load.t t/tapper-remote-config-prc.t t/tapper-remote-config.t t/tapper-remote-net.t
# Testing Tapper::Remote 3.000010, Perl 5.012003, /usr/bin/perl
t/00-load.t ................... ok
t/tapper-remote-config-prc.t .. ok
t/tapper-remote-config.t ...... ok
t/tapper-remote-net.t ......... ok
All tests successful.
Files=4, Tests=12,  1 wallclock secs ( 0.04 usr  0.01 sys +  1.12 cusr  0.14 csys =  1.31 CPU)
Result: PASS

------------------------------
PREREQUISITES
------------------------------

Prerequisite modules loaded:

requires:

    Module              Need     Have    
    ------------------- -------- --------
    File::Path          0        2.08_01 
    Getopt::Long        0        2.38    
    IO::Socket::INET    0        1.31    
    Moose               0        2.0202  
    Net::TFTP           0.19     0.19    
    Socket              0        1.87_01 
    Sys::Hostname       0        1.11    
    Tapper::Base        3.000010 3.000010
    Test::More          0        0.98    
    Test::Perl::Critic  0        1.02    
    YAML::Syck          1.17     1.17    

build_requires:

    Module              Need     Have    
    ------------------- -------- --------
    ExtUtils::MakeMaker 6.42     6.59    
    Test::More          0        0.98    
    Test::Perl::Critic  0        1.02    

configure_requires:

    Module              Need     Have    
    ------------------- -------- --------
    ExtUtils::MakeMaker 6.42     6.59    


------------------------------
ENVIRONMENT AND OTHER CONTEXT
------------------------------

Environment variables:

    AUTOMATED_TESTING = 1
    LANG = POSIX
    LC_CTYPE = en_US.UTF-8
    PATH = /sbin:/usr/sbin:/usr/local/sbin:/root/bin:/usr/local/bin:/usr/bin:/bin:/usr/bin/X11:/usr/X11R6/bin:/usr/games:/usr/lib64/jvm/jre/bin
    PERL5LIB = /root/.cpan/build/Tapper-Base-3.000010-lbOLjI/blib/arch:/root/.cpan/build/Tapper-Base-3.000010-lbOLjI/blib/lib:/root/.cpan/build/MooseX-Log-Log4perl-0.42-erKwzh/blib/arch:/root/.cpan/build/MooseX-Log-Log4perl-0.42-erKwzh/blib/lib:/root/.cpan/build/IO-stringy-2.110-GJ2Mo6/blib/arch:/root/.cpan/build/IO-stringy-2.110-GJ2Mo6/blib/lib:/root/.cpan/build/LockFile-Simple-0.207-TSmUN7/blib/arch:/root/.cpan/build/LockFile-Simple-0.207-TSmUN7/blib/lib:/root/.cpan/build/Test-Perl-Critic-1.02-XYXkv2/blib/arch:/root/.cpan/build/Test-Perl-Critic-1.02-XYXkv2/blib/lib:/root/.cpan/build/Net-TFTP-0.19-Qoifpd/blib/arch:/root/.cpan/build/Net-TFTP-0.19-Qoifpd/blib/lib:/root/.cpan/build/Test-MockModule-0.05-rBp2Wo/blib/arch:/root/.cpan/build/Test-MockModule-0.05-rBp2Wo/blib/lib
    PERL5OPT = 
    PERL5_CPANPLUS_IS_RUNNING = 24202
    PERL5_CPAN_IS_RUNNING = 24202
    PERL5_CPAN_IS_RUNNING_IN_RECURSION = 16492,24202
    PERL_CR_SMOKER_CURRENT = Tapper-Remote-3.000010
    PERL_EXTUTILS_AUTOINSTALL = --defaultdeps
    PERL_MM_USE_DEFAULT = 1
    SHELL = /bin/bash
    TERM = xterm
    TMPDIR = /tmp

Perl special variables (and OS-specific diagnostics, for MSWin32):

    $^X = /usr/bin/perl
    $UID/$EUID = 0 / 0
    $GID = 0 0
    $EGID = 0 0

Perl module toolchain versions installed:

    Module              Have    
    ------------------- --------
    CPAN                1.9800  
    CPAN::Meta          2.112150
    Cwd                 3.31    
    ExtUtils::CBuilder  0.27    
    ExtUtils::Command   1.16    
    ExtUtils::Install   1.55    
    ExtUtils::MakeMaker 6.59    
    ExtUtils::Manifest  1.58    
    ExtUtils::ParseXS   3.02    
    File::Spec          3.31_01 
    JSON                2.53    
    JSON::PP            2.27104 
    Module::Build       0.3800  
    Module::Signature   0.68    
    Parse::CPAN::Meta   1.4401  
    Test::Harness       3.23    
    Test::More          0.98    
    YAML                0.73    
    YAML::Syck          1.17    
    version             0.88    


--

Summary of my perl5 (revision 5 version 12 subversion 3) configuration:
   
  Platform:
    osname=linux, osvers=2.6.36, archname=x86_64-linux-thread-multi
    uname='linux build33 2.6.36 #1 smp 2011-02-21 10:34:10 +0100 x86_64 x86_64 x86_64 gnulinux '
    config_args='-ds -e -Dprefix=/usr -Dvendorprefix=/usr -Dinstallusrbinperl -Dusethreads -Di_db -Di_dbm -Di_ndbm -Di_gdbm -Duseshrplib=true -Doptimize=-fmessage-length=0 -O2 -Wall -D_FORTIFY_SOURCE=2 -fstack-protector -funwind-tables -fasynchronous-unwind-tables -g -Wall -pipe -Accflags=-DPERL_USE_SAFE_PUTENV'
    hint=recommended, useposix=true, d_sigaction=define
    useithreads=define, usemultiplicity=define
    useperlio=define, d_sfio=undef, uselargefiles=define, usesocks=undef
    use64bitint=define, use64bitall=define, uselongdouble=undef
    usemymalloc=n, bincompat5005=undef
  Compiler:
    cc='cc', ccflags ='-D_REENTRANT -D_GNU_SOURCE -DPERL_USE_SAFE_PUTENV -DDEBUGGING -fno-strict-aliasing -pipe -fstack-protector -D_LARGEFILE_SOURCE -D_FILE_OFFSET_BITS=64',
    optimize='-fmessage-length=0 -O2 -Wall -D_FORTIFY_SOURCE=2 -fstack-protector -funwind-tables -fasynchronous-unwind-tables -g -Wall -pipe',
    cppflags='-D_REENTRANT -D_GNU_SOURCE -DPERL_USE_SAFE_PUTENV -DDEBUGGING -fno-strict-aliasing -pipe -fstack-protector'
    ccversion='', gccversion='4.5.1 20101208 [gcc-4_5-branch revision 167585]', gccosandvers=''
    intsize=4, longsize=8, ptrsize=8, doublesize=8, byteorder=12345678
    d_longlong=define, longlongsize=8, d_longdbl=define, longdblsize=16
    ivtype='long', ivsize=8, nvtype='double', nvsize=8, Off_t='off_t', lseeksize=8
    alignbytes=8, prototype=define
  Linker and Libraries:
    ld='cc', ldflags =' -L/usr/local/lib64 -fstack-protector'
    libpth=/lib64 /usr/lib64 /usr/local/lib64
    libs=-lm -ldl -lcrypt -lpthread
    perllibs=-lm -ldl -lcrypt -lpthread
    libc=/lib64/libc-2.11.3.so, so=so, useshrplib=true, libperl=libperl.so
    gnulibc_version='2.11.3'
  Dynamic Linking:
    dlsrc=dl_dlopen.xs, dlext=so, d_dlsymun=undef, ccdlflags='-Wl,-E -Wl,-rpath,/usr/lib/perl5/5.12.3/x86_64-linux-thread-multi/CORE'
    cccdlflags='-fPIC', lddlflags='-shared -L/usr/local/lib64 -fstack-protector'


Characteristics of this binary (from libperl): 
  Compile-time options: DEBUGGING MULTIPLICITY PERL_DONT_CREATE_GVSV
                        PERL_IMPLICIT_CONTEXT PERL_MALLOC_WRAP
                        PERL_TRACK_MEMPOOL PERL_USE_SAFE_PUTENV
                        USE_64_BIT_ALL USE_64_BIT_INT USE_ITHREADS
                        USE_LARGE_FILES USE_PERLIO USE_PERL_ATOF
                        USE_REENTRANT_API
  Built under linux
  Compiled at May  6 2011 13:34:02
  %ENV:
    PERL5LIB="/root/.cpan/build/Tapper-Base-3.000010-lbOLjI/blib/arch:/root/.cpan/build/Tapper-Base-3.000010-lbOLjI/blib/lib:/root/.cpan/build/MooseX-Log-Log4perl-0.42-erKwzh/blib/arch:/root/.cpan/build/MooseX-Log-Log4perl-0.42-erKwzh/blib/lib:/root/.cpan/build/IO-stringy-2.110-GJ2Mo6/blib/arch:/root/.cpan/build/IO-stringy-2.110-GJ2Mo6/blib/lib:/root/.cpan/build/LockFile-Simple-0.207-TSmUN7/blib/arch:/root/.cpan/build/LockFile-Simple-0.207-TSmUN7/blib/lib:/root/.cpan/build/Test-Perl-Critic-1.02-XYXkv2/blib/arch:/root/.cpan/build/Test-Perl-Critic-1.02-XYXkv2/blib/lib:/root/.cpan/build/Net-TFTP-0.19-Qoifpd/blib/arch:/root/.cpan/build/Net-TFTP-0.19-Qoifpd/blib/lib:/root/.cpan/build/Test-MockModule-0.05-rBp2Wo/blib/arch:/root/.cpan/build/Test-MockModule-0.05-rBp2Wo/blib/lib"
    PERL5OPT=""
    PERL5_CPANPLUS_IS_RUNNING="24202"
    PERL5_CPAN_IS_RUNNING="24202"
    PERL5_CPAN_IS_RUNNING_IN_RECURSION="16492,24202"
    PERL_CR_SMOKER_CURRENT="Tapper-Remote-3.000010"
    PERL_EXTUTILS_AUTOINSTALL="--defaultdeps"
    PERL_MM_USE_DEFAULT="1"
  @INC:
    /root/.cpan/build/Tapper-Base-3.000010-lbOLjI/blib/arch
    /root/.cpan/build/Tapper-Base-3.000010-lbOLjI/blib/lib
    /root/.cpan/build/MooseX-Log-Log4perl-0.42-erKwzh/blib/arch
    /root/.cpan/build/MooseX-Log-Log4perl-0.42-erKwzh/blib/lib
    /root/.cpan/build/IO-stringy-2.110-GJ2Mo6/blib/arch
    /root/.cpan/build/IO-stringy-2.110-GJ2Mo6/blib/lib
    /root/.cpan/build/LockFile-Simple-0.207-TSmUN7/blib/arch
    /root/.cpan/build/LockFile-Simple-0.207-TSmUN7/blib/lib
    /root/.cpan/build/Test-Perl-Critic-1.02-XYXkv2/blib/arch
    /root/.cpan/build/Test-Perl-Critic-1.02-XYXkv2/blib/lib
    /root/.cpan/build/Net-TFTP-0.19-Qoifpd/blib/arch
    /root/.cpan/build/Net-TFTP-0.19-Qoifpd/blib/lib
    /root/.cpan/build/Test-MockModule-0.05-rBp2Wo/blib/arch
    /root/.cpan/build/Test-MockModule-0.05-rBp2Wo/blib/lib
    /usr/lib/perl5/site_perl/5.12.3/x86_64-linux-thread-multi
    /usr/lib/perl5/site_perl/5.12.3
    /usr/lib/perl5/vendor_perl/5.12.3/x86_64-linux-thread-multi
    /usr/lib/perl5/vendor_perl/5.12.3
    /usr/lib/perl5/5.12.3/x86_64-linux-thread-multi
    /usr/lib/perl5/5.12.3
    .