Mail-DKIM v1.20240923 Perl 5 v5.28.3 x86_64-linux

Status
Pass
From
Slaven Rezić
Dist
Mail-DKIM v1.20240923
Platform
Perl 5 v5.28.3 x86_64-linux
Date
2024-09-23 05:16:16
ID
f587abde-796a-11ef-82da-7d316e8775ea
This distribution has been tested as part of the CPAN Testers
project, supporting the Perl programming language.  See
http://wiki.cpantesters.org/ for more information or email
questions to cpan-testers-discuss@perl.org


--
Dear Marc Bradshaw,

This is a computer-generated report for Mail-DKIM-1.20240923
on perl 5.28.3, created by CPAN-Reporter-1.2019.

Thank you for uploading your work to CPAN.  Congratulations!
All tests were successful.

Sections of this report:

    * Tester comments
    * Program output
    * Prerequisites
    * Environment and other context

------------------------------
TESTER COMMENTS
------------------------------

Additional comments from tester:

none provided

------------------------------
PROGRAM OUTPUT
------------------------------

Output from '/usr/bin/make test':

PERL_DL_NONLAZY=1 "/opt/perl-5.28.3/bin/perl" "-MExtUtils::Command::MM" "-MTest::Harness" "-e" "undef *Test::Harness::Switches; test_harness(0, 'blib/lib', 'blib/arch')" t/*.t
t/adsp.t ........................ ok
Authentication-Results Header parse error: not expecting a string at /home/cpansand/.cpan/build/2024092305/Mail-DKIM-1.20240923-3/blib/lib/Mail/DKIM/ARC/Signer.pm line 116.

Authentication-Results: Garbage Authentication-Results Header - SHOULD NOT PARSE at /home/cpansand/.cpan/build/2024092305/Mail-DKIM-1.20240923-3/blib/lib/Mail/DKIM/ARC/Signer.pm line 121.
t/arc-draft-sign-tests.t ........ ok
t/arc-draft-validation-tests.t .. ok
t/arc-signer.t .................. ok
t/author-pod-syntax.t ........... skipped: these tests are for testing by the author
t/dev-manifest.t ................ skipped: Author tests not required for installation
t/external_signer.t ............. ok
t/Mail-DKIM.t ................... ok
t/policy.t ...................... ok
t/public_key.t .................. ok
t/signature.t ................... ok
t/signer.t ...................... ok
t/signer_dk.t ................... ok
t/signer_expiration.t ........... ok
t/signer_expiration_set_time.t .. ok
t/signer_policy.t ............... ok
t/simple_canonicalization.t ..... ok
t/textwrap.t .................... ok
did not cache that DNS entry: 2023-05-ed25519-does-not-exist._domainkey.wander.science
>>>
No results: NXDOMAIN
<<<
t/verifier.t .................... ok
t/verifier_strict.t ............. ok
All tests successful.
Files=20, Tests=495,  4 wallclock secs ( 0.17 usr  0.04 sys +  3.02 cusr  0.39 csys =  3.62 CPU)
Result: PASS

------------------------------
PREREQUISITES
------------------------------

Prerequisite modules loaded:

requires:

    Module                                          Need  Have      
    ----------------------------------------------- ----- ----------
    base                                            0     2.27      
    Carp                                            0     1.50      
    Crypt::OpenSSL::RSA                             0     0.33      
    Crypt::PK::Ed25519                              0     0.080     
    Digest::SHA                                     0     6.01      
    Mail::Address                                   0     2.21      
    Mail::AuthenticationResults::Header::AuthServID 0     2.20231031
    Mail::AuthenticationResults::Parser             0     2.20231031
    MIME::Base64                                    0     3.16      
    Net::DNS                                        0     1.42      
    perl                                            5.006 5.028003  
    strict                                          0     1.11      
    warnings                                        0     1.42      

build_requires:

    Module                                          Need  Have      
    ----------------------------------------------- ----- ----------
    Data::Dumper                                    0     2.183     
    ExtUtils::MakeMaker                             0     7.70      
    lib                                             0     0.64      
    Net::DNS::Resolver                              0     1895      
    Net::DNS::Resolver::Mock                        0     1.20230216
    Test::More                                      0     1.302203  
    Test::RequiresInternet                          0     0.05      
    Test::Simple                                    0     1.302203  
    YAML                                            0     1.31      
    YAML::XS                                        0     0.90      

configure_requires:

    Module                                          Need  Have      
    ----------------------------------------------- ----- ----------
    ExtUtils::MakeMaker                             0     7.70      


------------------------------
ENVIRONMENT AND OTHER CONTEXT
------------------------------

Environment variables:

    LANG = C
    PATH = /usr/local/bin:/usr/bin:/bin:/usr/local/sbin:/usr/sbin:/sbin:/home/cpansand/bin/linux-gnu:/home/cpansand/bin/sh:/home/cpansand/bin:/usr/games:/home/cpansand/devel:/home/eserte/src/srezic-misc/scripts
    PERL5LIB = /home/cpansand/.cpan/build/2024092305/Mail-AuthenticationResults-2.20231031-2/blib/arch:/home/cpansand/.cpan/build/2024092305/Mail-AuthenticationResults-2.20231031-2/blib/lib
    PERL5OPT = 
    PERL5_CPANPLUS_IS_RUNNING = 8545
    PERL5_CPAN_IS_RUNNING = 8545
    PERL5_CPAN_IS_RUNNING_IN_RECURSION = 7551,8545
    PERLDOC = -MPod::Perldoc::ToTextOverstrike
    PERL_BATCH = yes
    PERL_CANARY_STABILITY_NOPROMPT = 1
    PERL_CPAN_REPORTER_CONFIG = /var/tmp/cpansmoker-1023/2024092305/cpanreporter_000_config.ini
    PERL_EXTUTILS_AUTOINSTALL = --defaultdeps
    PERL_USE_UNSAFE_INC = 1
    SHELL = /usr/bin/zsh
    TERM = screen
    TMPDIR = /var/tmp/cpansmoker-1023/2024092305

Perl special variables (and OS-specific diagnostics, for MSWin32):

    $^X = /opt/perl-5.28.3/bin/perl
    $UID/$EUID = 1023 / 1023
    $GID = 1023 1023
    $EGID = 1023 1023

Perl module toolchain versions installed:

    Module              Have    
    ------------------- --------
    CPAN                2.20    
    CPAN::Meta          2.150010
    Cwd                 3.75    
    ExtUtils::CBuilder  0.280236
    ExtUtils::Command   7.70    
    ExtUtils::Install   2.22    
    ExtUtils::MakeMaker 7.70    
    ExtUtils::Manifest  1.75    
    ExtUtils::ParseXS   3.51    
    File::Spec          3.75    
    JSON                4.10    
    JSON::PP            4.16    
    Module::Build       0.4234  
    Module::Signature   n/a     
    Parse::CPAN::Meta   2.150010
    Test2               1.302203
    Test::Harness       3.42    
    Test::More          1.302203
    YAML                1.31    
    YAML::Syck          1.34    
    version             0.9932  


--

Summary of my perl5 (revision 5 version 28 subversion 3) configuration:
   
  Platform:
    osname=linux
    osvers=4.19.0-25-amd64
    archname=x86_64-linux
    uname='linux cloud12.bbbike.org 4.19.0-25-amd64 #1 smp debian 4.19.289-2 (2023-08-08) x86_64 gnulinux '
    config_args='-ds -e -Dprefix=/opt/perl-5.28.3 -Dcf_email=srezic@cpan.org'
    hint=recommended
    useposix=true
    d_sigaction=define
    useithreads=undef
    usemultiplicity=undef
    use64bitint=define
    use64bitall=define
    uselongdouble=undef
    usemymalloc=n
    default_inc_excludes_dot=define
    bincompat5005=undef
  Compiler:
    cc='cc'
    ccflags ='-fwrapv -fno-strict-aliasing -pipe -fstack-protector-strong -I/usr/local/include -D_LARGEFILE_SOURCE -D_FILE_OFFSET_BITS=64 -D_FORTIFY_SOURCE=2'
    optimize='-O2'
    cppflags='-fwrapv -fno-strict-aliasing -pipe -fstack-protector-strong -I/usr/local/include'
    ccversion=''
    gccversion='8.3.0'
    gccosandvers=''
    intsize=4
    longsize=8
    ptrsize=8
    doublesize=8
    byteorder=12345678
    doublekind=3
    d_longlong=define
    longlongsize=8
    d_longdbl=define
    longdblsize=16
    longdblkind=3
    ivtype='long'
    ivsize=8
    nvtype='double'
    nvsize=8
    Off_t='off_t'
    lseeksize=8
    alignbytes=8
    prototype=define
  Linker and Libraries:
    ld='cc'
    ldflags =' -fstack-protector-strong -L/usr/local/lib'
    libpth=/usr/local/lib /usr/lib/gcc/x86_64-linux-gnu/8/include-fixed /usr/include/x86_64-linux-gnu /usr/lib /lib/x86_64-linux-gnu /lib/../lib /usr/lib/x86_64-linux-gnu /usr/lib/../lib /lib /lib64 /usr/lib64
    libs=-lpthread -lnsl -lgdbm -ldb -ldl -lm -lcrypt -lutil -lc
    perllibs=-lpthread -lnsl -ldl -lm -lcrypt -lutil -lc
    libc=libc-2.28.so
    so=so
    useshrplib=false
    libperl=libperl.a
    gnulibc_version='2.28'
  Dynamic Linking:
    dlsrc=dl_dlopen.xs
    dlext=so
    d_dlsymun=undef
    ccdlflags='-Wl,-E'
    cccdlflags='-fPIC'
    lddlflags='-shared -O2 -L/usr/local/lib -fstack-protector-strong'


Characteristics of this binary (from libperl): 
  Compile-time options:
    HAS_TIMES
    PERLIO_LAYERS
    PERL_COPY_ON_WRITE
    PERL_DONT_CREATE_GVSV
    PERL_MALLOC_WRAP
    PERL_OP_PARENT
    PERL_PRESERVE_IVUV
    USE_64_BIT_ALL
    USE_64_BIT_INT
    USE_LARGE_FILES
    USE_LOCALE
    USE_LOCALE_COLLATE
    USE_LOCALE_CTYPE
    USE_LOCALE_NUMERIC
    USE_LOCALE_TIME
    USE_PERLIO
    USE_PERL_ATOF
  Locally applied patches:
    Devel::PatchPerl 2.08
  Built under linux
  Compiled at Jan  2 2024 12:52:26
  %ENV:
    PERL5LIB="/home/cpansand/.cpan/build/2024092305/Mail-AuthenticationResults-2.20231031-2/blib/arch:/home/cpansand/.cpan/build/2024092305/Mail-AuthenticationResults-2.20231031-2/blib/lib"
    PERL5OPT=""
    PERL5_CPANPLUS_IS_RUNNING="8545"
    PERL5_CPAN_IS_RUNNING="8545"
    PERL5_CPAN_IS_RUNNING_IN_RECURSION="7551,8545"
    PERLDOC="-MPod::Perldoc::ToTextOverstrike"
    PERL_BATCH="yes"
    PERL_CANARY_STABILITY_NOPROMPT="1"
    PERL_CPAN_REPORTER_CONFIG="/var/tmp/cpansmoker-1023/2024092305/cpanreporter_000_config.ini"
    PERL_EXTUTILS_AUTOINSTALL="--defaultdeps"
    PERL_USE_UNSAFE_INC="1"
  @INC:
    /home/cpansand/.cpan/build/2024092305/Mail-AuthenticationResults-2.20231031-2/blib/arch
    /home/cpansand/.cpan/build/2024092305/Mail-AuthenticationResults-2.20231031-2/blib/lib
    /opt/perl-5.28.3/lib/site_perl/5.28.3/x86_64-linux
    /opt/perl-5.28.3/lib/site_perl/5.28.3
    /opt/perl-5.28.3/lib/5.28.3/x86_64-linux
    /opt/perl-5.28.3/lib/5.28.3
    .