Test-Script v1.23 Perl 5 v5.26.0 darwin-2level
- Status
- Pass
- From
- Philip Sharman
- Dist
-
Test-Script v1.23
- Platform
- Perl 5 v5.26.0 darwin-2level
- Date
- 2018-02-23 16:24:02
- ID
- f5b13e12-18b5-11e8-a5cb-d8976b90617e
This distribution has been tested as part of the CPAN Testers
project, supporting the Perl programming language. See
http://wiki.cpantesters.org/ for more information or email
questions to cpan-testers-discuss@perl.org
--
Dear Graham Ollis,
This is a computer-generated report for Test-Script-1.23
on perl 5.26.0, created by CPAN-Reporter-1.2018.
Thank you for uploading your work to CPAN. Congratulations!
All tests were successful.
Sections of this report:
* Tester comments
* Program output
* Prerequisites
* Environment and other context
------------------------------
TESTER COMMENTS
------------------------------
Additional comments from tester:
none provided
------------------------------
PROGRAM OUTPUT
------------------------------
Output from '/usr/bin/make test':
PERL_DL_NONLAZY=1 "/Users/Philip/perl5/perlbrew/perls/perl-5.26.0/bin/perl" "-MExtUtils::Command::MM" "-MTest::Harness" "-e" "undef *Test::Harness::Switches; test_harness(0, 'blib/lib', 'blib/arch')" t/*.t
#
#
#
# HARNESS_ACTIVE=1
# HARNESS_VERSION=3.39
# LANG=en_CA.UTF-8
# PERL5LIB=/Users/Philip/.cpan/build/Test-Script-1.23-0/blib/lib:/Users/Philip/.cpan/build/Test-Script-1.23-0/blib/arch:
# PERL5OPT=
# PERL5_CPANPLUS_IS_RUNNING=69163
# PERL5_CPAN_IS_RUNNING=69163
# PERL_DL_NONLAZY=1
# PERL_USE_UNSAFE_INC=1
# SHELL=/bin/sh
#
#
#
# PERL5LIB path
# /Users/Philip/.cpan/build/Test-Script-1.23-0/blib/lib
# /Users/Philip/.cpan/build/Test-Script-1.23-0/blib/arch
#
#
#
# perl 5.026000
# Capture::Tiny 0.46
# ExtUtils::MakeMaker 7.32
# File::Spec 3.74
# IO::Handle 1.36
# Probe::Perl 0.03
# Test2::API 1.302125
# Test2::V0 0.000100
#
#
#
t/00_diag.t ....................... ok
t/01_use.t ........................ ok
t/bug_gh9.t ....................... ok
t/test_script__exports.t .......... ok
t/test_script__import.t ........... ok
t/test_script__script_compiles.t .. ok
t/test_script__script_runs.t ...... ok
t/test_script__script_stderr.t .... ok
t/test_script__script_stdout.t .... ok
All tests successful.
Files=9, Tests=51, 1 wallclock secs ( 0.04 usr 0.02 sys + 1.21 cusr 0.32 csys = 1.59 CPU)
Result: PASS
------------------------------
PREREQUISITES
------------------------------
Prerequisite modules loaded:
requires:
Module Need Have
------------------- -------- --------
Capture::Tiny 0 0.46
File::Spec 0.80 3.74
IO::Handle 0 1.36
perl 5.008001 5.026000
Probe::Perl 0.01 0.03
Test2::API 1.302015 1.302125
build_requires:
Module Need Have
------------------- -------- --------
ExtUtils::MakeMaker 0 7.32
Test2::V0 0.000060 0.000100
configure_requires:
Module Need Have
------------------- -------- --------
ExtUtils::MakeMaker 0 7.32
perl 5.008001 5.026000
------------------------------
ENVIRONMENT AND OTHER CONTEXT
------------------------------
Environment variables:
LANG = en_CA.UTF-8
PATH = /opt/local/bin:/opt/local/sbin:/Users/Philip/Library/Python/2.7/bin:/usr/local/Cellar/git/2.14.1/bin:/opt/subversion/bin:/usr/local/bin:/Users/Philip/perl5/perlbrew/bin:/Users/Philip/perl5/perlbrew/perls/perl-5.26.0/bin:/usr/local/bin:/usr/bin:/bin:/usr/sbin:/sbin:/opt/X11/bin:/Applications/VMware Fusion.app/Contents/Public:/Applications/Wireshark.app/Contents/MacOS:/Applications/Rakudo/bin:/Applications/Rakudo/share/perl6/site/bin
PERL5LIB =
PERL5OPT =
PERL5_CPANPLUS_IS_RUNNING = 69163
PERL5_CPAN_IS_RUNNING = 69163
PERL_USE_UNSAFE_INC = 1
SHELL = /bin/sh
TERM = xterm-256color
Perl special variables (and OS-specific diagnostics, for MSWin32):
$^X = /Users/Philip/perl5/perlbrew/perls/perl-5.26.0/bin/perl
$UID/$EUID = 0 / 0
$GID = 0 0 1 2 3 4 5 8 9 12 20 29 61 80 701 702 33
$EGID = 0 0 1 2 3 4 5 8 9 12 20 29 61 80 701 702 33
Perl module toolchain versions installed:
Module Have
------------------- --------
CPAN 2.18
CPAN::Meta 2.150010
Cwd 3.74
ExtUtils::CBuilder 0.280230
ExtUtils::Command 7.32
ExtUtils::Install 2.14
ExtUtils::MakeMaker 7.32
ExtUtils::Manifest 1.70
ExtUtils::ParseXS 3.35
File::Spec 3.74
JSON 2.97001
JSON::PP 2.97001
Module::Build 0.4224
Module::Signature 0.81
Parse::CPAN::Meta 2.150010
Test::Harness 3.39
Test::More 1.302125
YAML 1.23
YAML::Syck n/a
version 0.9918
--
Summary of my perl5 (revision 5 version 26 subversion 0) configuration:
Platform:
osname=darwin
osvers=16.6.0
archname=darwin-2level
uname='darwin imac3.local 16.6.0 darwin kernel version 16.6.0: fri apr 14 16:21:16 pdt 2017; root:xnu-3789.60.24~6release_x86_64 x86_64 '
config_args='-de -Dprefix=/Users/Philip/perl5/perlbrew/perls/perl-5.26.0 -Aeval:scriptdir=/Users/Philip/perl5/perlbrew/perls/perl-5.26.0/bin'
hint=recommended
useposix=true
d_sigaction=define
useithreads=undef
usemultiplicity=undef
use64bitint=define
use64bitall=define
uselongdouble=undef
usemymalloc=n
default_inc_excludes_dot=define
bincompat5005=undef
Compiler:
cc='cc'
ccflags ='-fno-common -DPERL_DARWIN -fno-strict-aliasing -pipe -fstack-protector-strong -I/usr/local/include'
optimize='-O3'
cppflags='-fno-common -DPERL_DARWIN -fno-strict-aliasing -pipe -fstack-protector-strong -I/usr/local/include'
ccversion=''
gccversion='4.2.1 Compatible Apple LLVM 8.1.0 (clang-802.0.42)'
gccosandvers=''
intsize=4
longsize=8
ptrsize=8
doublesize=8
byteorder=12345678
doublekind=3
d_longlong=define
longlongsize=8
d_longdbl=define
longdblsize=16
longdblkind=3
ivtype='long'
ivsize=8
nvtype='double'
nvsize=8
Off_t='off_t'
lseeksize=8
alignbytes=8
prototype=define
Linker and Libraries:
ld='env MACOSX_DEPLOYMENT_TARGET=10.3 cc'
ldflags =' -fstack-protector-strong -L/usr/local/lib'
libpth=/Applications/Xcode.app/Contents/Developer/Toolchains/XcodeDefault.xctoolchain/usr/bin/../lib/clang/8.1.0/lib /Applications/Xcode.app/Contents/Developer/Toolchains/XcodeDefault.xctoolchain/usr/lib /Applications/Xcode.app/Contents/Developer/Platforms/MacOSX.platform/Developer/SDKs/MacOSX10.12.sdk/usr/lib /usr/local/lib /usr/lib
libs=-lpthread -lgdbm -ldbm -ldl -lm -lutil -lc
perllibs=-lpthread -ldl -lm -lutil -lc
libc=
so=dylib
useshrplib=false
libperl=libperl.a
gnulibc_version=''
Dynamic Linking:
dlsrc=dl_dlopen.xs
dlext=bundle
d_dlsymun=undef
ccdlflags=' '
cccdlflags=' '
lddlflags=' -bundle -undefined dynamic_lookup -L/usr/local/lib -fstack-protector-strong'
Characteristics of this binary (from libperl):
Compile-time options:
HAS_TIMES
PERLIO_LAYERS
PERL_COPY_ON_WRITE
PERL_DONT_CREATE_GVSV
PERL_MALLOC_WRAP
PERL_OP_PARENT
PERL_PRESERVE_IVUV
USE_64_BIT_ALL
USE_64_BIT_INT
USE_LARGE_FILES
USE_LOCALE
USE_LOCALE_COLLATE
USE_LOCALE_CTYPE
USE_LOCALE_NUMERIC
USE_LOCALE_TIME
USE_PERLIO
USE_PERL_ATOF
Locally applied patches:
Devel::PatchPerl 1.38
Built under darwin
Compiled at Jun 1 2017 10:18:51
%ENV:
PERL5LIB=""
PERL5OPT=""
PERL5_CPANPLUS_IS_RUNNING="69163"
PERL5_CPAN_IS_RUNNING="69163"
PERL_USE_UNSAFE_INC="1"
@INC:
/Users/Philip/perl5/perlbrew/perls/perl-5.26.0/lib/site_perl/5.26.0/darwin-2level
/Users/Philip/perl5/perlbrew/perls/perl-5.26.0/lib/site_perl/5.26.0
/Users/Philip/perl5/perlbrew/perls/perl-5.26.0/lib/5.26.0/darwin-2level
/Users/Philip/perl5/perlbrew/perls/perl-5.26.0/lib/5.26.0
.