Syntax-Keyword-Try v0.24 Perl 5 v5.32.1 darwin-thread-multi-2level
- Status
- Pass
- From
- Gintautas Grigelionis
- Dist
-
Syntax-Keyword-Try v0.24
- Platform
- Perl 5 v5.32.1 darwin-thread-multi-2level
- Date
- 2021-05-18 04:17:29
- ID
- f5c41b3c-b78f-11eb-a63c-cd390b04048d
This distribution has been tested as part of the CPAN Testers
project, supporting the Perl programming language. See
http://wiki.cpantesters.org/ for more information or email
questions to cpan-testers-discuss@perl.org
--
Dear Paul Evans,
This is a computer-generated report for Syntax-Keyword-Try-0.24
on perl 5.32.1, created by CPAN-Reporter-1.2018.
Thank you for uploading your work to CPAN. Congratulations!
All tests were successful.
Sections of this report:
* Tester comments
* Program output
* Prerequisites
* Environment and other context
------------------------------
TESTER COMMENTS
------------------------------
Additional comments from tester:
none provided
------------------------------
PROGRAM OUTPUT
------------------------------
Output from './Build test':
t/00use.t .............. ok
t/01trycatch.t ......... ok
t/02tryfinally.t ....... ok
t/03trycatchfinally.t .. ok
t/04catch-types.t ...... ok
t/10snail.t ............ ok
t/11loop.t ............. ok
t/12return.t ........... ok
t/13die-in-finally.t ... ok
t/14try-localises.t .... ok
t/15context.t .......... ok
t/16final-expr.t ....... ok
t/20try-do.t ........... ok
t/21try-do-finally.t ... ok
t/30compat.t ........... ok
t/70deparse.t .......... ok
# Future::AsyncAwait 0.50, Syntax::Keyword::Try 0.24
t/80await+SKT.t ........ ok
# Syntax::Keyword::Defer 0.05, Syntax::Keyword::Try 0.24
t/80defer+SKT.t ........ ok
t/90rt123547.t ......... ok
t/90rt125971.t ......... ok
t/99pod.t .............. ok
All tests successful.
Files=21, Tests=94, 3 wallclock secs ( 0.08 usr 0.08 sys + 2.00 cusr 0.55 csys = 2.71 CPU)
Result: PASS
------------------------------
PREREQUISITES
------------------------------
Prerequisite modules loaded:
requires:
Module Need Have
------------------ ------ --------
perl 5.014 5.032001
build_requires:
Module Need Have
------------------ ------ --------
ExtUtils::CBuilder 0 0.280236
Test::More 0.88 1.302183
configure_requires:
Module Need Have
------------------ ------ --------
Module::Build 0.4004 0.4231
------------------------------
ENVIRONMENT AND OTHER CONTEXT
------------------------------
Environment variables:
LC_CTYPE = UTF-8
PATH = /Users/gintas/Projects/perl5/bin:/usr/local/bin:/usr/bin:/bin:/usr/sbin:/sbin:/usr/local/MacGPG2/bin:/opt/X11/bin:/Library/Apple/usr/bin
PERL5LIB = /Users/gintas/Projects/perl5/lib/perl5
PERL5OPT =
PERL5_CPANPLUS_IS_RUNNING = 8052
PERL5_CPAN_IS_RUNNING = 8052
PERL_LOCAL_LIB_ROOT = /Users/gintas/Projects/perl5
PERL_MB_OPT = --install_base "/Users/gintas/Projects/perl5"
PERL_MM_OPT = INSTALL_BASE=/Users/gintas/Projects/perl5
PERL_USE_UNSAFE_INC = 1
SHELL = /bin/bash
TERM = xterm-256color
TMPDIR = /var/folders/7j/gsygg6dj3yg5vj5ph2nk1x880000gn/T/
Perl special variables (and OS-specific diagnostics, for MSWin32):
$^X = /usr/local/Cellar/perl/5.32.1_1/bin/perl
$UID/$EUID = 501 / 501
$GID = 20 20 701 12 61 79 80 81 98 703 702 33 100 204 250 395 398
$EGID = 20 20 701 12 61 79 80 81 98 703 702 33 100 204 250 395 398
Perl module toolchain versions installed:
Module Have
------------------- --------
CPAN 2.28
CPAN::Meta 2.150010
Cwd 3.78
ExtUtils::CBuilder 0.280236
ExtUtils::Command 7.62
ExtUtils::Install 2.20
ExtUtils::MakeMaker 7.62
ExtUtils::Manifest 1.73
ExtUtils::ParseXS 3.40
File::Spec 3.78
JSON 4.03
JSON::PP 4.06
Module::Build 0.4231
Module::Signature 0.87
Parse::CPAN::Meta 2.150010
Test::Harness 3.42
Test::More 1.302183
YAML 1.30
YAML::Syck 1.34
version 0.9929
--
Summary of my perl5 (revision 5 version 32 subversion 1) configuration:
Platform:
osname=darwin
osvers=20.3.0
archname=darwin-thread-multi-2level
uname='darwin bigsur 20.3.0 darwin kernel version 20.3.0: thu jan 21 00:07:06 pst 2021; root:xnu-7195.81.3~1release_x86_64 x86_64 '
config_args='-des -Dprefix=/usr/local/Cellar/perl/5.32.1_1 -Dprivlib=/usr/local/Cellar/perl/5.32.1_1/lib/perl5/5.32.1 -Dsitelib=/usr/local/Cellar/perl/5.32.1_1/lib/perl5/site_perl/5.32.1 -Dotherlibdirs=/usr/local/lib/perl5/site_perl/5.32.1 -Dperlpath=/usr/local/opt/perl/bin/perl -Dstartperl=#!/usr/local/opt/perl/bin/perl -Dman1dir=/usr/local/Cellar/perl/5.32.1_1/share/man/man1 -Dman3dir=/usr/local/Cellar/perl/5.32.1_1/share/man/man3 -Duseshrplib -Duselargefiles -Dusethreads -Dsed=/usr/bin/sed'
hint=recommended
useposix=true
d_sigaction=define
useithreads=define
usemultiplicity=define
use64bitint=define
use64bitall=define
uselongdouble=undef
usemymalloc=n
default_inc_excludes_dot=define
bincompat5005=undef
Compiler:
cc='cc'
ccflags ='-fno-common -DPERL_DARWIN -mmacosx-version-min=11.2 -fno-strict-aliasing -pipe -fstack-protector-strong -I/usr/local/include -DPERL_USE_SAFE_PUTENV'
optimize='-O3'
cppflags='-fno-common -DPERL_DARWIN -mmacosx-version-min=11.2 -fno-strict-aliasing -pipe -fstack-protector-strong -I/usr/local/include'
ccversion=''
gccversion='Apple LLVM 12.0.0 (clang-1200.0.32.29)'
gccosandvers=''
intsize=4
longsize=8
ptrsize=8
doublesize=8
byteorder=12345678
doublekind=3
d_longlong=define
longlongsize=8
d_longdbl=define
longdblsize=16
longdblkind=3
ivtype='long'
ivsize=8
nvtype='double'
nvsize=8
Off_t='off_t'
lseeksize=8
alignbytes=8
prototype=define
Linker and Libraries:
ld='cc'
ldflags =' -mmacosx-version-min=11.2 -fstack-protector-strong -L/usr/local/lib'
libpth=/usr/local/opt/openssl@1.1/lib /usr/local/lib /Applications/Xcode.app/Contents/Developer/Toolchains/XcodeDefault.xctoolchain/usr/lib/clang/12.0.0/lib /Library/Developer/CommandLineTools/SDKs/MacOSX.sdk/usr/lib /Applications/Xcode.app/Contents/Developer/Toolchains/XcodeDefault.xctoolchain/usr/lib /usr/lib
libs=-lgdbm -ldb
perllibs=
libc=
so=dylib
useshrplib=true
libperl=libperl.dylib
gnulibc_version=''
Dynamic Linking:
dlsrc=dl_dlopen.xs
dlext=bundle
d_dlsymun=undef
ccdlflags=' '
cccdlflags=' '
lddlflags=' -mmacosx-version-min=11.2 -bundle -undefined dynamic_lookup -L/usr/local/lib -fstack-protector-strong'
Characteristics of this binary (from libperl):
Compile-time options:
HAS_TIMES
MULTIPLICITY
PERLIO_LAYERS
PERL_COPY_ON_WRITE
PERL_DONT_CREATE_GVSV
PERL_IMPLICIT_CONTEXT
PERL_MALLOC_WRAP
PERL_OP_PARENT
PERL_PRESERVE_IVUV
PERL_USE_SAFE_PUTENV
USE_64_BIT_ALL
USE_64_BIT_INT
USE_ITHREADS
USE_LARGE_FILES
USE_LOCALE
USE_LOCALE_COLLATE
USE_LOCALE_CTYPE
USE_LOCALE_NUMERIC
USE_LOCALE_TIME
USE_PERLIO
USE_PERL_ATOF
USE_REENTRANT_API
USE_THREAD_SAFE_LOCALE
Built under darwin
Compiled at Feb 27 2021 02:36:21
%ENV:
PERL5LIB="/Users/gintas/Projects/perl5/lib/perl5"
PERL5OPT=""
PERL5_CPANPLUS_IS_RUNNING="8052"
PERL5_CPAN_IS_RUNNING="8052"
PERL_LOCAL_LIB_ROOT="/Users/gintas/Projects/perl5"
PERL_MB_OPT="--install_base "/Users/gintas/Projects/perl5""
PERL_MM_OPT="INSTALL_BASE=/Users/gintas/Projects/perl5"
PERL_USE_UNSAFE_INC="1"
@INC:
/Users/gintas/Projects/perl5/lib/perl5/5.32.1/darwin-thread-multi-2level
/Users/gintas/Projects/perl5/lib/perl5/5.32.1
/Users/gintas/Projects/perl5/lib/perl5/darwin-thread-multi-2level
/Users/gintas/Projects/perl5/lib/perl5
/usr/local/Cellar/perl/5.32.1_1/lib/perl5/site_perl/5.32.1/darwin-thread-multi-2level
/usr/local/Cellar/perl/5.32.1_1/lib/perl5/site_perl/5.32.1
/usr/local/Cellar/perl/5.32.1_1/lib/perl5/5.32.1/darwin-thread-multi-2level
/usr/local/Cellar/perl/5.32.1_1/lib/perl5/5.32.1
/usr/local/lib/perl5/site_perl/5.32.1/darwin-thread-multi-2level
/usr/local/lib/perl5/site_perl/5.32.1
.