Back
From: metabase:user:d1ac2ff8-7f34-11e0-ad7d-d635d302c8a1
Subject: PASS Google-AJAX-Library-0.022 v5.14.0 GNU/Linux
Date: 2011-06-02T12:43:47Z
This distribution has been tested as part of the CPAN Testers
project, supporting the Perl programming language. See
http://wiki.cpantesters.org/ for more information or email
questions to cpan-testers-discuss@perl.org
--
Dear Robert Krimen,
This is a computer-generated report for Google-AJAX-Library-0.022
on perl 5.14.0, created by CPAN-Reporter-1.1902.
Thank you for uploading your work to CPAN. Congratulations!
All tests were successful.
Sections of this report:
* Tester comments
* Program output
* Prerequisites
* Environment and other context
------------------------------
TESTER COMMENTS
------------------------------
Additional comments from tester:
this report is from an automated smoke testing program
and was not reviewed by a human for accuracy
------------------------------
PROGRAM OUTPUT
------------------------------
Output from '/usr/bin/make test':
PERL_DL_NONLAZY=1 /home/lonesome/perl-5.14.0/bin/perl "-MExtUtils::Command::MM" "-e" "test_harness(0, 'blib/lib', 'blib/arch')" t/*.t
You are overwriting a locally defined function (file) with an accessor at /home/lonesome/perl-5.14.0/lib/site_perl/5.14.0/i686-linux/Moose/Meta/Attribute.pm line 566
Moose::Meta::Attribute::_process_accessors('Moose::Meta::Attribute=HASH(0x951b758)', 'reader', 'file', undef) called at /home/lonesome/perl-5.14.0/lib/site_perl/5.14.0/i686-linux/Class/MOP/Attribute.pm line 360
Class::MOP::Attribute::install_accessors('Moose::Meta::Attribute=HASH(0x951b758)') called at /home/lonesome/perl-5.14.0/lib/site_perl/5.14.0/i686-linux/Moose/Meta/Attribute.pm line 532
Moose::Meta::Attribute::install_accessors('Moose::Meta::Attribute=HASH(0x951b758)') called at /home/lonesome/perl-5.14.0/lib/site_perl/5.14.0/i686-linux/Class/MOP/Class.pm line 789
Class::MOP::Class::__ANON__() called at /home/lonesome/perl-5.14.0/lib/site_perl/5.14.0/Try/Tiny.pm line 76
eval {...} called at /home/lonesome/perl-5.14.0/lib/site_perl/5.14.0/Try/Tiny.pm line 67
Try::Tiny::try('CODE(0x951b4d8)', 'Try::Tiny::Catch=REF(0x951b258)') called at /home/lonesome/perl-5.14.0/lib/site_perl/5.14.0/i686-linux/Class/MOP/Class.pm line 794
Class::MOP::Class::_post_add_attribute('Moose::Meta::Class=HASH(0x9911c28)', 'Moose::Meta::Attribute=HASH(0x951b758)') called at /home/lonesome/perl-5.14.0/lib/site_perl/5.14.0/i686-linux/Class/MOP/Mixin/HasAttributes.pm line 45
Class::MOP::Mixin::HasAttributes::add_attribute('Moose::Meta::Class=HASH(0x9911c28)', 'Moose::Meta::Attribute=HASH(0x951b758)') called at /home/lonesome/perl-5.14.0/lib/site_perl/5.14.0/i686-linux/Moose/Meta/Class.pm line 304
Moose::Meta::Class::add_attribute('Moose::Meta::Class=HASH(0x9911c28)', 'file', 'definition_context', 'HASH(0x9c115a0)', 'is', 'ro') called at /home/lonesome/perl-5.14.0/lib/site_perl/5.14.0/i686-linux/Moose.pm line 70
Moose::has('Moose::Meta::Class=HASH(0x9911c28)', 'file', 'is', 'ro') called at /home/lonesome/perl-5.14.0/lib/site_perl/5.14.0/i686-linux/Moose/Exporter.pm line 359
Moose::has('file', 'is', 'ro') called at /home/lonesome/.cpan/build/Google-AJAX-Library-0.022-2qE_Hf/blib/lib/Google/AJAX/Library.pm line 32
require Google/AJAX/Library.pm called at t/01-basic.t line 5
main::BEGIN() called at /home/lonesome/.cpan/build/Google-AJAX-Library-0.022-2qE_Hf/blib/lib/Google/AJAX/Library.pm line 0
eval {...} called at /home/lonesome/.cpan/build/Google-AJAX-Library-0.022-2qE_Hf/blib/lib/Google/AJAX/Library.pm line 0
t/01-basic.t .... ok
You are overwriting a locally defined function (file) with an accessor at /home/lonesome/perl-5.14.0/lib/site_perl/5.14.0/i686-linux/Moose/Meta/Attribute.pm line 566
Moose::Meta::Attribute::_process_accessors('Moose::Meta::Attribute=HASH(0x8ebb9f0)', 'reader', 'file', undef) called at /home/lonesome/perl-5.14.0/lib/site_perl/5.14.0/i686-linux/Class/MOP/Attribute.pm line 360
Class::MOP::Attribute::install_accessors('Moose::Meta::Attribute=HASH(0x8ebb9f0)') called at /home/lonesome/perl-5.14.0/lib/site_perl/5.14.0/i686-linux/Moose/Meta/Attribute.pm line 532
Moose::Meta::Attribute::install_accessors('Moose::Meta::Attribute=HASH(0x8ebb9f0)') called at /home/lonesome/perl-5.14.0/lib/site_perl/5.14.0/i686-linux/Class/MOP/Class.pm line 789
Class::MOP::Class::__ANON__() called at /home/lonesome/perl-5.14.0/lib/site_perl/5.14.0/Try/Tiny.pm line 76
eval {...} called at /home/lonesome/perl-5.14.0/lib/site_perl/5.14.0/Try/Tiny.pm line 67
Try::Tiny::try('CODE(0x8ebb770)', 'Try::Tiny::Catch=REF(0x8ebb4f0)') called at /home/lonesome/perl-5.14.0/lib/site_perl/5.14.0/i686-linux/Class/MOP/Class.pm line 794
Class::MOP::Class::_post_add_attribute('Moose::Meta::Class=HASH(0x92b1e98)', 'Moose::Meta::Attribute=HASH(0x8ebb9f0)') called at /home/lonesome/perl-5.14.0/lib/site_perl/5.14.0/i686-linux/Class/MOP/Mixin/HasAttributes.pm line 45
Class::MOP::Mixin::HasAttributes::add_attribute('Moose::Meta::Class=HASH(0x92b1e98)', 'Moose::Meta::Attribute=HASH(0x8ebb9f0)') called at /home/lonesome/perl-5.14.0/lib/site_perl/5.14.0/i686-linux/Moose/Meta/Class.pm line 304
Moose::Meta::Class::add_attribute('Moose::Meta::Class=HASH(0x92b1e98)', 'file', 'definition_context', 'HASH(0x95b1768)', 'is', 'ro') called at /home/lonesome/perl-5.14.0/lib/site_perl/5.14.0/i686-linux/Moose.pm line 70
Moose::has('Moose::Meta::Class=HASH(0x92b1e98)', 'file', 'is', 'ro') called at /home/lonesome/perl-5.14.0/lib/site_perl/5.14.0/i686-linux/Moose/Exporter.pm line 359
Moose::has('file', 'is', 'ro') called at /home/lonesome/.cpan/build/Google-AJAX-Library-0.022-2qE_Hf/blib/lib/Google/AJAX/Library.pm line 32
require Google/AJAX/Library.pm called at t/02-library.t line 5
main::BEGIN() called at /home/lonesome/.cpan/build/Google-AJAX-Library-0.022-2qE_Hf/blib/lib/Google/AJAX/Library.pm line 0
eval {...} called at /home/lonesome/.cpan/build/Google-AJAX-Library-0.022-2qE_Hf/blib/lib/Google/AJAX/Library.pm line 0
t/02-library.t .. ok
You are overwriting a locally defined function (file) with an accessor at /home/lonesome/perl-5.14.0/lib/site_perl/5.14.0/i686-linux/Moose/Meta/Attribute.pm line 566
Moose::Meta::Attribute::_process_accessors('Moose::Meta::Attribute=HASH(0xa0ab4a8)', 'reader', 'file', undef) called at /home/lonesome/perl-5.14.0/lib/site_perl/5.14.0/i686-linux/Class/MOP/Attribute.pm line 360
Class::MOP::Attribute::install_accessors('Moose::Meta::Attribute=HASH(0xa0ab4a8)') called at /home/lonesome/perl-5.14.0/lib/site_perl/5.14.0/i686-linux/Moose/Meta/Attribute.pm line 532
Moose::Meta::Attribute::install_accessors('Moose::Meta::Attribute=HASH(0xa0ab4a8)') called at /home/lonesome/perl-5.14.0/lib/site_perl/5.14.0/i686-linux/Class/MOP/Class.pm line 789
Class::MOP::Class::__ANON__() called at /home/lonesome/perl-5.14.0/lib/site_perl/5.14.0/Try/Tiny.pm line 76
eval {...} called at /home/lonesome/perl-5.14.0/lib/site_perl/5.14.0/Try/Tiny.pm line 67
Try::Tiny::try('CODE(0xa0ab228)', 'Try::Tiny::Catch=REF(0xa0aafa8)') called at /home/lonesome/perl-5.14.0/lib/site_perl/5.14.0/i686-linux/Class/MOP/Class.pm line 794
Class::MOP::Class::_post_add_attribute('Moose::Meta::Class=HASH(0xa4a18f8)', 'Moose::Meta::Attribute=HASH(0xa0ab4a8)') called at /home/lonesome/perl-5.14.0/lib/site_perl/5.14.0/i686-linux/Class/MOP/Mixin/HasAttributes.pm line 45
Class::MOP::Mixin::HasAttributes::add_attribute('Moose::Meta::Class=HASH(0xa4a18f8)', 'Moose::Meta::Attribute=HASH(0xa0ab4a8)') called at /home/lonesome/perl-5.14.0/lib/site_perl/5.14.0/i686-linux/Moose/Meta/Class.pm line 304
Moose::Meta::Class::add_attribute('Moose::Meta::Class=HASH(0xa4a18f8)', 'file', 'definition_context', 'HASH(0xa7a1230)', 'is', 'ro') called at /home/lonesome/perl-5.14.0/lib/site_perl/5.14.0/i686-linux/Moose.pm line 70
Moose::has('Moose::Meta::Class=HASH(0xa4a18f8)', 'file', 'is', 'ro') called at /home/lonesome/perl-5.14.0/lib/site_perl/5.14.0/i686-linux/Moose/Exporter.pm line 359
Moose::has('file', 'is', 'ro') called at /home/lonesome/.cpan/build/Google-AJAX-Library-0.022-2qE_Hf/blib/lib/Google/AJAX/Library.pm line 32
require Google/AJAX/Library.pm called at t/03-fetch.t line 5
main::BEGIN() called at /home/lonesome/.cpan/build/Google-AJAX-Library-0.022-2qE_Hf/blib/lib/Google/AJAX/Library.pm line 0
eval {...} called at /home/lonesome/.cpan/build/Google-AJAX-Library-0.022-2qE_Hf/blib/lib/Google/AJAX/Library.pm line 0
t/03-fetch.t .... skipped: Not going out to http://ajax.googleapis.com to test fetching/writing
All tests successful.
Files=3, Tests=61, 1 wallclock secs ( 0.02 usr 0.01 sys + 0.66 cusr 0.05 csys = 0.74 CPU)
Result: PASS
------------------------------
PREREQUISITES
------------------------------
Prerequisite modules loaded:
requires:
Module Need Have
------------------- ---- -------
Carp::Clan::Share 0 0.013
HTML::Declare 0 2.4
LWP::UserAgent 0 6.02
Moose 0 1.17
Path::Class 0 0.24
URI 0 1.58
build_requires:
Module Need Have
------------------- ---- -------
File::Temp 0 0.22
Test::Most 0 0.23
configure_requires:
Module Need Have
------------------- ---- -------
ExtUtils::MakeMaker 6.31 6.57_11
------------------------------
ENVIRONMENT AND OTHER CONTEXT
------------------------------
Environment variables:
AUTOMATED_TESTING = 1
LANG = en_GB.UTF-8
PATH = /usr/lib/ccache:/usr/local/bin:/bin:/usr/bin:/usr/local/sbin:/usr/sbin:/sbin:/home/lonesome/bin
PERL5LIB =
PERL5OPT =
PERL5_CPANPLUS_IS_RUNNING = 26586
PERL5_CPAN_IS_RUNNING = 26586
PERL5_CPAN_IS_RUNNING_IN_RECURSION = 9665,26586
PERL_CR_SMOKER_CURRENT = Google-AJAX-Library-0.022
PERL_EXTUTILS_AUTOINSTALL = --defaultdeps
PERL_MM_USE_DEFAULT = 1
SHELL = /bin/bash
TERM = screen
Perl special variables (and OS-specific diagnostics, for MSWin32):
$^X = /home/lonesome/perl-5.14.0/bin/perl
$UID/$EUID = 500 / 500
$GID = 500 10 500
$EGID = 500 10 500
Perl module toolchain versions installed:
Module Have
------------------- --------
CPAN 1.9600
Cwd 3.33
ExtUtils::CBuilder 0.280202
ExtUtils::Command 1.17
ExtUtils::Install 1.56
ExtUtils::MakeMaker 6.57_11
ExtUtils::Manifest 1.58
ExtUtils::ParseXS 2.2206
File::Spec 3.33
Module::Build 0.3800
Module::Signature 0.68
Test::Harness 3.23
Test::More 0.98
YAML 0.73
YAML::Syck 1.17
version 0.90
--
Summary of my perl5 (revision 5 version 14 subversion 0) configuration:
Platform:
osname=linux, osvers=2.6.38.6-27.fc15.i686, archname=i686-linux
uname='linux fedora15 2.6.38.6-27.fc15.i686 #1 smp sun may 15 17:57:13 utc 2011 i686 i686 i386 gnulinux '
config_args='-des -Dcc=ccache gcc -Dld=gcc -Dprefix=/home/lonesome/perl-5.14.0'
hint=recommended, useposix=true, d_sigaction=define
useithreads=undef, usemultiplicity=undef
useperlio=define, d_sfio=undef, uselargefiles=define, usesocks=undef
use64bitint=undef, use64bitall=undef, uselongdouble=undef
usemymalloc=n, bincompat5005=undef
Compiler:
cc='ccache gcc', ccflags ='-fno-strict-aliasing -pipe -fstack-protector -I/usr/local/include -D_LARGEFILE_SOURCE -D_FILE_OFFSET_BITS=64',
optimize='-O2',
cppflags='-fno-strict-aliasing -pipe -fstack-protector -I/usr/local/include'
ccversion='', gccversion='4.6.0 20110509 (Red Hat 4.6.0-7)', gccosandvers=''
intsize=4, longsize=4, ptrsize=4, doublesize=8, byteorder=1234
d_longlong=define, longlongsize=8, d_longdbl=define, longdblsize=12
ivtype='long', ivsize=4, nvtype='double', nvsize=8, Off_t='off_t', lseeksize=8
alignbytes=4, prototype=define
Linker and Libraries:
ld='gcc', ldflags =' -fstack-protector -L/usr/local/lib'
libpth=/usr/local/lib /lib /usr/lib
libs=-lnsl -ldl -lm -lcrypt -lutil -lc
perllibs=-lnsl -ldl -lm -lcrypt -lutil -lc
libc=/lib/libc-2.13.90.so, so=so, useshrplib=false, libperl=libperl.a
gnulibc_version='2.13.90'
Dynamic Linking:
dlsrc=dl_dlopen.xs, dlext=so, d_dlsymun=undef, ccdlflags='-Wl,-E'
cccdlflags='-fPIC', lddlflags='-shared -O2 -L/usr/local/lib -fstack-protector'
Characteristics of this binary (from libperl):
Compile-time options: PERL_DONT_CREATE_GVSV PERL_MALLOC_WRAP
PERL_PRESERVE_IVUV USE_LARGE_FILES USE_PERLIO
USE_PERL_ATOF
Built under linux
Compiled at Jun 1 2011 10:32:53
%ENV:
PERL5LIB=""
PERL5OPT=""
PERL5_CPANPLUS_IS_RUNNING="26586"
PERL5_CPAN_IS_RUNNING="26586"
PERL5_CPAN_IS_RUNNING_IN_RECURSION="9665,26586"
PERL_CR_SMOKER_CURRENT="Google-AJAX-Library-0.022"
PERL_EXTUTILS_AUTOINSTALL="--defaultdeps"
PERL_MM_USE_DEFAULT="1"
@INC:
/home/lonesome/perl-5.14.0/lib/site_perl/5.14.0/i686-linux
/home/lonesome/perl-5.14.0/lib/site_perl/5.14.0
/home/lonesome/perl-5.14.0/lib/5.14.0/i686-linux
/home/lonesome/perl-5.14.0/lib/5.14.0
.