Back
From: metabase:user:314402c4-2aae-11df-837a-5e0a49663a4f
Subject: PASS Dist-Zilla-Plugin-Chrome-ExtraPrompt-0.014 v5.22.3 GNU/Linux
Date: 2017-04-23T20:25:15Z
This distribution has been tested as part of the CPAN Testers
project, supporting the Perl programming language. See
http://wiki.cpantesters.org/ for more information or email
questions to cpan-testers-discuss@perl.org
--
Dear Karen Etheridge,
This is a computer-generated report for Dist-Zilla-Plugin-Chrome-ExtraPrompt-0.014
on perl 5.22.3, created by CPAN-Reporter-1.2018.
Thank you for uploading your work to CPAN. Congratulations!
All tests were successful.
Sections of this report:
* Tester comments
* Program output
* Prerequisites
* Environment and other context
------------------------------
TESTER COMMENTS
------------------------------
Additional comments from tester:
none provided
------------------------------
PROGRAM OUTPUT
------------------------------
Output from './Build test':
#
# Versions for all modules listed in MYMETA.json (including optional ones):
#
# === Configure Requires ===
#
# Module Want Have
# ------------------- ----- -----
# Module::Build::Tiny 0.039 0.039
#
# === Test Requires ===
#
# Module Want Have
# ----------------------------------------- ----- --------
# Dist::Zilla::Chrome::Test any 6.008
# Dist::Zilla::MVP::Assembler::GlobalConfig any 6.008
# Dist::Zilla::MVP::Reader::Finder any 6.008
# Dist::Zilla::MVP::Section any 6.008
# Dist::Zilla::Role::BeforeBuild any 6.008
# ExtUtils::MakeMaker any 7.04_02
# File::Spec any 3.56_02
# Path::Tiny any 0.104
# Test::DZil any 6.008
# Test::Deep any 1.126
# Test::Fatal any 0.014
# Test::More 0.88 1.302078
# Test::Warnings 0.009 0.026
# if any 0.0604
# lib any 0.63
#
# === Test Recommends ===
#
# Module Want Have
# ---------- -------- --------
# CPAN::Meta 2.120900 2.150001
#
# === Runtime Requires ===
#
# Module Want Have
# ------------------------- ---- -------
# Dist::Zilla::Role::Plugin any 6.008
# File::Spec any 3.56_02
# IPC::Open3 any 1.18
# Moose any 2.2004
# Moose::Role any 2.2004
# POSIX any 1.53_01
# namespace::autoclean any 0.28
# strict any 1.09
# warnings any 1.34
#
# === Other Modules ===
#
# Module Have
# ------------- ----
# Pod::Coverage 0.23
#
t/00-report-prereqs.t .. ok
t/01-basic.t ........... ok
t/02-no-distini.t ...... ok
t/03-repeat-prompt.t ... ok
t/04-error.t ........... ok
t/05-kill.t ............ ok
t/zzz-check-breaks.t ... ok
All tests successful.
Files=7, Tests=10, 12 wallclock secs ( 0.04 usr 0.01 sys + 6.95 cusr 0.39 csys = 7.39 CPU)
Result: PASS
------------------------------
PREREQUISITES
------------------------------
Prerequisite modules loaded:
requires:
Module Need Have
----------------------------------------- -------- --------
Dist::Zilla::Role::Plugin 0 6.008
File::Spec 0 3.56_02
IPC::Open3 0 1.18
Moose 0 2.2004
Moose::Role 0 2.2004
namespace::autoclean 0 0.28
perl 5.006 5.022003
POSIX 0 1.53_01
strict 0 1.09
warnings 0 1.34
build_requires:
Module Need Have
----------------------------------------- -------- --------
Dist::Zilla::Chrome::Test 0 6.008
Dist::Zilla::MVP::Assembler::GlobalConfig 0 6.008
Dist::Zilla::MVP::Reader::Finder 0 6.008
Dist::Zilla::MVP::Section 0 6.008
Dist::Zilla::Role::BeforeBuild 0 6.008
ExtUtils::MakeMaker 0 7.04_02
File::Spec 0 3.56_02
if 0 0.0604
lib 0 0.63
Path::Tiny 0 0.104
perl 5.006 5.022003
Test::Deep 0 1.126
Test::DZil 0 6.008
Test::Fatal 0 0.014
Test::More 0.88 1.302078
Test::Warnings 0.009 0.026
configure_requires:
Module Need Have
----------------------------------------- -------- --------
Module::Build::Tiny 0.039 0.039
perl 5.006 5.022003
opt_build_requires:
Module Need Have
----------------------------------------- -------- --------
CPAN::Meta 2.120900 2.150001
------------------------------
ENVIRONMENT AND OTHER CONTEXT
------------------------------
Environment variables:
LANG = en_US.UTF-8
LANGUAGE = en_US:en
PATH = /usr/local/bin:/usr/bin:/bin:/usr/local/sbin:/usr/sbin:/sbin:/home/cpansand/bin/linux-gnu:/home/cpansand/bin/sh:/home/cpansand/bin:/usr/games:/home/cpansand/devel:/home/eserte/src/srezic-misc/scripts
PERL5LIB =
PERL5OPT =
PERL5_CPANPLUS_IS_RUNNING = 1745
PERL5_CPAN_IS_RUNNING = 1745
PERL5_CPAN_IS_RUNNING_IN_RECURSION = 32571,1745
PERLDOC = -MPod::Perldoc::ToTextOverstrike
PERL_BATCH = yes
PERL_CANARY_STABILITY_NOPROMPT = 1
PERL_CPAN_REPORTER_CONFIG = /var/tmp/cpansmoker-1002/2017042318/cpanreporter_000_config.ini
PERL_EXTUTILS_AUTOINSTALL = --defaultdeps
PERL_USE_UNSAFE_INC = 1
SHELL = /bin/zsh
TERM = screen
TMPDIR = /var/tmp/cpansmoker-1002/2017042318
Perl special variables (and OS-specific diagnostics, for MSWin32):
$^X = /opt/perl-5.22.3/bin/perl
$UID/$EUID = 1002 / 1002
$GID = 1002 1002
$EGID = 1002 1002
Perl module toolchain versions installed:
Module Have
------------------- ----------
CPAN 2.11_01
CPAN::Meta 2.150001
Cwd 3.56_02
ExtUtils::CBuilder 0.280221
ExtUtils::Command 1.20_01
ExtUtils::Install 2.04
ExtUtils::MakeMaker 7.04_02
ExtUtils::Manifest 1.70
ExtUtils::ParseXS 3.28
File::Spec 3.56_02
JSON 2.90
JSON::PP 2.27300_01
Module::Build 0.4220
Module::Signature n/a
Parse::CPAN::Meta 1.4414_001
Test::Harness 3.35_01
Test::More 1.302078
YAML 1.23
YAML::Syck 1.29
version 0.9909
--
Summary of my perl5 (revision 5 version 22 subversion 3) configuration:
Platform:
osname=linux, osvers=4.9.0-1-amd64, archname=x86_64-linux
uname='linux prod4 4.9.0-1-amd64 #1 smp debian 4.9.6-3 (2017-01-28) x86_64 gnulinux '
config_args='-ds -e -Dprefix=/opt/perl-5.22.3 -Dcf_email=srezic@cpan.org'
hint=recommended, useposix=true, d_sigaction=define
useithreads=undef, usemultiplicity=undef
use64bitint=define, use64bitall=define, uselongdouble=undef
usemymalloc=n, bincompat5005=undef
Compiler:
cc='cc', ccflags ='-fwrapv -fno-strict-aliasing -pipe -fstack-protector-strong -I/usr/local/include -D_LARGEFILE_SOURCE -D_FILE_OFFSET_BITS=64',
optimize='-O2',
cppflags='-fwrapv -fno-strict-aliasing -pipe -fstack-protector-strong -I/usr/local/include'
ccversion='', gccversion='6.3.0 20170205', gccosandvers=''
intsize=4, longsize=8, ptrsize=8, doublesize=8, byteorder=12345678, doublekind=3
d_longlong=define, longlongsize=8, d_longdbl=define, longdblsize=16, longdblkind=3
ivtype='long', ivsize=8, nvtype='double', nvsize=8, Off_t='off_t', lseeksize=8
alignbytes=8, prototype=define
Linker and Libraries:
ld='cc', ldflags =' -fstack-protector-strong -L/usr/local/lib'
libpth=/usr/local/lib /usr/lib/gcc/x86_64-linux-gnu/6/include-fixed /usr/include/x86_64-linux-gnu /usr/lib /lib/x86_64-linux-gnu /lib/../lib /usr/lib/x86_64-linux-gnu /usr/lib/../lib /lib
libs=-lpthread -lnsl -lgdbm -ldb -ldl -lm -lcrypt -lutil -lc -lgdbm_compat
perllibs=-lpthread -lnsl -ldl -lm -lcrypt -lutil -lc
libc=libc-2.24.so, so=so, useshrplib=false, libperl=libperl.a
gnulibc_version='2.24'
Dynamic Linking:
dlsrc=dl_dlopen.xs, dlext=so, d_dlsymun=undef, ccdlflags='-Wl,-E'
cccdlflags='-fPIC', lddlflags='-shared -O2 -L/usr/local/lib -fstack-protector-strong'
Characteristics of this binary (from libperl):
Compile-time options: HAS_TIMES PERLIO_LAYERS PERL_DONT_CREATE_GVSV
PERL_HASH_FUNC_ONE_AT_A_TIME_HARD PERL_MALLOC_WRAP
PERL_NEW_COPY_ON_WRITE PERL_PRESERVE_IVUV
USE_64_BIT_ALL USE_64_BIT_INT USE_LARGE_FILES
USE_LOCALE USE_LOCALE_COLLATE USE_LOCALE_CTYPE
USE_LOCALE_NUMERIC USE_LOCALE_TIME USE_PERLIO
USE_PERL_ATOF
Built under linux
Compiled at Mar 4 2017 10:00:26
%ENV:
PERL5LIB=""
PERL5OPT=""
PERL5_CPANPLUS_IS_RUNNING="1745"
PERL5_CPAN_IS_RUNNING="1745"
PERL5_CPAN_IS_RUNNING_IN_RECURSION="32571,1745"
PERLDOC="-MPod::Perldoc::ToTextOverstrike"
PERL_BATCH="yes"
PERL_CANARY_STABILITY_NOPROMPT="1"
PERL_CPAN_REPORTER_CONFIG="/var/tmp/cpansmoker-1002/2017042318/cpanreporter_000_config.ini"
PERL_EXTUTILS_AUTOINSTALL="--defaultdeps"
PERL_USE_UNSAFE_INC="1"
@INC:
/opt/perl-5.22.3/lib/site_perl/5.22.3/x86_64-linux
/opt/perl-5.22.3/lib/site_perl/5.22.3
/opt/perl-5.22.3/lib/5.22.3/x86_64-linux
/opt/perl-5.22.3/lib/5.22.3
.