Report for Dancer2-Plugin-REST-0.25

Back
From: metabase:user:320bfe00-2aae-11df-837a-5e0a49663a4f
Subject: PASS Dancer2-Plugin-REST-0.25 v5.21.0 GNU/Linux
Date: 2014-11-01T16:56:01Z

This distribution has been tested as part of the CPAN Testers
project, supporting the Perl programming language.  See
http://wiki.cpantesters.org/ for more information or email
questions to cpan-testers-discuss@perl.org


--
Dear Yanick Champoux,

This is a computer-generated report for Dancer2-Plugin-REST-0.25
on perl 5.21.0, created by CPAN-Reporter-1.2011.

Thank you for uploading your work to CPAN.  Congratulations!
All tests were successful.

Sections of this report:

    * Tester comments
    * Program output
    * Prerequisites
    * Environment and other context

------------------------------
TESTER COMMENTS
------------------------------

Additional comments from tester:

this report is from an automated smoke testing program
and was not reviewed by a human for accuracy

------------------------------
PROGRAM OUTPUT
------------------------------

Output from './Build test':

t/00-compile.t ........................ ok
# 

# Generated by Dist::Zilla::Plugin::ReportVersions::Tiny v1.10
# perl: 5.021000 (wanted 5.006) on linux from /home/sand/src/perl/repoperls/installed-perls/perl/v5.21.0/9980/bin/perl
# 
# Carp                                          => 1.3301     (want any version)
# Class::Load                                   => 0.22       (want any version)
# Dancer2                                       => 0.153002   (want 0.149000_01)
# Dancer2::Core::Request                        => 0.153002   (want any version)
# Dancer2::Plugin                               => 0.153002   (want any version)
# Data::Dumper                                  => 2.154      (want any version)
# File::Spec                                    => 3.47       (want any version)
# HTTP::Request::Common                         => 6.04       (want any version)
# IO::Handle                                    => 1.35       (want any version)
# IPC::Open3                                    => 1.16       (want any version)
# JSON                                          => 2.90       (want any version)
# Module::Build                                 => 0.421      (want 0.28)   
# Module::Runtime                               => 0.014      (want any version)
# Moo::Role                                     => 1.006001   (want any version)
# Plack::Test                                   => <undef>    (want any version)
# Test::More                                    => 1.301001068 (want 0.88)   
# strict                                        => 1.08       (want any version)
# warnings                                      => 1.23       (want any version)
# 
# Thanks for using my code.  I hope it works for you.
# If not, please try and include this output in the bug report.
# That will help me reproduce the issue and solve your problem.
# 
t/000-report-versions-tiny.t .......... ok
t/02_prepare_serializer_for_format.t .. ok
Subroutine Webservice::context redefined at /home/sand/src/perl/repoperls/installed-perls/perl/v5.21.0/9980/lib/site_perl/5.21.0/Test/Stream/Exporter.pm line 75.
t/03_resource.t ....................... ok
t/04_helpers.t ........................ ok
t/04_plugin_settings.t ................ ok
t/05_named_captures.t ................. ok
t/06_tcp_server.t ..................... ok
All tests successful.
Files=8, Tests=50,  9 wallclock secs ( 0.05 usr  0.01 sys +  3.40 cusr  0.32 csys =  3.78 CPU)
Result: PASS

------------------------------
PREREQUISITES
------------------------------

Prerequisite modules loaded:

requires:

    Module                 Need        Have        
    ---------------------- ----------- ------------
    Carp                   0           1.3301      
    Class::Load            0           0.22        
    Dancer2                0.149000_01 0.153002    
    Dancer2::Plugin        0           0.153002    
    Moo::Role              0           1.006001    
    strict                 0           1.08        
    warnings               0           1.23        

build_requires:

    Module                 Need        Have        
    ---------------------- ----------- ------------
    Dancer2::Core::Request 0           0.153002    
    Data::Dumper           0           2.154       
    File::Spec             0           3.47        
    HTTP::Request::Common  0           6.04        
    IO::Handle             0           1.35        
    IPC::Open3             0           1.16        
    JSON                   0           2.90        
    Module::Build          0.28        0.4210      
    Module::Runtime        0           0.014       
    perl                   5.006       5.021000    
    Plack::Test            0           0           
    Test::More             0.88        1.301001_068

configure_requires:

    Module                 Need        Have        
    ---------------------- ----------- ------------
    Module::Build          0.28        0.4210      


------------------------------
ENVIRONMENT AND OTHER CONTEXT
------------------------------

Environment variables:

    AUTOMATED_TESTING = 1
    LANG = en_US.UTF-8
    LANGUAGE = en_US:en
    PATH = /home/sand/bin:/usr/local/bin:/usr/bin:/bin:/usr/games:/usr/local/perl/bin:/usr/X11/bin:/sbin:/usr/sbin
    PERL5LIB = 
    PERL5OPT = 
    PERL5_CPANPLUS_IS_RUNNING = 18510
    PERL5_CPAN_IS_RUNNING = 18510
    PERL_MM_USE_DEFAULT = 1
    SHELL = /usr/bin/zsh
    TERM = screen

Perl special variables (and OS-specific diagnostics, for MSWin32):

    $^X = /home/sand/src/perl/repoperls/installed-perls/perl/v5.21.0/9980/bin/perl
    $UID/$EUID = 1005 / 1005
    $GID = 1005 1005
    $EGID = 1005 1005

Perl module toolchain versions installed:

    Module              Have        
    ------------------- ------------
    CPAN                2.05        
    CPAN::Meta          2.142690    
    Cwd                 3.47        
    ExtUtils::CBuilder  0.280220    
    ExtUtils::Command   1.18        
    ExtUtils::Install   1.67        
    ExtUtils::MakeMaker 7.01_04     
    ExtUtils::Manifest  1.68        
    ExtUtils::ParseXS   3.24        
    File::Spec          3.47        
    JSON                2.90        
    JSON::PP            2.27203     
    Module::Build       0.4210      
    Module::Signature   0.73        
    Parse::CPAN::Meta   1.4414      
    Test::Harness       3.33        
    Test::More          1.301001_068
    YAML                1.13        
    YAML::Syck          1.27        
    version             0.9909      


--

Summary of my perl5 (revision 5 version 21 subversion 0) configuration:
  Commit id: a1cd002ea458184fef7f26c878e4e28b5241458d
  Platform:
    osname=linux, osvers=3.16-2-amd64, archname=x86_64-linux-thread-multi
    uname='linux k83 3.16-2-amd64 #1 smp debian 3.16.3-2 (2014-09-20) x86_64 gnulinux '
    config_args='-Dprefix=/home/sand/src/perl/repoperls/installed-perls/perl/v5.21.0/9980 -Dmyhostname=k83 -Dinstallusrbinperl=n -Uversiononly -Dusedevel -des -Ui_db -Duseithreads -Uuselongdouble -DDEBUGGING=-g'
    hint=recommended, useposix=true, d_sigaction=define
    useithreads=define, usemultiplicity=define
    use64bitint=define, use64bitall=define, uselongdouble=undef
    usemymalloc=n, bincompat5005=undef
  Compiler:
    cc='cc', ccflags ='-D_REENTRANT -D_GNU_SOURCE -fwrapv -fno-strict-aliasing -pipe -fstack-protector -I/usr/local/include -D_LARGEFILE_SOURCE -D_FILE_OFFSET_BITS=64',
    optimize='-O2 -g',
    cppflags='-D_REENTRANT -D_GNU_SOURCE -fwrapv -fno-strict-aliasing -pipe -fstack-protector -I/usr/local/include'
    ccversion='', gccversion='4.9.1', gccosandvers=''
    intsize=4, longsize=8, ptrsize=8, doublesize=8, byteorder=12345678
    d_longlong=define, longlongsize=8, d_longdbl=define, longdblsize=16
    ivtype='long', ivsize=8, nvtype='double', nvsize=8, Off_t='off_t', lseeksize=8
    alignbytes=8, prototype=define
  Linker and Libraries:
    ld='cc', ldflags =' -fstack-protector -L/usr/local/lib'
    libpth=/usr/local/lib /usr/lib/gcc/x86_64-linux-gnu/4.9/include-fixed /usr/include/x86_64-linux-gnu /usr/lib /lib/x86_64-linux-gnu /lib/../lib /usr/lib/x86_64-linux-gnu /usr/lib/../lib /lib
    libs=-lnsl -lgdbm -ldb -ldl -lm -lcrypt -lutil -lpthread -lc -lgdbm_compat
    perllibs=-lnsl -ldl -lm -lcrypt -lutil -lpthread -lc
    libc=libc-2.19.so, so=so, useshrplib=false, libperl=libperl.a
    gnulibc_version='2.19'
  Dynamic Linking:
    dlsrc=dl_dlopen.xs, dlext=so, d_dlsymun=undef, ccdlflags='-Wl,-E'
    cccdlflags='-fPIC', lddlflags='-shared -O2 -g -L/usr/local/lib -fstack-protector'


Characteristics of this binary (from libperl): 
  Compile-time options: HAS_TIMES MULTIPLICITY PERLIO_LAYERS
                        PERL_DONT_CREATE_GVSV
                        PERL_HASH_FUNC_ONE_AT_A_TIME_HARD
                        PERL_IMPLICIT_CONTEXT PERL_MALLOC_WRAP
                        PERL_NEW_COPY_ON_WRITE PERL_PRESERVE_IVUV
                        PERL_USE_DEVEL USE_64_BIT_ALL USE_64_BIT_INT
                        USE_ITHREADS USE_LARGE_FILES USE_LOCALE
                        USE_LOCALE_COLLATE USE_LOCALE_CTYPE
                        USE_LOCALE_NUMERIC USE_PERLIO USE_PERL_ATOF
                        USE_REENTRANT_API
  Built under linux
  Compiled at Oct 20 2014 06:47:58
  %ENV:
    PERL5LIB=""
    PERL5OPT=""
    PERL5_CPANPLUS_IS_RUNNING="18510"
    PERL5_CPAN_IS_RUNNING="18510"
    PERL_MM_USE_DEFAULT="1"
  @INC:
    /home/sand/src/perl/repoperls/installed-perls/perl/v5.21.0/9980/lib/site_perl/5.21.0/x86_64-linux-thread-multi
    /home/sand/src/perl/repoperls/installed-perls/perl/v5.21.0/9980/lib/site_perl/5.21.0
    /home/sand/src/perl/repoperls/installed-perls/perl/v5.21.0/9980/lib/5.21.0/x86_64-linux-thread-multi
    /home/sand/src/perl/repoperls/installed-perls/perl/v5.21.0/9980/lib/5.21.0
    .