Back
From: metabase:user:21427c7c-6c1b-1014-a310-4ed93fdd96d6
Subject: PASS String-Clean-0.031 v5.18.0 GNU/Linux
Date: 2013-06-12T20:59:23Z
This distribution has been tested as part of the CPAN Testers
project, supporting the Perl programming language. See
http://wiki.cpantesters.org/ for more information or email
questions to cpan-testers-discuss@perl.org
--
Dear ben hengst,
This is a computer-generated report for String-Clean-0.031
on perl 5.18.0, created by CPAN-Reporter-1.2010.
Thank you for uploading your work to CPAN. Congratulations!
All tests were successful.
Sections of this report:
* Tester comments
* Program output
* Prerequisites
* Environment and other context
------------------------------
TESTER COMMENTS
------------------------------
Additional comments from tester:
none provided
------------------------------
PROGRAM OUTPUT
------------------------------
Output from './Build test':
# Testing String::Clean 0.031, Perl 5.018000, /home/jm/perl5/perlbrew/perls/perl-5.18.0/bin/perl
t/00-load.t .......... ok
t/10-string_clean.t .. ok
t/11-clean_XSS.t ..... ok
t/boilerplate.t ...... ok
t/pod-coverage.t ..... skipped: Test::Pod::Coverage 1.08 required for testing POD coverage
t/pod.t .............. ok
All tests successful.
Test Summary Report
-------------------
t/boilerplate.t (Wstat: 0 Tests: 3 Failed: 0)
TODO passed: 1-3
Files=6, Tests=26, 1 wallclock secs ( 0.08 usr 0.02 sys + 0.83 cusr 0.10 csys = 1.03 CPU)
Result: PASS
------------------------------
PREREQUISITES
------------------------------
Prerequisite modules loaded:
requires:
Module Need Have
------------------- ------ ------
Carp::Assert::More 0 1.14
Test::More 0 0.98
YAML::Any 0 0.84
build_requires:
Module Need Have
------------------- ------ ------
Module::Build 0.3601 0.4005
configure_requires:
Module Need Have
------------------- ------ ------
ExtUtils::MakeMaker 6.31 6.66
Module::Build 0.3601 0.4005
------------------------------
ENVIRONMENT AND OTHER CONTEXT
------------------------------
Environment variables:
LANG = pl_PL.UTF-8
LC_COLLATE = pl_PL.UTF-8
LC_MESSAGES = POSIX
PATH = /home/jm/perl5/perlbrew/bin:/home/jm/perl5/perlbrew/perls/perl-5.18.0/bin:/home/jm/perl5/perlbrew/bin:/usr/local/bin:/usr/bin:/bin:/usr/games:/usr/lib/kde4/libexec:/usr/lib/qt/bin:.:/home/jm/usr/bin
PERL5LIB =
PERL5OPT =
PERL5_CPANPLUS_IS_RUNNING = 1691
PERL5_CPAN_IS_RUNNING = 1691
PERLBREW_BASHRC_VERSION = 0.61
PERLBREW_HOME = /home/jm/.perlbrew
PERLBREW_MANPATH = /home/jm/perl5/perlbrew/perls/perl-5.18.0/man
PERLBREW_PATH = /home/jm/perl5/perlbrew/bin:/home/jm/perl5/perlbrew/perls/perl-5.18.0/bin
PERLBREW_PERL = perl-5.18.0
PERLBREW_ROOT = /home/jm/perl5/perlbrew
PERLBREW_VERSION = 0.63
SHELL = /bin/bash
TERM = xterm
Perl special variables (and OS-specific diagnostics, for MSWin32):
$^X = /home/jm/perl5/perlbrew/perls/perl-5.18.0/bin/perl
$UID/$EUID = 1000 / 1000
$GID = 100 6 10 17 18 19 83 84 93 94 100 1000
$EGID = 100 6 10 17 18 19 83 84 93 94 100 1000
Perl module toolchain versions installed:
Module Have
------------------- --------
CPAN 2.00
CPAN::Meta 2.131560
Cwd 3.40
ExtUtils::CBuilder 0.280210
ExtUtils::Command 1.17
ExtUtils::Install 1.59
ExtUtils::MakeMaker 6.66
ExtUtils::Manifest 1.63
ExtUtils::ParseXS 3.18
File::Spec 3.40
JSON 2.57
JSON::PP 2.27202
Module::Build 0.4005
Module::Signature n/a
Parse::CPAN::Meta 1.4404
Test::Harness 3.28
Test::More 0.98
YAML 0.84
YAML::Syck n/a
version 0.9902
--
Summary of my perl5 (revision 5 version 18 subversion 0) configuration:
Platform:
osname=linux, osvers=3.2.29-smp, archname=i686-linux
uname='linux darkstar 3.2.29-smp #2 smp mon sep 17 13:16:43 cdt 2012 i686 intel(r) celeron(r) cpu 3.06ghz genuineintel gnulinux '
config_args='-de -Dprefix=/home/jm/perl5/perlbrew/perls/perl-5.18.0 -Aeval:scriptdir=/home/jm/perl5/perlbrew/perls/perl-5.18.0/bin'
hint=recommended, useposix=true, d_sigaction=define
useithreads=undef, usemultiplicity=undef
useperlio=define, d_sfio=undef, uselargefiles=define, usesocks=undef
use64bitint=undef, use64bitall=undef, uselongdouble=undef
usemymalloc=n, bincompat5005=undef
Compiler:
cc='cc', ccflags ='-fno-strict-aliasing -pipe -fstack-protector -I/usr/local/include -D_LARGEFILE_SOURCE -D_FILE_OFFSET_BITS=64',
optimize='-O2',
cppflags='-fno-strict-aliasing -pipe -fstack-protector -I/usr/local/include'
ccversion='', gccversion='4.7.1', gccosandvers=''
intsize=4, longsize=4, ptrsize=4, doublesize=8, byteorder=1234
d_longlong=define, longlongsize=8, d_longdbl=define, longdblsize=12
ivtype='long', ivsize=4, nvtype='double', nvsize=8, Off_t='off_t', lseeksize=8
alignbytes=4, prototype=define
Linker and Libraries:
ld='cc', ldflags =' -fstack-protector -L/usr/local/lib'
libpth=/usr/local/lib /lib /usr/lib
libs=-lnsl -lgdbm -ldb -ldl -lm -lcrypt -lutil -lc
perllibs=-lnsl -ldl -lm -lcrypt -lutil -lc
libc=/lib/libc-2.15.so, so=so, useshrplib=false, libperl=libperl.a
gnulibc_version='2.15'
Dynamic Linking:
dlsrc=dl_dlopen.xs, dlext=so, d_dlsymun=undef, ccdlflags='-Wl,-E'
cccdlflags='-fPIC', lddlflags='-shared -O2 -L/usr/local/lib -fstack-protector'
Characteristics of this binary (from libperl):
Compile-time options: HAS_TIMES PERLIO_LAYERS PERL_DONT_CREATE_GVSV
PERL_HASH_FUNC_ONE_AT_A_TIME_HARD PERL_MALLOC_WRAP
PERL_PRESERVE_IVUV PERL_SAWAMPERSAND USE_LARGE_FILES
USE_LOCALE USE_LOCALE_COLLATE USE_LOCALE_CTYPE
USE_LOCALE_NUMERIC USE_PERLIO USE_PERL_ATOF
Built under linux
Compiled at May 18 2013 19:24:18
%ENV:
PERL5LIB=""
PERL5OPT=""
PERL5_CPANPLUS_IS_RUNNING="1691"
PERL5_CPAN_IS_RUNNING="1691"
PERLBREW_BASHRC_VERSION="0.61"
PERLBREW_HOME="/home/jm/.perlbrew"
PERLBREW_MANPATH="/home/jm/perl5/perlbrew/perls/perl-5.18.0/man"
PERLBREW_PATH="/home/jm/perl5/perlbrew/bin:/home/jm/perl5/perlbrew/perls/perl-5.18.0/bin"
PERLBREW_PERL="perl-5.18.0"
PERLBREW_ROOT="/home/jm/perl5/perlbrew"
PERLBREW_VERSION="0.63"
@INC:
/home/jm/perl5/perlbrew/perls/perl-5.18.0/lib/site_perl/5.18.0/i686-linux
/home/jm/perl5/perlbrew/perls/perl-5.18.0/lib/site_perl/5.18.0
/home/jm/perl5/perlbrew/perls/perl-5.18.0/lib/5.18.0/i686-linux
/home/jm/perl5/perlbrew/perls/perl-5.18.0/lib/5.18.0
.