Report for Catalyst-Helper-Controller-DBIC-API-REST-0.09

Back
From: metabase:user:314402c4-2aae-11df-837a-5e0a49663a4f
Subject: PASS Catalyst-Helper-Controller-DBIC-API-REST-0.09 v5.8.9 GNU/Linux
Date: 2016-11-20T20:00:19Z

This distribution has been tested as part of the CPAN Testers
project, supporting the Perl programming language.  See
http://wiki.cpantesters.org/ for more information or email
questions to cpan-testers-discuss@perl.org


--
Dear Amiri Barksdale,

This is a computer-generated report for Catalyst-Helper-Controller-DBIC-API-REST-0.09
on perl 5.8.9, created by CPAN-Reporter-1.2018.

Thank you for uploading your work to CPAN.  Congratulations!
All tests were successful.

Sections of this report:

    * Tester comments
    * Program output
    * Prerequisites
    * Environment and other context

------------------------------
TESTER COMMENTS
------------------------------

Additional comments from tester:

none provided

------------------------------
PROGRAM OUTPUT
------------------------------

Output from '/usr/bin/make test':

PERL_DL_NONLAZY=1 "/bbbike/perl-5.8.9/bin/perl5.8.9" "-MExtUtils::Command::MM" "-MTest::Harness" "-e" "undef *Test::Harness::Switches; test_harness(0, 'blib/lib', 'blib/arch')" t/*.t
t/00-compile.t ............... ok
t/author-critic.t ............ skipped: these tests are for testing by the author
t/author-mojibake.t .......... skipped: these tests are for testing by the author
t/author-pod-coverage.t ...... skipped: these tests are for testing by the author
t/author-pod-syntax.t ........ skipped: these tests are for testing by the author
t/author-portability.t ....... skipped: these tests are for testing by the author
t/author-test-version.t ...... skipped: these tests are for testing by the author
t/create1.t .................. ok
[error] No value supplied for name and no default at /home/cpansand/.cpan/build/2016112018/Catalyst-Controller-DBIC-API-2.006002-11/blib/lib/Catalyst/Controller/DBIC/API.pm line 426, <$fh> line 1.
# {"success":"false","messages":["No value supplied for name and no default"]}
t/create2.t .................. ok
[error] No object found for id '4' at /home/cpansand/.cpan/build/2016112018/Catalyst-Controller-DBIC-API-2.006002-11/blib/lib/Catalyst/Controller/DBIC/API.pm line 218.
t/delete.t ................... ok
t/list.t ..................... ok
t/release-cpan-changes.t ..... skipped: these tests are for release candidate testing
t/release-distmeta.t ......... skipped: these tests are for release candidate testing
t/release-meta-json.t ........ skipped: these tests are for release candidate testing
t/release-minimum-version.t .. skipped: these tests are for release candidate testing
t/release-pod-linkcheck.t .... skipped: these tests are for release candidate testing
t/release-unused-vars.t ...... skipped: these tests are for release candidate testing
DBIx::Class::Storage::DBI::SQLite::_dbi_attrs_for_bind(): Non-integer value supplied for column 'me.trackid' despite the integer datatype at /home/cpansand/.cpan/build/2016112018/Catalyst-Controller-DBIC-API-2.006002-11/blib/lib/Catalyst/Controller/DBIC/API.pm line 217
[error] No object found for id 'sdsdsdsd' at /home/cpansand/.cpan/build/2016112018/Catalyst-Controller-DBIC-API-2.006002-11/blib/lib/Catalyst/Controller/DBIC/API.pm line 218, <$fh> line 1.
[error] No object found for id '3434234' at /home/cpansand/.cpan/build/2016112018/Catalyst-Controller-DBIC-API-2.006002-11/blib/lib/Catalyst/Controller/DBIC/API.pm line 218, <$fh> line 1.
[error] No valid keys passed at /home/cpansand/.cpan/build/2016112018/Catalyst-Controller-DBIC-API-2.006002-11/blib/lib/Catalyst/Controller/DBIC/API.pm line 447, <$fh> line 1.
t/update.t ................... ok
All tests successful.
Files=18, Tests=79,  8 wallclock secs ( 0.03 usr  0.07 sys +  7.06 cusr  0.55 csys =  7.71 CPU)
Result: PASS

------------------------------
PREREQUISITES
------------------------------

Prerequisite modules loaded:

requires:

    Module                                Need     Have    
    ------------------------------------- -------- --------
    Class::Load                           0        0.23    
    File::Spec                            0        3.62    
    FindBin                               0        1.49    
    lib                                   0        0.61    
    List::Util                            0        1.45    
    namespace::autoclean                  0        0.28    
    Path::Tiny                            0        0.098   
    perl                                  5.006000 5.008009
    strict                                0        1.03    
    warnings                              0        1.05_01 

build_requires:

    Module                                Need     Have    
    ------------------------------------- -------- --------
    base                                  0        2.23    
    blib                                  1.01     1.04    
    bytes                                 0        1.02    
    Catalyst                              0        5.90112 
    Catalyst::Controller                  0        0       
    Catalyst::Controller::DBIC::API::REST 2.006002 2.006002
    Catalyst::Helper                      0        1.39    
    Catalyst::Model::DBIC::Schema         0        0.65    
    Catalyst::Utils                       0        0       
    DBIx::Class::Core                     0        0       
    DBIx::Class::ResultSet                0        0       
    DBIx::Class::Schema                   0        0       
    ExtUtils::MakeMaker                   0        7.24    
    File::Copy::Recursive                 0        0.38    
    File::Path                            0        2.12    
    File::Spec                            0        3.62    
    HTTP::Request::Common                 0        6.11    
    IO::Handle                            0        1.28    
    IPC::Open3                            0        1.03    
    JSON::XS                              0        3.03    
    parent                                0        0.234   
    Test::Deep                            0        1.120   
    Test::More                            0        1.302062
    Test::WWW::Mechanize::Catalyst        0        0.60    
    URI                                   0        1.71    

configure_requires:

    Module                                Need     Have    
    ------------------------------------- -------- --------
    ExtUtils::MakeMaker                   0        7.24    


------------------------------
ENVIRONMENT AND OTHER CONTEXT
------------------------------

Environment variables:

    LANG = C
    LC_ALL = de_DE.UTF-8
    PATH = /usr/local/bin:/usr/bin:/bin:/usr/local/sbin:/usr/sbin:/sbin:/home/cpansand/bin/linux-gnu:/home/cpansand/bin/sh:/home/cpansand/bin:/usr/games:/home/cpansand/devel:/home/eserte/src/srezic-misc/scripts
    PERL5LIB = /home/cpansand/.cpan/build/2016112018/Catalyst-Devel-1.39-0/blib/arch:/home/cpansand/.cpan/build/2016112018/Catalyst-Devel-1.39-0/blib/lib:/home/cpansand/.cpan/build/2016112018/Catalyst-Controller-DBIC-API-2.006002-11/blib/arch:/home/cpansand/.cpan/build/2016112018/Catalyst-Controller-DBIC-API-2.006002-11/blib/lib:/home/cpansand/.cpan/build/2016112018/Data-DPath-Validator-0.093411-10/blib/arch:/home/cpansand/.cpan/build/2016112018/Data-DPath-Validator-0.093411-10/blib/lib:/home/cpansand/.cpan/build/2016112018/MooseX-Role-BuildInstanceOf-0.08-10/blib/arch:/home/cpansand/.cpan/build/2016112018/MooseX-Role-BuildInstanceOf-0.08-10/blib/lib:/home/cpansand/.cpan/build/2016112018/Perl6-Junction-1.60000-0/blib/arch:/home/cpansand/.cpan/build/2016112018/Perl6-Junction-1.60000-0/blib/lib:/home/cpansand/.cpan/build/2016112018/CGI-Expand-2.05-0/blib/arch:/home/cpansand/.cpan/build/2016112018/CGI-Expand-2.05-0/blib/lib
    PERL5OPT = 
    PERL5_CPANPLUS_IS_RUNNING = 21190
    PERL5_CPAN_IS_RUNNING = 21190
    PERL5_CPAN_IS_RUNNING_IN_RECURSION = 21131,21190
    PERLDOC = -MPod::Perldoc::ToTextOverstrike
    PERL_BATCH = yes
    PERL_CANARY_STABILITY_NOPROMPT = 1
    PERL_CPAN_REPORTER_CONFIG = /run/user/1023/cpansmoker/2016112018/cpanreporter_000_config.ini
    PERL_EXTUTILS_AUTOINSTALL = --defaultdeps
    PERL_PARALLEL_SMOKER = yes
    PERL_USE_UNSAFE_INC = 1
    SHELL = /bin/zsh
    TERM = screen
    TMPDIR = /run/user/1023/cpansmoker/2016112018

Perl special variables (and OS-specific diagnostics, for MSWin32):

    $^X = /bbbike/perl-5.8.9/bin/perl5.8.9
    $UID/$EUID = 1023 / 1023
    $GID = 1023 1023
    $EGID = 1023 1023

Perl module toolchain versions installed:

    Module              Have    
    ------------------- --------
    CPAN                2.14    
    CPAN::Meta          2.150010
    Cwd                 3.62    
    ExtUtils::CBuilder  0.280224
    ExtUtils::Command   7.24    
    ExtUtils::Install   1.54    
    ExtUtils::MakeMaker 7.24    
    ExtUtils::Manifest  1.70    
    ExtUtils::ParseXS   3.30    
    File::Spec          3.62    
    JSON                2.90    
    JSON::PP            2.27400 
    Module::Build       0.4220  
    Module::Signature   0.80    
    Parse::CPAN::Meta   2.150010
    Test::Harness       3.36    
    Test::More          1.302062
    YAML                1.15    
    YAML::Syck          1.29    
    version             0.9916  


--

Summary of my perl5 (revision 5 version 8 subversion 9) configuration:
  Platform:
    osname=linux, osvers=3.16.0-4-amd64, archname=x86_64-linux
    uname='linux eserte 3.16.0-4-amd64 #1 smp debian 3.16.7-ckt25-2 (2016-04-08) x86_64 gnulinux '
    config_args='-ds -e -Dprefix=/opt/perl-5.8.9 -Dcf_email=srezic@cpan.org'
    hint=recommended, useposix=true, d_sigaction=define
    usethreads=undef use5005threads=undef useithreads=undef usemultiplicity=undef
    useperlio=define d_sfio=undef uselargefiles=define usesocks=undef
    use64bitint=define use64bitall=define uselongdouble=undef
    usemymalloc=n, bincompat5005=undef
  Compiler:
    cc='cc', ccflags ='-fno-strict-aliasing -pipe -I/usr/local/include -D_LARGEFILE_SOURCE -D_FILE_OFFSET_BITS=64',
    optimize='-O2',
    cppflags='-fno-strict-aliasing -pipe -I/usr/local/include'
    ccversion='', gccversion='4.9.2', gccosandvers=''
    intsize=4, longsize=8, ptrsize=8, doublesize=8, byteorder=12345678
    d_longlong=define, longlongsize=8, d_longdbl=define, longdblsize=16
    ivtype='long', ivsize=8, nvtype='double', nvsize=8, Off_t='off_t', lseeksize=8
    alignbytes=8, prototype=define
  Linker and Libraries:
    ld='cc', ldflags =' -L/usr/local/lib'
    libpth=/usr/local/lib /lib/x86_64-linux-gnu /lib/../lib /usr/lib/x86_64-linux-gnu /usr/lib/../lib /lib /usr/lib
    libs=-lnsl -ldl -lm -lcrypt -lutil -lc
    perllibs=-lnsl -ldl -lm -lcrypt -lutil -lc
    libc=libc-2.19.so, so=so, useshrplib=false, libperl=libperl.a
    gnulibc_version='2.19'
  Dynamic Linking:
    dlsrc=dl_dlopen.xs, dlext=so, d_dlsymun=undef, ccdlflags='-Wl,-E'
    cccdlflags='-fPIC', lddlflags='-shared -O2 -L/usr/local/lib'


Characteristics of this binary (from libperl): 
  Compile-time options: PERL_MALLOC_WRAP USE_64_BIT_ALL USE_64_BIT_INT
                        USE_FAST_STDIO USE_LARGE_FILES USE_PERLIO
  Locally applied patches:
	Devel::PatchPerl 1.42
  Built under linux
  Compiled at May  7 2016 09:05:30
  %ENV:
    PERL5LIB="/home/cpansand/.cpan/build/2016112018/Catalyst-Devel-1.39-0/blib/arch:/home/cpansand/.cpan/build/2016112018/Catalyst-Devel-1.39-0/blib/lib:/home/cpansand/.cpan/build/2016112018/Catalyst-Controller-DBIC-API-2.006002-11/blib/arch:/home/cpansand/.cpan/build/2016112018/Catalyst-Controller-DBIC-API-2.006002-11/blib/lib:/home/cpansand/.cpan/build/2016112018/Data-DPath-Validator-0.093411-10/blib/arch:/home/cpansand/.cpan/build/2016112018/Data-DPath-Validator-0.093411-10/blib/lib:/home/cpansand/.cpan/build/2016112018/MooseX-Role-BuildInstanceOf-0.08-10/blib/arch:/home/cpansand/.cpan/build/2016112018/MooseX-Role-BuildInstanceOf-0.08-10/blib/lib:/home/cpansand/.cpan/build/2016112018/Perl6-Junction-1.60000-0/blib/arch:/home/cpansand/.cpan/build/2016112018/Perl6-Junction-1.60000-0/blib/lib:/home/cpansand/.cpan/build/2016112018/CGI-Expand-2.05-0/blib/arch:/home/cpansand/.cpan/build/2016112018/CGI-Expand-2.05-0/blib/lib"
    PERL5OPT=""
    PERL5_CPANPLUS_IS_RUNNING="21190"
    PERL5_CPAN_IS_RUNNING="21190"
    PERL5_CPAN_IS_RUNNING_IN_RECURSION="21131,21190"
    PERLDOC="-MPod::Perldoc::ToTextOverstrike"
    PERL_BATCH="yes"
    PERL_CANARY_STABILITY_NOPROMPT="1"
    PERL_CPAN_REPORTER_CONFIG="/run/user/1023/cpansmoker/2016112018/cpanreporter_000_config.ini"
    PERL_EXTUTILS_AUTOINSTALL="--defaultdeps"
    PERL_PARALLEL_SMOKER="yes"
    PERL_USE_UNSAFE_INC="1"
  @INC:
    /home/cpansand/.cpan/build/2016112018/Catalyst-Devel-1.39-0/blib/arch
    /home/cpansand/.cpan/build/2016112018/Catalyst-Devel-1.39-0/blib/lib
    /home/cpansand/.cpan/build/2016112018/Catalyst-Controller-DBIC-API-2.006002-11/blib/arch
    /home/cpansand/.cpan/build/2016112018/Catalyst-Controller-DBIC-API-2.006002-11/blib/lib
    /home/cpansand/.cpan/build/2016112018/Data-DPath-Validator-0.093411-10/blib/arch
    /home/cpansand/.cpan/build/2016112018/Data-DPath-Validator-0.093411-10/blib/lib
    /home/cpansand/.cpan/build/2016112018/MooseX-Role-BuildInstanceOf-0.08-10/blib/arch
    /home/cpansand/.cpan/build/2016112018/MooseX-Role-BuildInstanceOf-0.08-10/blib/lib
    /home/cpansand/.cpan/build/2016112018/Perl6-Junction-1.60000-0/blib/arch
    /home/cpansand/.cpan/build/2016112018/Perl6-Junction-1.60000-0/blib/lib
    /home/cpansand/.cpan/build/2016112018/CGI-Expand-2.05-0/blib/arch
    /home/cpansand/.cpan/build/2016112018/CGI-Expand-2.05-0/blib/lib
    /opt/perl-5.8.9/lib/5.8.9/x86_64-linux
    /opt/perl-5.8.9/lib/5.8.9
    /opt/perl-5.8.9/lib/site_perl/5.8.9/x86_64-linux
    /opt/perl-5.8.9/lib/site_perl/5.8.9
    .