Business-OnlinePayment-IPayment v0.09 Perl 5 v5.28.0 x86_64-linux-thread-multi

Status
Pass
From
David Cantrell (DCANTRELL)
Dist
Business-OnlinePayment-IPayment v0.09
Platform
Perl 5 v5.28.0 x86_64-linux-thread-multi
Date
2019-11-05 15:07:19
ID
f651c2d6-ffdd-11e9-901c-dc72052d0de1
This distribution has been tested as part of the CPAN Testers
project, supporting the Perl programming language.  See
http://wiki.cpantesters.org/ for more information or email
questions to cpan-testers-discuss@perl.org


--
Dear Stefan Hornburg (Racke),

This is a computer-generated report for Business-OnlinePayment-IPayment-0.09
on perl 5.28.0, created by CPAN-Reporter-1.2018.

Thank you for uploading your work to CPAN.  Congratulations!
All tests were successful.

Sections of this report:

    * Tester comments
    * Program output
    * Prerequisites
    * Environment and other context

------------------------------
TESTER COMMENTS
------------------------------

Additional comments from tester:

this report is from an automated smoke testing program
and was not reviewed by a human for accuracy

------------------------------
PROGRAM OUTPUT
------------------------------

Output from '/usr/bin/make test':

PERL_DL_NONLAZY=1 "/home/david/cpantesting/perl-5.28.0/bin/perl" "-MExtUtils::Command::MM" "-MTest::Harness" "-e" "undef *Test::Harness::Switches; test_harness(0, 'blib/lib', 'blib/arch')" t/*.t
# Testing Business::OnlinePayment::IPayment 0.09, Perl 5.028000, /home/david/cpantesting/perl-5.28.0/bin/perl
t/00-load.t .......... ok
# Testing full refund without arguments
t/auth-refund.t ...... ok
# 1-170135563 392402 EUR
# $VAR1 = '<?xml version="1.0" encoding="UTF-8"?>
# <SOAP-ENV:Envelope xmlns:SOAP-ENV="http://schemas.xmlsoap.org/soap/envelope/"><SOAP-ENV:Body><call:capture xmlns:call="https://ipayment.de/service_v3/binding" SOAP-ENV:encodingStyle="http://schemas.xmlsoap.org/soap/encoding/"><accountData><accountId>99999</accountId><trxuserId>99998</trxuserId><trxpassword>0</trxpassword><adminactionpassword>5cfgRT34xsdedtFLdfHxj7tfwx24fe</adminactionpassword></accountData><origTrxNumber>1-170135563</origTrxNumber><transactionData><trxAmount>392202</trxAmount><trxCurrency>EUR</trxCurrency><shopperId>3221</shopperId></transactionData></call:capture></SOAP-ENV:Body></SOAP-ENV:Envelope>
# ';
# $VAR1 = {
#           'retTransDate' => '05.11.19',
#           'retTransTime' => '16:05:57',
#           'retAuthCode' => '',
#           'retTrxNumber' => '1-170135568'
#         };
# $VAR1 = {
#           'retTransDate' => '05.11.19',
#           'retTrxNumber' => '1-170135571',
#           'retAuthCode' => '',
#           'retTransTime' => '16:05:58'
#         };
# $VAR1 = undef;
# $VAR1 = bless( {
#                  'trxPaymentDataCountry' => '',
#                  'paymentMethod' => '',
#                  'errorDetails' => {
#                                      'retFatalerror' => 0,
#                                      'retErrorMsg' => 'Capture nicht mglich.',
#                                      'retErrorcode' => 10031,
#                                      'retAdditionalMsg' => 'Not enough funds left (58860) for this capture.'
#                                    },
#                  'trxRemoteIpCountry' => '',
#                  'status' => 'ERROR'
#                }, 'Business::OnlinePayment::IPayment::Return' );
An error without an error string?
# Testing the reverse
# 1-170135575 361002 EUR
# Testing the reverse after a partial capture (should fail)
# 1-170135579 313200 EUR
# $VAR1 = bless( {
#                  'paymentMethod' => '',
#                  'errorDetails' => {
#                                      'retFatalerror' => 0,
#                                      'retErrorMsg' => 'Reverse nicht mglich. (Betrag abweichend oder bereits abgebucht? Bitte Gutschrift verwenden.)',
#                                      'retErrorcode' => 10032,
#                                      'retAdditionalMsg' => 'Transaction already partial or completely captured'
#                                    },
#                  'trxRemoteIpCountry' => '',
#                  'status' => 'ERROR',
#                  'trxPaymentDataCountry' => ''
#                }, 'Business::OnlinePayment::IPayment::Return' );
t/capture-reverse.t .. ok
t/manifest.t ......... skipped: Author tests not required for installation
# Testing the options
# Checking the options: <?xml version="1.0" encoding="UTF-8"?>
# <SOAP-ENV:Envelope xmlns:SOAP-ENV="http://schemas.xmlsoap.org/soap/envelope/"><SOAP-ENV:Body><call:createSession xmlns:call="https://ipayment.de/service_v3/binding" SOAP-ENV:encodingStyle="http://schemas.xmlsoap.org/soap/encoding/"><accountData><accountId>99999</accountId><trxuserId>99998</trxuserId><trxpassword>0</trxpassword><adminactionpassword>5cfgRT34xsdedtFLdfHxj7tfwx24fe</adminactionpassword></accountData><transactionData><trxAmount>2401</trxAmount><trxCurrency>EUR</trxCurrency><invoiceText>Thanks!</invoiceText><trxUserComment>Hello!</trxUserComment><shopperId>2173</shopperId></transactionData><transactionType>auth</transactionType><paymentType>cc</paymentType><options><fromIp>99.99.99.99</fromIp><checkDoubleTrx>1</checkDoubleTrx><errorLang>en</errorLang></options><processorUrls><redirectUrl>http://linuxia.de/ipayment/success</redirectUrl><silentErrorUrl>http://linuxia.de/ipayment/failure</silentErrorUrl></processorUrls></call:createSession></SOAP-ENV:Body></SOAP-ENV:Envelope>
t/options.t .......... ok
# Create the object and store the fixed values
# Testing secured app
t/payment.t .......... ok
t/pod-coverage.t ..... skipped: Author tests not required for installation
t/pod.t .............. skipped: Author tests not required for installation
# Testing full refund without arguments
t/refund_cap.t ....... ok
# Trying the storage in CGI silent mode
# Using storage id: 65756599
# Using storage id: 65756599
# Testing datastorage expiring
t/storage.t .......... ok
t/url-validation.t ... ok
All tests successful.
Files=11, Tests=203, 100 wallclock secs ( 0.07 usr  0.00 sys +  4.23 cusr  0.35 csys =  4.65 CPU)
Result: PASS

------------------------------
PREREQUISITES
------------------------------

Prerequisite modules loaded:

requires:

    Module                  Need     Have    
    ----------------------- -------- --------
    Business::OnlinePayment 3        3.05    
    LWP::Protocol::https    0        6.07    
    Moo                     1        2.003006
    perl                    5.010001 5.028000
    URI                     1        1.76    
    XML::Compile::SOAP      0        3.25    
    XML::Compile::WSDL11    0        3.07    

build_requires:

    Module                  Need     Have    
    ----------------------- -------- --------
    Test::More              0        1.302168

configure_requires:

    Module                  Need     Have    
    ----------------------- -------- --------
    ExtUtils::MakeMaker     0        7.34    


------------------------------
ENVIRONMENT AND OTHER CONTEXT
------------------------------

Environment variables:

    AUTOMATED_TESTING = 1
    LANG = en_US.UTF-8
    NONINTERACTIVE_TESTING = 1
    PATH = /usr/local/bin:/usr/bin:/bin:/usr/local/games:/usr/games
    PERL = 5.28.0
    PERL5LIB = 
    PERL5OPT = 
    PERL5_CPANPLUS_IS_RUNNING = 28449
    PERL5_CPAN_IS_RUNNING = 28449
    PERLVER = 5.28.0
    PERL_INLINE_DIRECTORY = /home/david/.Inline-5.28.0
    PERL_MM_USE_DEFAULT = 1
    PERL_USE_UNSAFE_INC = 0
    SHELL = /bin/bash
    TERM = screen

Perl special variables (and OS-specific diagnostics, for MSWin32):

    $^X = /home/david/cpantesting/perl-5.28.0/bin/perl
    $UID/$EUID = 1000 / 1000
    $GID = 1000 27 1000
    $EGID = 1000 27 1000

Perl module toolchain versions installed:

    Module              Have    
    ------------------- --------
    CPAN                2.20    
    CPAN::Meta          2.150010
    Cwd                 3.74    
    ExtUtils::CBuilder  0.280230
    ExtUtils::Command   7.34    
    ExtUtils::Install   2.14    
    ExtUtils::MakeMaker 7.34    
    ExtUtils::Manifest  1.70    
    ExtUtils::ParseXS   3.39    
    File::Spec          3.74    
    JSON                4.02    
    JSON::PP            2.97001 
    Module::Build       0.4229  
    Module::Signature   n/a     
    Parse::CPAN::Meta   2.150010
    Test::Harness       3.42    
    Test::More          1.302168
    YAML                1.29    
    YAML::Syck          n/a     
    version             0.9923  


--

Summary of my perl5 (revision 5 version 28 subversion 0) configuration:
   
  Platform:
    osname=linux
    osvers=4.9.0-8-amd64
    archname=x86_64-linux-thread-multi
    uname='linux pigsty 4.9.0-8-amd64 #1 smp debian 4.9.144-3 (2019-02-02) x86_64 gnulinux '
    config_args='-de -Duse64bitall -Dusethreads -Dprefix=/home/david/cpantesting/perl-5.28.0'
    hint=recommended
    useposix=true
    d_sigaction=define
    useithreads=define
    usemultiplicity=define
    use64bitint=define
    use64bitall=define
    uselongdouble=undef
    usemymalloc=n
    default_inc_excludes_dot=define
    bincompat5005=undef
  Compiler:
    cc='cc'
    ccflags ='-D_REENTRANT -D_GNU_SOURCE -fwrapv -fno-strict-aliasing -pipe -fstack-protector-strong -I/usr/local/include -D_LARGEFILE_SOURCE -D_FILE_OFFSET_BITS=64 -D_FORTIFY_SOURCE=2'
    optimize='-O2'
    cppflags='-D_REENTRANT -D_GNU_SOURCE -fwrapv -fno-strict-aliasing -pipe -fstack-protector-strong -I/usr/local/include'
    ccversion=''
    gccversion='6.3.0 20170516'
    gccosandvers=''
    intsize=4
    longsize=8
    ptrsize=8
    doublesize=8
    byteorder=12345678
    doublekind=3
    d_longlong=define
    longlongsize=8
    d_longdbl=define
    longdblsize=16
    longdblkind=3
    ivtype='long'
    ivsize=8
    nvtype='double'
    nvsize=8
    Off_t='off_t'
    lseeksize=8
    alignbytes=8
    prototype=define
  Linker and Libraries:
    ld='cc'
    ldflags =' -fstack-protector-strong -L/usr/local/lib'
    libpth=/usr/local/lib /usr/lib/gcc/x86_64-linux-gnu/6/include-fixed /usr/include/x86_64-linux-gnu /usr/lib /lib/x86_64-linux-gnu /lib/../lib /usr/lib/x86_64-linux-gnu /usr/lib/../lib /lib
    libs=-lpthread -lnsl -ldb -ldl -lm -lcrypt -lutil -lc
    perllibs=-lpthread -lnsl -ldl -lm -lcrypt -lutil -lc
    libc=libc-2.24.so
    so=so
    useshrplib=false
    libperl=libperl.a
    gnulibc_version='2.24'
  Dynamic Linking:
    dlsrc=dl_dlopen.xs
    dlext=so
    d_dlsymun=undef
    ccdlflags='-Wl,-E'
    cccdlflags='-fPIC'
    lddlflags='-shared -O2 -L/usr/local/lib -fstack-protector-strong'


Characteristics of this binary (from libperl): 
  Compile-time options:
    HAS_TIMES
    MULTIPLICITY
    PERLIO_LAYERS
    PERL_COPY_ON_WRITE
    PERL_DONT_CREATE_GVSV
    PERL_IMPLICIT_CONTEXT
    PERL_MALLOC_WRAP
    PERL_OP_PARENT
    PERL_PRESERVE_IVUV
    USE_64_BIT_ALL
    USE_64_BIT_INT
    USE_ITHREADS
    USE_LARGE_FILES
    USE_LOCALE
    USE_LOCALE_COLLATE
    USE_LOCALE_CTYPE
    USE_LOCALE_NUMERIC
    USE_LOCALE_TIME
    USE_PERLIO
    USE_PERL_ATOF
    USE_REENTRANT_API
  Built under linux
  Compiled at Apr 25 2019 01:37:18
  %ENV:
    PERL="5.28.0"
    PERL5LIB=""
    PERL5OPT=""
    PERL5_CPANPLUS_IS_RUNNING="28449"
    PERL5_CPAN_IS_RUNNING="28449"
    PERLVER="5.28.0"
    PERL_INLINE_DIRECTORY="/home/david/.Inline-5.28.0"
    PERL_MM_USE_DEFAULT="1"
    PERL_USE_UNSAFE_INC="0"
  @INC:
    /home/david/cpantesting/perl-5.28.0/lib/site_perl/5.28.0/x86_64-linux-thread-multi
    /home/david/cpantesting/perl-5.28.0/lib/site_perl/5.28.0
    /home/david/cpantesting/perl-5.28.0/lib/5.28.0/x86_64-linux-thread-multi
    /home/david/cpantesting/perl-5.28.0/lib/5.28.0