Dist-Zilla-Plugin-StaticInstall v0.012 Perl 5 v5.24.3 x86_64-linux

Status
Pass
From
Andreas J. König (ANDK)
Dist
Dist-Zilla-Plugin-StaticInstall v0.012
Platform
Perl 5 v5.24.3 x86_64-linux
Date
2019-05-31 19:40:36
ID
f675d3a2-83db-11e9-9045-3c9dc1f80b6e
This distribution has been tested as part of the CPAN Testers
project, supporting the Perl programming language.  See
http://wiki.cpantesters.org/ for more information or email
questions to cpan-testers-discuss@perl.org


--
Dear Karen Etheridge,

This is a computer-generated report for Dist-Zilla-Plugin-StaticInstall-0.012
on perl 5.24.3, created by CPAN-Reporter-1.2018.

Thank you for uploading your work to CPAN.  Congratulations!
All tests were successful.

Sections of this report:

    * Tester comments
    * Program output
    * Prerequisites
    * Environment and other context

------------------------------
TESTER COMMENTS
------------------------------

Additional comments from tester:

this report is from an automated smoke testing program
and was not reviewed by a human for accuracy

------------------------------
PROGRAM OUTPUT
------------------------------

Output from './Build test':

# 
# Versions for all modules listed in MYMETA.json (including optional ones):
# 
# === Configure Requires ===
# 
#     Module               Want  Have
#     ------------------- ----- -----
#     Module::Build::Tiny 0.034 0.039
# 
# === Test Requires ===
# 
#     Module                          Want     Have
#     ------------------------------- ---- --------
#     Dist::Zilla::Role::FileMunger    any    6.012
#     Dist::Zilla::Role::PrereqSource  any    6.012
#     File::Spec                       any     3.75
#     Module::Metadata                 any 1.000036
#     Module::Runtime                  any    0.016
#     Test::DZil                       any    6.012
#     Test::Deep                       any    1.128
#     Test::Fatal                      any    0.014
#     Test::More                      0.96 1.302164
#     Test::Needs                      any 0.002006
#     if                               any   0.0606
#     lib                              any     0.63
# 
# === Test Recommends ===
# 
#     Module         Want     Have
#     ---------- -------- --------
#     CPAN::Meta 2.120900 2.150010
# 
# === Runtime Requires ===
# 
#     Module                              Want   Have
#     ------------------------------- -------- ------
#     Dist::Zilla                     4.300039  6.012
#     Dist::Zilla::Role::InstallTool       any  6.012
#     Dist::Zilla::Role::MetaProvider      any  6.012
#     List::Util                          1.33   1.50
#     Moose                                any 2.2011
#     Moose::Util::TypeConstraints         any 2.2011
#     MooseX::Types::Moose                 any   0.50
#     Path::Tiny                           any  0.108
#     Scalar::Util                         any   1.50
#     Term::ANSIColor                     3.00   4.06
#     autovivification                     any   0.18
#     namespace::autoclean                 any   0.28
#     strict                               any   1.11
#     warnings                             any   1.36
# 
# === Other Modules ===
# 
#     Module                                             Have
#     ---------------------------------------------- --------
#     CPAN::Meta                                     2.150010
#     CPAN::Meta::Merge                              2.150010
#     Dist::Zilla::Plugin::MakeMaker::Awesome            0.48
#     Dist::Zilla::Plugin::MakeMaker::Fallback        missing
#     Dist::Zilla::Plugin::ModuleBuildTiny              0.015
#     Dist::Zilla::Plugin::ModuleBuildTiny::Fallback    0.025
#     Encode                                             3.00
#     File::Temp                                       0.2309
#     JSON::PP                                           4.00
#     Module::Runtime                                   0.016
#     Pod::Coverage                                      0.23
#     Sub::Name                                          0.21
#     YAML                                               1.28
#     autodie                                            2.29
# 
t/00-report-prereqs.t .... ok
t/01-basic.t ............. ok
t/02-auto.t .............. ok
t/03-dry_run.t ........... ok
t/04-on-fatal.t .......... ok
t/05-mbt-auto.t .......... ok
t/06-off-notfatal.t ...... ok
t/07-two-sources-good.t .. ok
t/08-two-sources-bad.t ... ok
t/09-two-sources-ugly.t .. ok
t/10-dry_run-not-auto.t .. ok
t/zzz-check-breaks.t ..... ok
All tests successful.
Files=12, Tests=58, 20 wallclock secs ( 0.06 usr  0.08 sys + 11.63 cusr  1.42 csys = 13.19 CPU)
Result: PASS

------------------------------
PREREQUISITES
------------------------------

Prerequisite modules loaded:

requires:

    Module                          Need     Have    
    ------------------------------- -------- --------
    autovivification                0        0.18    
    Dist::Zilla                     4.300039 6.012   
    Dist::Zilla::Role::InstallTool  0        6.012   
    Dist::Zilla::Role::MetaProvider 0        6.012   
    List::Util                      1.33     1.50    
    Moose                           0        2.2011  
    Moose::Util::TypeConstraints    0        2.2011  
    MooseX::Types::Moose            0        0.50    
    namespace::autoclean            0        0.28    
    Path::Tiny                      0        0.108   
    perl                            5.006    5.024003
    Scalar::Util                    0        1.50    
    strict                          0        1.11    
    Term::ANSIColor                 3.00     4.06    
    warnings                        0        1.36    

build_requires:

    Module                          Need     Have    
    ------------------------------- -------- --------
    Dist::Zilla::Role::FileMunger   0        6.012   
    Dist::Zilla::Role::PrereqSource 0        6.012   
    File::Spec                      0        3.75    
    if                              0        0.0606  
    lib                             0        0.63    
    Module::Metadata                0        1.000036
    Module::Runtime                 0        0.016   
    perl                            5.006    5.024003
    Test::Deep                      0        1.128   
    Test::DZil                      0        6.012   
    Test::Fatal                     0        0.014   
    Test::More                      0.96     1.302164
    Test::Needs                     0        0.002006

configure_requires:

    Module                          Need     Have    
    ------------------------------- -------- --------
    Module::Build::Tiny             0.034    0.039   
    perl                            5.006    5.024003


------------------------------
ENVIRONMENT AND OTHER CONTEXT
------------------------------

Environment variables:

    AUTOMATED_TESTING = 1
    LANG = en_US.UTF-8
    PATH = /home/sand/bin:/usr/local/bin:/usr/bin:/bin:/usr/games:/usr/local/perl/bin:/usr/X11/bin:/sbin:/usr/sbin
    PERL5LIB = 
    PERL5OPT = 
    PERL5_CPANPLUS_IS_RUNNING = 22947
    PERL5_CPAN_IS_RUNNING = 22947
    PERL_CANARY_STABILITY_NOPROMPT = 1
    PERL_MM_USE_DEFAULT = 1
    PERL_USE_UNSAFE_INC = 1
    SHELL = /usr/bin/zsh
    TERM = screen

Perl special variables (and OS-specific diagnostics, for MSWin32):

    $^X = /home/sand/src/perl/repoperls/installed-perls/host/k93msid/v5.24.3/bb7f/bin/perl
    $UID/$EUID = 1005 / 1005
    $GID = 1005 1005
    $EGID = 1005 1005

Perl module toolchain versions installed:

    Module              Have    
    ------------------- --------
    CPAN                2.26    
    CPAN::Meta          2.150010
    Cwd                 3.75    
    ExtUtils::CBuilder  0.280231
    ExtUtils::Command   7.36    
    ExtUtils::Install   2.06    
    ExtUtils::MakeMaker 7.36    
    ExtUtils::Manifest  1.70    
    ExtUtils::ParseXS   3.35    
    File::Spec          3.75    
    JSON                2.97001 
    JSON::PP            4.00    
    Module::Build       0.4229  
    Module::Signature   0.83    
    Parse::CPAN::Meta   2.150010
    Test::Harness       3.42    
    Test::More          1.302164
    YAML                1.28    
    YAML::Syck          1.31    
    version             0.9924  


--

Summary of my perl5 (revision 5 version 24 subversion 3) configuration:
  Derived from: 9f1d3884c227a955e9ecaaadba4cba3280c47e3a
  Platform:
    osname=linux, osvers=4.18.0-2-amd64, archname=x86_64-linux
    uname='linux k93msid 4.18.0-2-amd64 #1 smp debian 4.18.10-2 (2018-10-07) x86_64 gnulinux '
    config_args='-Dprefix=/home/sand/src/perl/repoperls/installed-perls/host/k93msid/v5.24.3/bb7f -Dmyhostname=k93msid -Dinstallusrbinperl=n -Uversiononly -Dusedevel -des -Ui_db -Dlibswanted=cl pthread socket inet nsl gdbm dbm malloc dl ld sun m crypt sec util c cposix posix ucb BSD gdbm_compat -Uuseithreads -Uuselongdouble -DEBUGGING=both'
    hint=recommended, useposix=true, d_sigaction=define
    useithreads=undef, usemultiplicity=undef
    use64bitint=define, use64bitall=define, uselongdouble=undef
    usemymalloc=n, bincompat5005=undef
  Compiler:
    cc='cc', ccflags ='-fwrapv -DDEBUGGING -fno-strict-aliasing -pipe -fstack-protector-strong -I/usr/local/include -D_LARGEFILE_SOURCE -D_FILE_OFFSET_BITS=64',
    optimize='-O2 -g',
    cppflags='-fwrapv -DDEBUGGING -fno-strict-aliasing -pipe -fstack-protector-strong -I/usr/local/include'
    ccversion='', gccversion='8.2.0', gccosandvers=''
    intsize=4, longsize=8, ptrsize=8, doublesize=8, byteorder=12345678, doublekind=3
    d_longlong=define, longlongsize=8, d_longdbl=define, longdblsize=16, longdblkind=3
    ivtype='long', ivsize=8, nvtype='double', nvsize=8, Off_t='off_t', lseeksize=8
    alignbytes=8, prototype=define
  Linker and Libraries:
    ld='cc', ldflags =' -fstack-protector-strong -L/usr/local/lib'
    libpth=/usr/local/lib /usr/lib/gcc/x86_64-linux-gnu/8/include-fixed /usr/include/x86_64-linux-gnu /usr/lib /lib/x86_64-linux-gnu /lib/../lib /usr/lib/x86_64-linux-gnu /usr/lib/../lib /lib
    libs=-lpthread -lnsl -ldl -lm -lcrypt -lutil -lc
    perllibs=-lpthread -lnsl -ldl -lm -lcrypt -lutil -lc
    libc=libc-2.27.so, so=so, useshrplib=false, libperl=libperl.a
    gnulibc_version='2.27'
  Dynamic Linking:
    dlsrc=dl_dlopen.xs, dlext=so, d_dlsymun=undef, ccdlflags='-Wl,-E'
    cccdlflags='-fPIC', lddlflags='-shared -O2 -g -L/usr/local/lib -fstack-protector-strong'


Characteristics of this binary (from libperl): 
  Compile-time options: DEBUGGING HAS_TIMES PERLIO_LAYERS PERL_COPY_ON_WRITE
                        PERL_DONT_CREATE_GVSV
                        PERL_HASH_FUNC_ONE_AT_A_TIME_HARD PERL_MALLOC_WRAP
                        PERL_PRESERVE_IVUV PERL_USE_DEVEL USE_64_BIT_ALL
                        USE_64_BIT_INT USE_LARGE_FILES USE_LOCALE
                        USE_LOCALE_COLLATE USE_LOCALE_CTYPE
                        USE_LOCALE_NUMERIC USE_LOCALE_TIME USE_PERLIO
                        USE_PERL_ATOF
  Locally applied patches:
	uncommitted-changes
  Built under linux
  Compiled at Oct 28 2018 08:17:33
  %ENV:
    PERL5LIB=""
    PERL5OPT=""
    PERL5_CPANPLUS_IS_RUNNING="22947"
    PERL5_CPAN_IS_RUNNING="22947"
    PERL_CANARY_STABILITY_NOPROMPT="1"
    PERL_MM_USE_DEFAULT="1"
    PERL_USE_UNSAFE_INC="1"
  @INC:
    /home/sand/src/perl/repoperls/installed-perls/host/k93msid/v5.24.3/bb7f/lib/site_perl/5.24.3/x86_64-linux
    /home/sand/src/perl/repoperls/installed-perls/host/k93msid/v5.24.3/bb7f/lib/site_perl/5.24.3
    /home/sand/src/perl/repoperls/installed-perls/host/k93msid/v5.24.3/bb7f/lib/5.24.3/x86_64-linux
    /home/sand/src/perl/repoperls/installed-perls/host/k93msid/v5.24.3/bb7f/lib/5.24.3
    .