Starman v0.4017 Perl 5 v5.39.9 x86_64-linux
- Status
- Pass
- From
- Andreas J. König (ANDK)
- Dist
-
Starman v0.4017
- Platform
- Perl 5 v5.39.9 x86_64-linux
- Date
- 2024-03-24 17:14:24
- ID
- f68d1bde-ea01-11ee-8885-23cb62b0645d
This distribution has been tested as part of the CPAN Testers
project, supporting the Perl programming language. See
http://wiki.cpantesters.org/ for more information or email
questions to cpan-testers-discuss@perl.org
--
Dear Tatsuhiko Miyagawa,
This is a computer-generated report for Starman-0.4017
on perl 5.39.9, created by CPAN-Reporter-1.2019.
Thank you for uploading your work to CPAN. Congratulations!
All tests were successful.
Sections of this report:
* Tester comments
* Program output
* Prerequisites
* Environment and other context
------------------------------
TESTER COMMENTS
------------------------------
Additional comments from tester:
this report is from an automated smoke testing program
and was not reviewed by a human for accuracy
------------------------------
PROGRAM OUTPUT
------------------------------
Output from './Build test':
t/00_compile.t ........... ok
t/author-pod-syntax.t .... skipped: these tests are for testing by the author
2024/03/24-17:13:56 Starman::Server (type Net::Server::PreFork) starting! pid(443992)
Binding to TCP port 40929 on host 127.0.0.1 with IPv4
Setting gid to "1005 1005 1005"
2024/03/24-17:13:56 Server closing!
t/chunked_req.t .......... ok
t/chunked_termination.t .. ok
2024/03/24-17:13:56 Starman::Server (type Net::Server::PreFork) starting! pid(444000)
Binding to TCP port 45697 on host 127.0.0.1 with IPv4
Setting gid to "1005 1005 1005"
2024/03/24-17:13:56 Server closing!
t/chunked_zero_length.t .. ok
2024/03/24-17:13:56 Starman::Server (type Net::Server::PreFork) starting! pid(444007)
Binding to TCP port 36989 on host 127.0.0.1 with IPv4
Setting gid to "1005 1005 1005"
2024/03/24-17:13:56 Server closing!
t/early-hints.t .......... ok
2024/03/24-17:13:56 Starman::Server (type Net::Server::PreFork) starting! pid(444014)
Binding to TCP port 38721 on host 127.0.0.1 with IPv4
Setting gid to "1005 1005 1005"
2024/03/24-17:13:58 Server closing!
t/eintr.t ................ ok
2024/03/24-17:13:58 Starman::Server (type Net::Server::PreFork) starting! pid(444023)
Binding to TCP port 42135 on host 127.0.0.1 with IPv4
Setting gid to "1005 1005 1005"
2024/03/24-17:13:58 Server closing!
t/expect.t ............... ok
2024/03/24-17:13:58 Starman::Server (type Net::Server::PreFork) starting! pid(444030)
Binding to TCP port 43543 on host 127.0.0.1 with IPv4
Setting gid to "1005 1005 1005"
2024/03/24-17:13:58 Server closing!
2024/03/24-17:13:58 Starman::Server (type Net::Server::PreFork) starting! pid(444036)
Binding to TCP port 42579 on host 127.0.0.1 with IPv4
Setting gid to "1005 1005 1005"
2024/03/24-17:13:58 Server closing!
t/harakiri.t ............. ok
2024/03/24-17:13:58 Starman::Server (type Net::Server::PreFork) starting! pid(444062)
Binding to TCP port 43929 on host 127.0.0.1 with IPv4
Setting gid to "1005 1005 1005"
2024/03/24-17:13:58 Server closing!
t/lf_only_request.t ...... ok
2024/03/24-17:13:59 Starman::Server (type Net::Server::PreFork) starting! pid(444069)
Binding to TCP port 35167 on host 127.0.0.1 with IPv4
Setting gid to "1005 1005 1005"
2024/03/24-17:13:59 Server closing!
t/no_chunked_head.t ...... ok
t/release-findbin.t ...... skipped: these tests are for release candidate testing
t/release-rand.t ......... skipped: these tests are for release candidate testing
2024/03/24-17:13:59 Starman::Server (type Net::Server::PreFork) starting! pid(444078)
Binding to TCP port 33021 on host 127.0.0.1 with IPv4
Setting gid to "1005 1005 1005"
2024/03/24-17:13:59 Server closing!
t/single_zero.t .......... ok
2024/03/24-17:13:59 Starman::Server (type Net::Server::PreFork) starting! pid(444085)
Resolved [localhost]:41741 to [127.0.0.1]:41741, IPv4
Binding to SSL port 41741 on host 127.0.0.1 with IPv4
Setting gid to "1005 1005 1005"
Could not finalize SSL connection with client handle (SSL accept attempt failed)
2024/03/24-17:13:59 Server closing!
t/ssl.t .................. ok
2024/03/24-17:14:00 Starman::Server (type Net::Server::PreFork) starting! pid(444093)
Resolved [localhost]:34339 to [127.0.0.1]:34339, IPv4
Binding to SSL port 34339 on host 127.0.0.1 with IPv4
Setting gid to "1005 1005 1005"
Could not finalize SSL connection with client handle (SSL accept attempt failed)
Child process 444094 exited with status 255
2024/03/24-17:14:00 Server closing!
t/ssl_largebody.t ........ ok
2024/03/24-17:14:00 Starman::Server (type Net::Server::PreFork) starting! pid(444101)
Binding to TCP port 42005 on host 127.0.0.1 with IPv4
Setting gid to "1005 1005 1005"
2024/03/24-17:14:00 Server closing!
t/suite.t ................ ok
All tests successful.
Files=17, Tests=125, 5 wallclock secs ( 0.06 usr 0.03 sys + 2.62 cusr 0.62 csys = 3.33 CPU)
Result: PASS
------------------------------
PREREQUISITES
------------------------------
Prerequisite modules loaded:
requires:
Module Need Have
------------------- -------- --------
Data::Dump 0 1.25
HTTP::Date 0 6.06
HTTP::Parser::XS 0 0.17
HTTP::Status 0 6.45
Net::Server 2.007 2.014
parent 0 0.241
perl 5.008001 5.039009
Plack 0.9971 1.0051
Test::TCP 2.00 2.22
build_requires:
Module Need Have
------------------- -------- --------
LWP::UserAgent 0 6.77
Test::More 0 1.302198
Test::Requires 0 0.11
configure_requires:
Module Need Have
------------------- -------- --------
Module::Build::Tiny 0.034 0.047
------------------------------
ENVIRONMENT AND OTHER CONTEXT
------------------------------
Environment variables:
AUTOMATED_TESTING = 1
LANG = en_US.UTF-8
PATH = /home/sand/bin:/usr/local/bin:/usr/local/sbin:/usr/sbin:/usr/bin:/sbin:/bin:/usr/games:/usr/local/games:/snap/bin:/usr/local/perl/bin:/usr/X11/bin
PERL = /tmp/basesmoker-reloperl-2ZDR/bin/perl
PERL5LIB =
PERL5OPT =
PERL5_CPANPLUS_IS_RUNNING = 2507
PERL5_CPAN_IS_RUNNING = 2507
PERL_CANARY_STABILITY_NOPROMPT = 1
PERL_MM_USE_DEFAULT = 1
PERL_USE_UNSAFE_INC = 1
SHELL = /usr/bin/zsh
TERM = screen
Perl special variables (and OS-specific diagnostics, for MSWin32):
$^X = /tmp/basesmoker-reloperl-2ZDR/bin/perl
$UID/$EUID = 1005 / 1005
$GID = 1005 1005
$EGID = 1005 1005
Perl module toolchain versions installed:
Module Have
------------------- --------
CPAN 2.36
CPAN::Meta 2.150010
Cwd 3.90
ExtUtils::CBuilder 0.280240
ExtUtils::Command 7.70
ExtUtils::Install 2.22
ExtUtils::MakeMaker 7.70
ExtUtils::Manifest 1.75
ExtUtils::ParseXS 3.51
File::Spec 3.90
JSON 4.10
JSON::PP 4.16
Module::Build 0.4234
Module::Signature 0.88
Parse::CPAN::Meta 2.150010
Test2 1.302198
Test::Harness 3.48
Test::More 1.302198
YAML 1.31
YAML::Syck 1.34
version 0.9930
--
Summary of my perl5 (revision 5 version 39 subversion 9) configuration:
Commit id: 824a7e0bf8052e62e6913c5fb807a6a8331a2d81
Platform:
osname=linux
osvers=5.4.0-173-generic
archname=x86_64-linux
uname='linux k93focal 5.4.0-173-generic #191-ubuntu smp fri feb 2 13:55:07 utc 2024 x86_64 x86_64 x86_64 gnulinux '
config_args='-Dprefix=/home/sand/src/perl/repoperls/installed-perls/host/k93focal/v5.39.9/b254 -Dmyhostname=k93focal -Dinstallusrbinperl=n -Uversiononly -Dusedevel -des -Ui_db -Dlibswanted=cl pthread socket inet nsl gdbm dbm malloc dl ld sun m crypt sec util c cposix posix ucb BSD gdbm_compat -Uuseithreads -Uuselongdouble -DEBUGGING=both'
hint=recommended
useposix=true
d_sigaction=define
useithreads=undef
usemultiplicity=undef
use64bitint=define
use64bitall=define
uselongdouble=undef
usemymalloc=n
default_inc_excludes_dot=define
Compiler:
cc='cc'
ccflags ='-fwrapv -DDEBUGGING -fno-strict-aliasing -pipe -fstack-protector-strong -I/usr/local/include -D_LARGEFILE_SOURCE -D_FILE_OFFSET_BITS=64'
optimize='-O2 -g'
cppflags='-fwrapv -DDEBUGGING -fno-strict-aliasing -pipe -fstack-protector-strong -I/usr/local/include'
ccversion=''
gccversion='9.4.0'
gccosandvers=''
intsize=4
longsize=8
ptrsize=8
doublesize=8
byteorder=12345678
doublekind=3
d_longlong=define
longlongsize=8
d_longdbl=define
longdblsize=16
longdblkind=3
ivtype='long'
ivsize=8
nvtype='double'
nvsize=8
Off_t='off_t'
lseeksize=8
alignbytes=8
prototype=define
Linker and Libraries:
ld='cc'
ldflags =' -fstack-protector-strong -L/usr/local/lib'
libpth=/usr/local/lib /usr/lib/x86_64-linux-gnu /usr/lib /usr/lib64
libs=-lpthread -lnsl -ldl -lm -lcrypt -lutil -lc
perllibs=-lpthread -lnsl -ldl -lm -lcrypt -lutil -lc
libc=libc-2.31.so
so=so
useshrplib=false
libperl=libperl.a
gnulibc_version='2.31'
Dynamic Linking:
dlsrc=dl_dlopen.xs
dlext=so
d_dlsymun=undef
ccdlflags='-Wl,-E'
cccdlflags='-fPIC'
lddlflags='-shared -O2 -g -L/usr/local/lib -fstack-protector-strong'
Characteristics of this binary (from libperl):
Compile-time options:
DEBUGGING
HAS_LONG_DOUBLE
HAS_STRTOLD
HAS_TIMES
PERLIO_LAYERS
PERL_COPY_ON_WRITE
PERL_DONT_CREATE_GVSV
PERL_HASH_FUNC_SIPHASH13
PERL_HASH_USE_SBOX32
PERL_MALLOC_WRAP
PERL_OP_PARENT
PERL_PRESERVE_IVUV
PERL_USE_DEVEL
PERL_USE_SAFE_PUTENV
USE_64_BIT_ALL
USE_64_BIT_INT
USE_LARGE_FILES
USE_LOCALE
USE_LOCALE_COLLATE
USE_LOCALE_CTYPE
USE_LOCALE_NUMERIC
USE_LOCALE_TIME
USE_PERLIO
USE_PERL_ATOF
Built under linux
Compiled at Mar 23 2024 13:51:25
%ENV:
PERL="/tmp/basesmoker-reloperl-2ZDR/bin/perl"
PERL5LIB=""
PERL5OPT=""
PERL5_CPANPLUS_IS_RUNNING="2507"
PERL5_CPAN_IS_RUNNING="2507"
PERL_CANARY_STABILITY_NOPROMPT="1"
PERL_MM_USE_DEFAULT="1"
PERL_USE_UNSAFE_INC="1"
@INC:
/home/sand/src/perl/repoperls/installed-perls/host/k93focal/v5.39.9/b254/lib/site_perl/5.39.9/x86_64-linux
/home/sand/src/perl/repoperls/installed-perls/host/k93focal/v5.39.9/b254/lib/site_perl/5.39.9
/home/sand/src/perl/repoperls/installed-perls/host/k93focal/v5.39.9/b254/lib/5.39.9/x86_64-linux
/home/sand/src/perl/repoperls/installed-perls/host/k93focal/v5.39.9/b254/lib/5.39.9
.